BEGIN:VCALENDAR
VERSION:2.0
PRODID:-//graubünden Trailrun - ECPv6.15.20//NONSGML v1.0//EN
CALSCALE:GREGORIAN
METHOD:PUBLISH
X-ORIGINAL-URL:https://graubuendentrailrun.ch
X-WR-CALDESC:Veranstaltungen für graubünden Trailrun
REFRESH-INTERVAL;VALUE=DURATION:PT1H
X-Robots-Tag:noindex
X-PUBLISHED-TTL:PT1H
BEGIN:VTIMEZONE
TZID:Europe/Zurich
BEGIN:DAYLIGHT
TZOFFSETFROM:+0100
TZOFFSETTO:+0200
TZNAME:CEST
DTSTART:20220327T010000
END:DAYLIGHT
BEGIN:STANDARD
TZOFFSETFROM:+0200
TZOFFSETTO:+0100
TZNAME:CET
DTSTART:20221030T010000
END:STANDARD
BEGIN:DAYLIGHT
TZOFFSETFROM:+0100
TZOFFSETTO:+0200
TZNAME:CEST
DTSTART:20230326T010000
END:DAYLIGHT
BEGIN:STANDARD
TZOFFSETFROM:+0200
TZOFFSETTO:+0100
TZNAME:CET
DTSTART:20231029T010000
END:STANDARD
BEGIN:DAYLIGHT
TZOFFSETFROM:+0100
TZOFFSETTO:+0200
TZNAME:CEST
DTSTART:20240331T010000
END:DAYLIGHT
BEGIN:STANDARD
TZOFFSETFROM:+0200
TZOFFSETTO:+0100
TZNAME:CET
DTSTART:20241027T010000
END:STANDARD
END:VTIMEZONE
BEGIN:VEVENT
DTSTART;VALUE=DATE:20230825
DTEND;VALUE=DATE:20230828
DTSTAMP:20260423T030609
CREATED:20230712T122720Z
LAST-MODIFIED:20230712T122720Z
UID:10007726-1692921600-1693180799@graubuendentrailrun.ch
SUMMARY:Alpinrunner-Erlebnislauf
DESCRIPTION: Wettkämpfe gibt es genug\, darum organisieren wir einen Erlebnislauf durch die Bündner Bergwelt in 3 Tagen OHNE ZEITMESSUNG. Trailrunning im Wohlfühlbereich. Das Tempo passen wir dem Gelände an und geniessen dabei die schöne Landschaft.  \n\nStart und Treffpunkt beim Bahnhof Thusis. Erlebnislauf im Gebiet Bivio – Oberengadin mit eindrucksvollen Berglaufstrecken und atemberaubenden Ausblicken. \n2 Übernachtung im Hotel Post in Bivio\, Nachtessen und Frühstücksbuffet\, Gepäcktransport\, Fahrt mit dem Bus von Thusis nach Avers Cröt\, Fahrt von Bivio nach Silvaplana\, Fahrt von Savognin nach Thusis. Ortskundige Gruppenführer\, tolles Erinnerungsgeschenk und unbezahlbare Eindrücke in der alpinen Region der Churer Erlebnisläufer ! \nTeilnehmerbeitrag ab Fr. 450.- für die ganze Tour. 2 Übernachtungen mit 3 Tagen voller Verpflegung\, inkl. Busfahrt am Freitag\, Samstag und Sonntag im Preis enthalten. Teilnahme auch nur an einzelnen Tagen möglich\, Detailinformationen auf der Ausschreibung.\n\n Freitag\, 25. August\nAvers Cröt – Juf – Vuorcla da la Valletta – Leg Columban – Val Beiva – Bivio 21 Km +1200 /- 1150 hm  \nSamstag\, 26. August\nSilvaplana – Sils – Maloja – Lägh dal Lunghin – Lunghin Pass – Septimer Pass – Bivio 25.6 Km + 1100 / -1300 hm  \nSonntag\, 27. August\nBivio – Alp Natons – Alp Flix- Piz Colm – Pensa – Tinizong – Savognin 26.4 Km +1250 hm / -1800 hm  \nWeitere Infos und Anmeldung
URL:https://graubuendentrailrun.ch/event/alpinrunner-erlebnislauf/
LOCATION:Thusis\, Thusis\, 7430\, Switzerland
CATEGORIES:Trailrunning Camps
ATTACH;FMTTYPE=image/jpeg:https://graubuendentrailrun.ch/wp-content/uploads/2023/07/IMG_6801-scaled.jpeg
END:VEVENT
END:VCALENDAR