BEGIN:VCALENDAR
VERSION:2.0
PRODID:-//graubünden Trailrun - ECPv6.15.20//NONSGML v1.0//EN
CALSCALE:GREGORIAN
METHOD:PUBLISH
X-WR-CALNAME:graubünden Trailrun
X-ORIGINAL-URL:https://graubuendentrailrun.ch
X-WR-CALDESC:Veranstaltungen für graubünden Trailrun
REFRESH-INTERVAL;VALUE=DURATION:PT1H
X-Robots-Tag:noindex
X-PUBLISHED-TTL:PT1H
BEGIN:VTIMEZONE
TZID:Europe/Zurich
BEGIN:DAYLIGHT
TZOFFSETFROM:+0100
TZOFFSETTO:+0200
TZNAME:CEST
DTSTART:20200329T010000
END:DAYLIGHT
BEGIN:STANDARD
TZOFFSETFROM:+0200
TZOFFSETTO:+0100
TZNAME:CET
DTSTART:20201025T010000
END:STANDARD
BEGIN:DAYLIGHT
TZOFFSETFROM:+0100
TZOFFSETTO:+0200
TZNAME:CEST
DTSTART:20210328T010000
END:DAYLIGHT
BEGIN:STANDARD
TZOFFSETFROM:+0200
TZOFFSETTO:+0100
TZNAME:CET
DTSTART:20211031T010000
END:STANDARD
BEGIN:DAYLIGHT
TZOFFSETFROM:+0100
TZOFFSETTO:+0200
TZNAME:CEST
DTSTART:20220327T010000
END:DAYLIGHT
BEGIN:STANDARD
TZOFFSETFROM:+0200
TZOFFSETTO:+0100
TZNAME:CET
DTSTART:20221030T010000
END:STANDARD
BEGIN:DAYLIGHT
TZOFFSETFROM:+0100
TZOFFSETTO:+0200
TZNAME:CEST
DTSTART:20230326T010000
END:DAYLIGHT
BEGIN:STANDARD
TZOFFSETFROM:+0200
TZOFFSETTO:+0100
TZNAME:CET
DTSTART:20231029T010000
END:STANDARD
BEGIN:DAYLIGHT
TZOFFSETFROM:+0100
TZOFFSETTO:+0200
TZNAME:CEST
DTSTART:20240331T010000
END:DAYLIGHT
BEGIN:STANDARD
TZOFFSETFROM:+0200
TZOFFSETTO:+0100
TZNAME:CET
DTSTART:20241027T010000
END:STANDARD
END:VTIMEZONE
BEGIN:VEVENT
DTSTART;VALUE=DATE:20230603
DTEND;VALUE=DATE:20230605
DTSTAMP:20260425T124558
CREATED:20220119T072218Z
LAST-MODIFIED:20240416T123622Z
UID:10005279-1685779200-1685898000@graubuendentrailrun.ch
SUMMARY:Trailrunning Technik Weekend Flims Laax
DESCRIPTION:It’s all about Technik\, optimiere deinen persönlichen Laufstil\n\n\n\n\nStarte mit diesem Trailrunning Technik Weekend in den Trailrunning Sommer und erhalte diverse Inputs wie du deine persönliche Lauftechnik anpassen und optimieren kannst. Die Region rund um Flims / Laax\, zwischen Rheinschlucht und dem Unesco Sardona Gebiet\, bietet zu dieser Jahreszeit optimale Möglichkeiten. Gemeinsam arbeiten wir an der Lauftechnik und entdecken die schönsten Trails der Region. Zusätzlich gibt Markus Boss von Alpean\, in einem Wokshop Einblicke zum Thema Stabilität im Trailrunning.
URL:https://graubuendentrailrun.ch/event/trailrunning-technik-weekend/2023-06-03/
LOCATION:Rocks Resort Laax\, Via Murschetg 17\, Laax\, 7032
CATEGORIES:Schnupper-Events,Trailrunning Camps
ATTACH;FMTTYPE=image/jpeg:https://graubuendentrailrun.ch/wp-content/uploads/2022/02/20210927_PhilippRuggli_040-2048x1365-1.jpg
ORGANIZER;CN="bergfrey outdoor guide":MAILTO:info@bergfrey.ch
END:VEVENT
BEGIN:VEVENT
DTSTART;VALUE=DATE:20230506
DTEND;VALUE=DATE:20230508
DTSTAMP:20260425T124558
CREATED:20220119T072218Z
LAST-MODIFIED:20240416T123622Z
UID:10005278-1683360000-1683478800@graubuendentrailrun.ch
SUMMARY:Trailrunning Technik Weekend Flims Laax
DESCRIPTION:It’s all about Technik\, optimiere deinen persönlichen Laufstil\n\n\n\n\nStarte mit diesem Trailrunning Technik Weekend in den Trailrunning Sommer und erhalte diverse Inputs wie du deine persönliche Lauftechnik anpassen und optimieren kannst. Die Region rund um Flims / Laax\, zwischen Rheinschlucht und dem Unesco Sardona Gebiet\, bietet zu dieser Jahreszeit optimale Möglichkeiten. Gemeinsam arbeiten wir an der Lauftechnik und entdecken die schönsten Trails der Region. Zusätzlich gibt Markus Boss von Alpean\, in einem Wokshop Einblicke zum Thema Stabilität im Trailrunning.
URL:https://graubuendentrailrun.ch/event/trailrunning-technik-weekend/2023-05-06/
LOCATION:Rocks Resort Laax\, Via Murschetg 17\, Laax\, 7032
CATEGORIES:Schnupper-Events,Trailrunning Camps
ATTACH;FMTTYPE=image/jpeg:https://graubuendentrailrun.ch/wp-content/uploads/2022/02/20210927_PhilippRuggli_040-2048x1365-1.jpg
ORGANIZER;CN="bergfrey outdoor guide":MAILTO:info@bergfrey.ch
END:VEVENT
BEGIN:VEVENT
DTSTART;VALUE=DATE:20221015
DTEND;VALUE=DATE:20221017
DTSTAMP:20260425T124558
CREATED:20220119T072218Z
LAST-MODIFIED:20240416T123622Z
UID:10004922-1665792000-1665964740@graubuendentrailrun.ch
SUMMARY:Trailrunning Technik Weekend Flims Laax
DESCRIPTION:It’s all about Technik\, optimiere deinen persönlichen Laufstil\n\n\n\n\nStarte mit diesem Trailrunning Technik Weekend in den Trailrunning Sommer und erhalte diverse Inputs wie du deine persönliche Lauftechnik anpassen und optimieren kannst. Die Region rund um Flims / Laax\, zwischen Rheinschlucht und dem Unesco Sardona Gebiet\, bietet zu dieser Jahreszeit optimale Möglichkeiten. Gemeinsam arbeiten wir an der Lauftechnik und entdecken die schönsten Trails der Region. Zusätzlich gibt Markus Boss von Alpean\, in einem Wokshop Einblicke zum Thema Stabilität im Trailrunning.
URL:https://graubuendentrailrun.ch/event/trailrunning-technik-weekend/2022-10-15/
LOCATION:Rocks Resort Laax\, Via Murschetg 17\, Laax\, 7032
CATEGORIES:Schnupper-Events,Trailrunning Camps
ATTACH;FMTTYPE=image/jpeg:https://graubuendentrailrun.ch/wp-content/uploads/2022/02/20210927_PhilippRuggli_040-2048x1365-1.jpg
ORGANIZER;CN="bergfrey outdoor guide":MAILTO:info@bergfrey.ch
END:VEVENT
BEGIN:VEVENT
DTSTART;VALUE=DATE:20220827
DTEND;VALUE=DATE:20220829
DTSTAMP:20260425T124558
CREATED:20220119T072218Z
LAST-MODIFIED:20240416T123622Z
UID:10004921-1661558400-1661731140@graubuendentrailrun.ch
SUMMARY:Trailrunning Technik Weekend Flims Laax
DESCRIPTION:It’s all about Technik\, optimiere deinen persönlichen Laufstil\n\n\n\n\nStarte mit diesem Trailrunning Technik Weekend in den Trailrunning Sommer und erhalte diverse Inputs wie du deine persönliche Lauftechnik anpassen und optimieren kannst. Die Region rund um Flims / Laax\, zwischen Rheinschlucht und dem Unesco Sardona Gebiet\, bietet zu dieser Jahreszeit optimale Möglichkeiten. Gemeinsam arbeiten wir an der Lauftechnik und entdecken die schönsten Trails der Region. Zusätzlich gibt Markus Boss von Alpean\, in einem Wokshop Einblicke zum Thema Stabilität im Trailrunning.
URL:https://graubuendentrailrun.ch/event/trailrunning-technik-weekend/2022-08-27/
LOCATION:Rocks Resort Laax\, Via Murschetg 17\, Laax\, 7032
CATEGORIES:Schnupper-Events,Trailrunning Camps
ATTACH;FMTTYPE=image/jpeg:https://graubuendentrailrun.ch/wp-content/uploads/2022/02/20210927_PhilippRuggli_040-2048x1365-1.jpg
ORGANIZER;CN="bergfrey outdoor guide":MAILTO:info@bergfrey.ch
END:VEVENT
BEGIN:VEVENT
DTSTART;TZID=Europe/Zurich:20220813T133000
DTEND;TZID=Europe/Zurich:20220813T170000
DTSTAMP:20260425T124558
CREATED:20220714T071417Z
LAST-MODIFIED:20230206T130253Z
UID:10004987-1660397400-1660410000@graubuendentrailrun.ch
SUMMARY:Trailrunning Technik Workshop
DESCRIPTION:Komprimiert und effizient erhältst du an einem Nachmittag mit diversen Übungen und Inputs eine neue Sichtweise zur Trailrunningtechnik und kannst so deinen persönlichen Laufstil optimieren. Kurz\, bündig und auf das wesentliche reduziert\, damit du möglichst viel profitierst. Die Region rund um Flims/Laax zwischen Tektionikarena und Rheinschlucht bietet vielfältige Geländeformen und perfekte Möglichkeiten\, deine Technik zu verbessern. Angeboten werden Workshops zu den Themen „Uphill/Downhill“ und „Effizient laufen“.
URL:https://graubuendentrailrun.ch/event/trailrunning-technik-workshop/2022-08-13/
LOCATION:Sportzentrum Prau la Selva\, Via Prau la Selva 6\, Flims Waldhaus\, 7018\, Switzerland
CATEGORIES:Schnupper-Events,Trailrunning Camps
ATTACH;FMTTYPE=image/jpeg:https://graubuendentrailrun.ch/wp-content/uploads/2022/07/289698836_2389299681208257_4033477779339448230_n.webpfull.jpg
ORGANIZER;CN="bergfrey outdoor guide":MAILTO:info@bergfrey.ch
END:VEVENT
BEGIN:VEVENT
DTSTART;TZID=Europe/Zurich:20220806T133000
DTEND;TZID=Europe/Zurich:20220806T170000
DTSTAMP:20260425T124558
CREATED:20220714T071417Z
LAST-MODIFIED:20230206T130253Z
UID:10004986-1659792600-1659805200@graubuendentrailrun.ch
SUMMARY:Trailrunning Technik Workshop
DESCRIPTION:Komprimiert und effizient erhältst du an einem Nachmittag mit diversen Übungen und Inputs eine neue Sichtweise zur Trailrunningtechnik und kannst so deinen persönlichen Laufstil optimieren. Kurz\, bündig und auf das wesentliche reduziert\, damit du möglichst viel profitierst. Die Region rund um Flims/Laax zwischen Tektionikarena und Rheinschlucht bietet vielfältige Geländeformen und perfekte Möglichkeiten\, deine Technik zu verbessern. Angeboten werden Workshops zu den Themen „Uphill/Downhill“ und „Effizient laufen“.
URL:https://graubuendentrailrun.ch/event/trailrunning-technik-workshop/2022-08-06/
LOCATION:Sportzentrum Prau la Selva\, Via Prau la Selva 6\, Flims Waldhaus\, 7018\, Switzerland
CATEGORIES:Schnupper-Events,Trailrunning Camps
ATTACH;FMTTYPE=image/jpeg:https://graubuendentrailrun.ch/wp-content/uploads/2022/07/289698836_2389299681208257_4033477779339448230_n.webpfull.jpg
ORGANIZER;CN="bergfrey outdoor guide":MAILTO:info@bergfrey.ch
END:VEVENT
BEGIN:VEVENT
DTSTART;TZID=Europe/Zurich:20220730T133000
DTEND;TZID=Europe/Zurich:20220730T170000
DTSTAMP:20260425T124558
CREATED:20220714T071417Z
LAST-MODIFIED:20230206T130253Z
UID:10004985-1659187800-1659200400@graubuendentrailrun.ch
SUMMARY:Trailrunning Technik Workshop
DESCRIPTION:Komprimiert und effizient erhältst du an einem Nachmittag mit diversen Übungen und Inputs eine neue Sichtweise zur Trailrunningtechnik und kannst so deinen persönlichen Laufstil optimieren. Kurz\, bündig und auf das wesentliche reduziert\, damit du möglichst viel profitierst. Die Region rund um Flims/Laax zwischen Tektionikarena und Rheinschlucht bietet vielfältige Geländeformen und perfekte Möglichkeiten\, deine Technik zu verbessern. Angeboten werden Workshops zu den Themen „Uphill/Downhill“ und „Effizient laufen“.
URL:https://graubuendentrailrun.ch/event/trailrunning-technik-workshop/2022-07-30/
LOCATION:Sportzentrum Prau la Selva\, Via Prau la Selva 6\, Flims Waldhaus\, 7018\, Switzerland
CATEGORIES:Schnupper-Events,Trailrunning Camps
ATTACH;FMTTYPE=image/jpeg:https://graubuendentrailrun.ch/wp-content/uploads/2022/07/289698836_2389299681208257_4033477779339448230_n.webpfull.jpg
ORGANIZER;CN="bergfrey outdoor guide":MAILTO:info@bergfrey.ch
END:VEVENT
BEGIN:VEVENT
DTSTART;TZID=Europe/Zurich:20220723T133000
DTEND;TZID=Europe/Zurich:20220723T170000
DTSTAMP:20260425T124558
CREATED:20220714T071417Z
LAST-MODIFIED:20230206T130253Z
UID:10004984-1658583000-1658595600@graubuendentrailrun.ch
SUMMARY:Trailrunning Technik Workshop
DESCRIPTION:Komprimiert und effizient erhältst du an einem Nachmittag mit diversen Übungen und Inputs eine neue Sichtweise zur Trailrunningtechnik und kannst so deinen persönlichen Laufstil optimieren. Kurz\, bündig und auf das wesentliche reduziert\, damit du möglichst viel profitierst. Die Region rund um Flims/Laax zwischen Tektionikarena und Rheinschlucht bietet vielfältige Geländeformen und perfekte Möglichkeiten\, deine Technik zu verbessern. Angeboten werden Workshops zu den Themen „Uphill/Downhill“ und „Effizient laufen“.
URL:https://graubuendentrailrun.ch/event/trailrunning-technik-workshop/2022-07-23/
LOCATION:Sportzentrum Prau la Selva\, Via Prau la Selva 6\, Flims Waldhaus\, 7018\, Switzerland
CATEGORIES:Schnupper-Events,Trailrunning Camps
ATTACH;FMTTYPE=image/jpeg:https://graubuendentrailrun.ch/wp-content/uploads/2022/07/289698836_2389299681208257_4033477779339448230_n.webpfull.jpg
ORGANIZER;CN="bergfrey outdoor guide":MAILTO:info@bergfrey.ch
END:VEVENT
BEGIN:VEVENT
DTSTART;TZID=Europe/Zurich:20220716T133000
DTEND;TZID=Europe/Zurich:20220716T170000
DTSTAMP:20260425T124558
CREATED:20220714T071417Z
LAST-MODIFIED:20230206T130253Z
UID:10004983-1657978200-1657990800@graubuendentrailrun.ch
SUMMARY:Trailrunning Technik Workshop
DESCRIPTION:Komprimiert und effizient erhältst du an einem Nachmittag mit diversen Übungen und Inputs eine neue Sichtweise zur Trailrunningtechnik und kannst so deinen persönlichen Laufstil optimieren. Kurz\, bündig und auf das wesentliche reduziert\, damit du möglichst viel profitierst. Die Region rund um Flims/Laax zwischen Tektionikarena und Rheinschlucht bietet vielfältige Geländeformen und perfekte Möglichkeiten\, deine Technik zu verbessern. Angeboten werden Workshops zu den Themen „Uphill/Downhill“ und „Effizient laufen“.
URL:https://graubuendentrailrun.ch/event/trailrunning-technik-workshop/2022-07-16/
LOCATION:Sportzentrum Prau la Selva\, Via Prau la Selva 6\, Flims Waldhaus\, 7018\, Switzerland
CATEGORIES:Schnupper-Events,Trailrunning Camps
ATTACH;FMTTYPE=image/jpeg:https://graubuendentrailrun.ch/wp-content/uploads/2022/07/289698836_2389299681208257_4033477779339448230_n.webpfull.jpg
ORGANIZER;CN="bergfrey outdoor guide":MAILTO:info@bergfrey.ch
END:VEVENT
BEGIN:VEVENT
DTSTART;VALUE=DATE:20220521
DTEND;VALUE=DATE:20220523
DTSTAMP:20260425T124558
CREATED:20220119T072218Z
LAST-MODIFIED:20240416T123622Z
UID:10004920-1653091200-1653263940@graubuendentrailrun.ch
SUMMARY:Trailrunning Technik Weekend Flims Laax
DESCRIPTION:It’s all about Technik\, optimiere deinen persönlichen Laufstil\n\n\n\n\nStarte mit diesem Trailrunning Technik Weekend in den Trailrunning Sommer und erhalte diverse Inputs wie du deine persönliche Lauftechnik anpassen und optimieren kannst. Die Region rund um Flims / Laax\, zwischen Rheinschlucht und dem Unesco Sardona Gebiet\, bietet zu dieser Jahreszeit optimale Möglichkeiten. Gemeinsam arbeiten wir an der Lauftechnik und entdecken die schönsten Trails der Region. Zusätzlich gibt Markus Boss von Alpean\, in einem Wokshop Einblicke zum Thema Stabilität im Trailrunning.
URL:https://graubuendentrailrun.ch/event/trailrunning-technik-weekend/2022-05-21/
LOCATION:Rocks Resort Laax\, Via Murschetg 17\, Laax\, 7032
CATEGORIES:Schnupper-Events,Trailrunning Camps
ATTACH;FMTTYPE=image/jpeg:https://graubuendentrailrun.ch/wp-content/uploads/2022/02/20210927_PhilippRuggli_040-2048x1365-1.jpg
ORGANIZER;CN="bergfrey outdoor guide":MAILTO:info@bergfrey.ch
END:VEVENT
BEGIN:VEVENT
DTSTART;VALUE=DATE:20220514
DTEND;VALUE=DATE:20220516
DTSTAMP:20260425T124558
CREATED:20220119T071108Z
LAST-MODIFIED:20220222T105827Z
UID:10004919-1652486400-1652659199@graubuendentrailrun.ch
SUMMARY:Trailrunning Basic Weekend Flims Laax
DESCRIPTION:Auf den Trails unterwegs \nEine zweitägige kompakte Wissens-Vermittlung in der Region des UNESCO Weltnaturerbe Tektonik Arena und der Rheinschlucht. Der Sportphysiotherapeut Markus Boss von ALPEAN\, sowie der Outdoorsport-Experte Tim Frey\, ermöglichen dir in mehreren Workshops und Drills den Einstieg in den Sport und zeigen dir die notwendigen Basics. \n(Bildquelle: Flims Laax)
URL:https://graubuendentrailrun.ch/event/trailrunning-basics-weekend/
LOCATION:Laax\, Via Murschetg 17\, Laax\, 7032\, Switzerland
CATEGORIES:Trailrunning Camps
ATTACH;FMTTYPE=image/jpeg:https://graubuendentrailrun.ch/wp-content/uploads/2022/02/DANUSER-170925180538-2-scaled-1.jpg
ORGANIZER;CN="bergfrey outdoor guide":MAILTO:info@bergfrey.ch
END:VEVENT
BEGIN:VEVENT
DTSTART;VALUE=DATE:20210806
DTEND;VALUE=DATE:20210809
DTSTAMP:20260425T124558
CREATED:20210518T082956Z
LAST-MODIFIED:20210518T085243Z
UID:10004193-1628208000-1628467199@graubuendentrailrun.ch
SUMMARY:Trailrunning und Yoga Retreat
DESCRIPTION:Drei Tage voller aktiver Erholung in der Bergwelt von Flims. Inklusive einmaliger Unterkunft in der Segnashütte in traumhafter Lage\, Trailrunning auf den schönsten Trails mit lokalen Guides sowie tägliche Yoga Einheiten.
URL:https://graubuendentrailrun.ch/event/trailrunning-und-yoga-retreat/
LOCATION:Flims Dorf\, Flims Dorf\, 7017\, Switzerland
CATEGORIES:Trailrunning Camps
ATTACH;FMTTYPE=image/jpeg:https://graubuendentrailrun.ch/wp-content/uploads/2021/05/183508249_392536228464812_4298593718782116372_nfull.jpeg
ORGANIZER;CN="bergfrey outdoor guide":MAILTO:info@bergfrey.ch
END:VEVENT
END:VCALENDAR