BEGIN:VCALENDAR
VERSION:2.0
PRODID:-//graubünden Trailrun - ECPv6.15.20//NONSGML v1.0//EN
CALSCALE:GREGORIAN
METHOD:PUBLISH
X-ORIGINAL-URL:https://graubuendentrailrun.ch
X-WR-CALDESC:Veranstaltungen für graubünden Trailrun
REFRESH-INTERVAL;VALUE=DURATION:PT1H
X-Robots-Tag:noindex
X-PUBLISHED-TTL:PT1H
BEGIN:VTIMEZONE
TZID:Europe/Zurich
BEGIN:DAYLIGHT
TZOFFSETFROM:+0100
TZOFFSETTO:+0200
TZNAME:CEST
DTSTART:20200329T010000
END:DAYLIGHT
BEGIN:STANDARD
TZOFFSETFROM:+0200
TZOFFSETTO:+0100
TZNAME:CET
DTSTART:20201025T010000
END:STANDARD
BEGIN:DAYLIGHT
TZOFFSETFROM:+0100
TZOFFSETTO:+0200
TZNAME:CEST
DTSTART:20210328T010000
END:DAYLIGHT
BEGIN:STANDARD
TZOFFSETFROM:+0200
TZOFFSETTO:+0100
TZNAME:CET
DTSTART:20211031T010000
END:STANDARD
BEGIN:DAYLIGHT
TZOFFSETFROM:+0100
TZOFFSETTO:+0200
TZNAME:CEST
DTSTART:20220327T010000
END:DAYLIGHT
BEGIN:STANDARD
TZOFFSETFROM:+0200
TZOFFSETTO:+0100
TZNAME:CET
DTSTART:20221030T010000
END:STANDARD
BEGIN:DAYLIGHT
TZOFFSETFROM:+0100
TZOFFSETTO:+0200
TZNAME:CEST
DTSTART:20230326T010000
END:DAYLIGHT
BEGIN:STANDARD
TZOFFSETFROM:+0200
TZOFFSETTO:+0100
TZNAME:CET
DTSTART:20231029T010000
END:STANDARD
END:VTIMEZONE
BEGIN:VEVENT
DTSTART;TZID=Europe/Zurich:20220518T180000
DTEND;TZID=Europe/Zurich:20220518T220000
DTSTAMP:20260424T160257
CREATED:20210527T091554Z
LAST-MODIFIED:20220224T065612Z
UID:10004307-1652896800-1652911200@graubuendentrailrun.ch
SUMMARY:Churer Fürstenwaldlauf
DESCRIPTION:Die Runde im Fürstenwald mit einer Distanz von 4 km eignet sich sowohl für Laufanfänger*innen als auch für ambitionierte Läufer*innen. Im selben Rahmen findet auch ein Kinderlauf statt.
URL:https://graubuendentrailrun.ch/event/churer-fuerstenwaldlauf/2022-05-18/
LOCATION:Chur Fürstenwald\, Fürstenwald\, Chur\, 7000\, Switzerland
CATEGORIES:Laufveranstaltungen
ATTACH;FMTTYPE=image/jpeg:https://graubuendentrailrun.ch/wp-content/uploads/2020/08/Churer_Fuerstenwaldlauf.jpg
ORGANIZER;CN="BTV Chur":MAILTO:info@labtvchur.ch
END:VEVENT
BEGIN:VEVENT
DTSTART;TZID=Europe/Zurich:20210901T180000
DTEND;TZID=Europe/Zurich:20210901T220000
DTSTAMP:20260424T160257
CREATED:20210527T091554Z
LAST-MODIFIED:20220224T065612Z
UID:10004306-1630519200-1630533600@graubuendentrailrun.ch
SUMMARY:Churer Fürstenwaldlauf
DESCRIPTION:Die Runde im Fürstenwald mit einer Distanz von 4 km eignet sich sowohl für Laufanfänger*innen als auch für ambitionierte Läufer*innen. Im selben Rahmen findet auch ein Kinderlauf statt.
URL:https://graubuendentrailrun.ch/event/churer-fuerstenwaldlauf/2021-09-01/
LOCATION:Chur Fürstenwald\, Fürstenwald\, Chur\, 7000\, Switzerland
CATEGORIES:Laufveranstaltungen
ATTACH;FMTTYPE=image/jpeg:https://graubuendentrailrun.ch/wp-content/uploads/2020/08/Churer_Fuerstenwaldlauf.jpg
ORGANIZER;CN="BTV Chur":MAILTO:info@labtvchur.ch
END:VEVENT
END:VCALENDAR