BEGIN:VCALENDAR
VERSION:2.0
PRODID:-//graubünden Trailrun - ECPv6.15.20//NONSGML v1.0//EN
CALSCALE:GREGORIAN
METHOD:PUBLISH
X-ORIGINAL-URL:https://graubuendentrailrun.ch
X-WR-CALDESC:Veranstaltungen für graubünden Trailrun
REFRESH-INTERVAL;VALUE=DURATION:PT1H
X-Robots-Tag:noindex
X-PUBLISHED-TTL:PT1H
BEGIN:VTIMEZONE
TZID:Europe/Zurich
BEGIN:DAYLIGHT
TZOFFSETFROM:+0100
TZOFFSETTO:+0200
TZNAME:CEST
DTSTART:20220327T010000
END:DAYLIGHT
BEGIN:STANDARD
TZOFFSETFROM:+0200
TZOFFSETTO:+0100
TZNAME:CET
DTSTART:20221030T010000
END:STANDARD
BEGIN:DAYLIGHT
TZOFFSETFROM:+0100
TZOFFSETTO:+0200
TZNAME:CEST
DTSTART:20230326T010000
END:DAYLIGHT
BEGIN:STANDARD
TZOFFSETFROM:+0200
TZOFFSETTO:+0100
TZNAME:CET
DTSTART:20231029T010000
END:STANDARD
BEGIN:DAYLIGHT
TZOFFSETFROM:+0100
TZOFFSETTO:+0200
TZNAME:CEST
DTSTART:20240331T010000
END:DAYLIGHT
BEGIN:STANDARD
TZOFFSETFROM:+0200
TZOFFSETTO:+0100
TZNAME:CET
DTSTART:20241027T010000
END:STANDARD
BEGIN:DAYLIGHT
TZOFFSETFROM:+0100
TZOFFSETTO:+0200
TZNAME:CEST
DTSTART:20250330T010000
END:DAYLIGHT
BEGIN:STANDARD
TZOFFSETFROM:+0200
TZOFFSETTO:+0100
TZNAME:CET
DTSTART:20251026T010000
END:STANDARD
END:VTIMEZONE
BEGIN:VEVENT
DTSTART;TZID=Europe/Zurich:20240514T183000
DTEND;TZID=Europe/Zurich:20240514T200000
DTSTAMP:20260424T224237
CREATED:20230509T100237Z
LAST-MODIFIED:20240308T082040Z
UID:10007990-1715711400-1715716800@graubuendentrailrun.ch
SUMMARY:Let's Trail Chur
DESCRIPTION:Modul 2: Technik Fokus Uphill / Downhill\nMit Monika Brandt\n\nJeder neue Weg beginnt mit einem ersten Schritt. Am Let’s Trail-Event in deiner Bündner Region machen wir dich startklar für den Trail und lehren dir die Grundlagen deines neuen Lieblingssports. Du willst Trailrunner werden? Nichts leichter als das – starte einfach!\n\nAnmeldung erforderlich unter: letstrail.ch
URL:https://graubuendentrailrun.ch/event/lets-trail-chur-2/2024-05-14/
LOCATION:Sportanlage Sand\, Sandstrasse 35\, Chur\, 7000\, Switzerland
END:VEVENT
BEGIN:VEVENT
DTSTART;TZID=Europe/Zurich:20240502T183000
DTEND;TZID=Europe/Zurich:20240502T200000
DTSTAMP:20260424T224237
CREATED:20230509T100237Z
LAST-MODIFIED:20240308T082040Z
UID:10007989-1714674600-1714680000@graubuendentrailrun.ch
SUMMARY:Let's Trail Chur
DESCRIPTION:Modul 2: Technik Fokus Uphill / Downhill\nMit Monika Brandt\n\nJeder neue Weg beginnt mit einem ersten Schritt. Am Let’s Trail-Event in deiner Bündner Region machen wir dich startklar für den Trail und lehren dir die Grundlagen deines neuen Lieblingssports. Du willst Trailrunner werden? Nichts leichter als das – starte einfach!\n\nAnmeldung erforderlich unter: letstrail.ch
URL:https://graubuendentrailrun.ch/event/lets-trail-chur-2/2024-05-02/
LOCATION:Sportanlage Sand\, Sandstrasse 35\, Chur\, 7000\, Switzerland
END:VEVENT
BEGIN:VEVENT
DTSTART;TZID=Europe/Zurich:20240425T183000
DTEND;TZID=Europe/Zurich:20240425T200000
DTSTAMP:20260424T224237
CREATED:20230509T100035Z
LAST-MODIFIED:20240308T082300Z
UID:10007992-1714069800-1714075200@graubuendentrailrun.ch
SUMMARY:Let's Trail Chur
DESCRIPTION:Modul 1: Einstieg\nMit Monika Brandt\n\nJeder neue Weg beginnt mit einem ersten Schritt. Am Let’s Trail-Event in deiner Bündner Region machen wir dich startklar für den Trail und lehren dir die Grundlagen deines neuen Lieblingssports. Du willst Trailrunner werden? Nichts leichter als das – starte einfach!\n\nAnmeldung erforderlich unter: letstrail.ch
URL:https://graubuendentrailrun.ch/event/lets-trail-chur/2024-04-25/
LOCATION:Waldhaus Stall\, Fürstenwaldstrasse\, Chur\, 7000\, Switzerland
END:VEVENT
BEGIN:VEVENT
DTSTART;TZID=Europe/Zurich:20240409T183000
DTEND;TZID=Europe/Zurich:20240409T200000
DTSTAMP:20260424T224237
CREATED:20230509T100035Z
LAST-MODIFIED:20240308T082300Z
UID:10007991-1712687400-1712692800@graubuendentrailrun.ch
SUMMARY:Let's Trail Chur
DESCRIPTION:Modul 1: Einstieg\nMit Monika Brandt\n\nJeder neue Weg beginnt mit einem ersten Schritt. Am Let’s Trail-Event in deiner Bündner Region machen wir dich startklar für den Trail und lehren dir die Grundlagen deines neuen Lieblingssports. Du willst Trailrunner werden? Nichts leichter als das – starte einfach!\n\nAnmeldung erforderlich unter: letstrail.ch
URL:https://graubuendentrailrun.ch/event/lets-trail-chur/2024-04-09/
LOCATION:Waldhaus Stall\, Fürstenwaldstrasse\, Chur\, 7000\, Switzerland
END:VEVENT
BEGIN:VEVENT
DTSTART;TZID=Europe/Zurich:20230627T183000
DTEND;TZID=Europe/Zurich:20230627T200000
DTSTAMP:20260424T224237
CREATED:20230509T100237Z
LAST-MODIFIED:20240308T082040Z
UID:10007174-1687890600-1687896000@graubuendentrailrun.ch
SUMMARY:Let's Trail Chur
DESCRIPTION:Modul 2: Technik Fokus Uphill / Downhill\nMit Monika Brandt\n\nJeder neue Weg beginnt mit einem ersten Schritt. Am Let’s Trail-Event in deiner Bündner Region machen wir dich startklar für den Trail und lehren dir die Grundlagen deines neuen Lieblingssports. Du willst Trailrunner werden? Nichts leichter als das – starte einfach!\n\nAnmeldung erforderlich unter: letstrail.ch
URL:https://graubuendentrailrun.ch/event/lets-trail-chur-2/2023-06-27/
LOCATION:Sportanlage Sand\, Sandstrasse 35\, Chur\, 7000\, Switzerland
END:VEVENT
BEGIN:VEVENT
DTSTART;TZID=Europe/Zurich:20230620T183000
DTEND;TZID=Europe/Zurich:20230620T200000
DTSTAMP:20260424T224237
CREATED:20230509T100035Z
LAST-MODIFIED:20240308T082300Z
UID:10007173-1687285800-1687291200@graubuendentrailrun.ch
SUMMARY:Let's Trail Chur
DESCRIPTION:Modul 1: Einstieg\nMit Monika Brandt\n\nJeder neue Weg beginnt mit einem ersten Schritt. Am Let’s Trail-Event in deiner Bündner Region machen wir dich startklar für den Trail und lehren dir die Grundlagen deines neuen Lieblingssports. Du willst Trailrunner werden? Nichts leichter als das – starte einfach!\n\nAnmeldung erforderlich unter: letstrail.ch
URL:https://graubuendentrailrun.ch/event/lets-trail-chur/2023-06-20/
LOCATION:Waldhaus Stall\, Fürstenwaldstrasse\, Chur\, 7000\, Switzerland
END:VEVENT
END:VCALENDAR