BEGIN:VCALENDAR
VERSION:2.0
PRODID:-//graubünden Trailrun - ECPv6.15.20//NONSGML v1.0//EN
CALSCALE:GREGORIAN
METHOD:PUBLISH
X-WR-CALNAME:graubünden Trailrun
X-ORIGINAL-URL:https://graubuendentrailrun.ch
X-WR-CALDESC:Veranstaltungen für graubünden Trailrun
REFRESH-INTERVAL;VALUE=DURATION:PT1H
X-Robots-Tag:noindex
X-PUBLISHED-TTL:PT1H
BEGIN:VTIMEZONE
TZID:Europe/Zurich
BEGIN:DAYLIGHT
TZOFFSETFROM:+0100
TZOFFSETTO:+0200
TZNAME:CEST
DTSTART:20210328T010000
END:DAYLIGHT
BEGIN:STANDARD
TZOFFSETFROM:+0200
TZOFFSETTO:+0100
TZNAME:CET
DTSTART:20211031T010000
END:STANDARD
BEGIN:DAYLIGHT
TZOFFSETFROM:+0100
TZOFFSETTO:+0200
TZNAME:CEST
DTSTART:20220327T010000
END:DAYLIGHT
BEGIN:STANDARD
TZOFFSETFROM:+0200
TZOFFSETTO:+0100
TZNAME:CET
DTSTART:20221030T010000
END:STANDARD
BEGIN:DAYLIGHT
TZOFFSETFROM:+0100
TZOFFSETTO:+0200
TZNAME:CEST
DTSTART:20230326T010000
END:DAYLIGHT
BEGIN:STANDARD
TZOFFSETFROM:+0200
TZOFFSETTO:+0100
TZNAME:CET
DTSTART:20231029T010000
END:STANDARD
END:VTIMEZONE
BEGIN:VEVENT
DTSTART;VALUE=DATE:20220729
DTEND;VALUE=DATE:20220731
DTSTAMP:20260425T223122
CREATED:20211109T140830Z
LAST-MODIFIED:20230307T081817Z
UID:10004861-1659052800-1659225540@graubuendentrailrun.ch
SUMMARY:Davos X-Trails
DESCRIPTION:Davos X-Trails – Die schönsten Täler und Bergpässe der Schweiz\nWie Diamanten funkeln und strahlen die Trails der abwechslungsreichen Strecken durch Täler\, über Pässe und durch malerische Dörfer. Folgendes Streckenangebot steht zur Auswahl: \n\nDiamond 68 Km\nGold 43 Km\nSilver 23 Km\nBronze 10 Km\n\nAm Freitag Nachmittag findet der Kids Run statt. Dank dem Hauptsponsor Migros starten alle Kinder gratis!
URL:https://graubuendentrailrun.ch/event/davos-x-trails/2022-07-29/
LOCATION:Davos\, Talstrasse 41\, Davos\, 7270\, Switzerland
CATEGORIES:Laufveranstaltungen
ATTACH;FMTTYPE=image/jpeg:https://graubuendentrailrun.ch/wp-content/uploads/2021/11/Davos_XTrails-1.jpg
ORGANIZER;CN="Destination Davos Klosters":MAILTO:x-trails@davos.ch
END:VEVENT
END:VCALENDAR