BEGIN:VCALENDAR
VERSION:2.0
PRODID:-//graubünden Trailrun - ECPv6.15.20//NONSGML v1.0//EN
CALSCALE:GREGORIAN
METHOD:PUBLISH
X-ORIGINAL-URL:https://graubuendentrailrun.ch
X-WR-CALDESC:Veranstaltungen für graubünden Trailrun
REFRESH-INTERVAL;VALUE=DURATION:PT1H
X-Robots-Tag:noindex
X-PUBLISHED-TTL:PT1H
BEGIN:VTIMEZONE
TZID:Europe/Zurich
BEGIN:DAYLIGHT
TZOFFSETFROM:+0100
TZOFFSETTO:+0200
TZNAME:CEST
DTSTART:20210328T010000
END:DAYLIGHT
BEGIN:STANDARD
TZOFFSETFROM:+0200
TZOFFSETTO:+0100
TZNAME:CET
DTSTART:20211031T010000
END:STANDARD
BEGIN:DAYLIGHT
TZOFFSETFROM:+0100
TZOFFSETTO:+0200
TZNAME:CEST
DTSTART:20220327T010000
END:DAYLIGHT
BEGIN:STANDARD
TZOFFSETFROM:+0200
TZOFFSETTO:+0100
TZNAME:CET
DTSTART:20221030T010000
END:STANDARD
BEGIN:DAYLIGHT
TZOFFSETFROM:+0100
TZOFFSETTO:+0200
TZNAME:CEST
DTSTART:20230326T010000
END:DAYLIGHT
BEGIN:STANDARD
TZOFFSETFROM:+0200
TZOFFSETTO:+0100
TZNAME:CET
DTSTART:20231029T010000
END:STANDARD
END:VTIMEZONE
BEGIN:VEVENT
DTSTART;TZID=Europe/Zurich:20220814T093000
DTEND;TZID=Europe/Zurich:20220814T113000
DTSTAMP:20260426T023822
CREATED:20220519T131545Z
LAST-MODIFIED:20220802T083352Z
UID:10004947-1660469400-1660476600@graubuendentrailrun.ch
SUMMARY:Let's Trail Flims
DESCRIPTION:Modul 1: Einstieg\nMit Tim Frey\n\nJeder neue Weg beginnt mit einem ersten Schritt. Am Let’s Trail-Event in deiner Bündner Region machen wir dich startklar für den Trail und lehren dir die Grundlagen deines neuen Lieblingssports. Du willst Trailrunner werden? Nichts leichter als das – starte einfach!\n\nAnmeldung erforderlich unter: letstrail.ch
URL:https://graubuendentrailrun.ch/event/lets-trail-flims/2022-08-14/
ATTACH;FMTTYPE=image/jpeg:https://graubuendentrailrun.ch/wp-content/uploads/2022/08/Post_Flims_1080x1080_LetsTrail_223.jpg
END:VEVENT
BEGIN:VEVENT
DTSTART;TZID=Europe/Zurich:20220807T093000
DTEND;TZID=Europe/Zurich:20220807T113000
DTSTAMP:20260426T023822
CREATED:20220519T131545Z
LAST-MODIFIED:20220802T083352Z
UID:10004946-1659864600-1659871800@graubuendentrailrun.ch
SUMMARY:Let's Trail Flims
DESCRIPTION:Modul 1: Einstieg\nMit Tim Frey\n\nJeder neue Weg beginnt mit einem ersten Schritt. Am Let’s Trail-Event in deiner Bündner Region machen wir dich startklar für den Trail und lehren dir die Grundlagen deines neuen Lieblingssports. Du willst Trailrunner werden? Nichts leichter als das – starte einfach!\n\nAnmeldung erforderlich unter: letstrail.ch
URL:https://graubuendentrailrun.ch/event/lets-trail-flims/2022-08-07/
ATTACH;FMTTYPE=image/jpeg:https://graubuendentrailrun.ch/wp-content/uploads/2022/08/Post_Flims_1080x1080_LetsTrail_223.jpg
END:VEVENT
BEGIN:VEVENT
DTSTART;TZID=Europe/Zurich:20220731T093000
DTEND;TZID=Europe/Zurich:20220731T113000
DTSTAMP:20260426T023822
CREATED:20220519T131545Z
LAST-MODIFIED:20220802T083352Z
UID:10004945-1659259800-1659267000@graubuendentrailrun.ch
SUMMARY:Let's Trail Flims
DESCRIPTION:Modul 1: Einstieg\nMit Tim Frey\n\nJeder neue Weg beginnt mit einem ersten Schritt. Am Let’s Trail-Event in deiner Bündner Region machen wir dich startklar für den Trail und lehren dir die Grundlagen deines neuen Lieblingssports. Du willst Trailrunner werden? Nichts leichter als das – starte einfach!\n\nAnmeldung erforderlich unter: letstrail.ch
URL:https://graubuendentrailrun.ch/event/lets-trail-flims/2022-07-31/
ATTACH;FMTTYPE=image/jpeg:https://graubuendentrailrun.ch/wp-content/uploads/2022/08/Post_Flims_1080x1080_LetsTrail_223.jpg
END:VEVENT
BEGIN:VEVENT
DTSTART;TZID=Europe/Zurich:20220724T093000
DTEND;TZID=Europe/Zurich:20220724T113000
DTSTAMP:20260426T023822
CREATED:20220519T131545Z
LAST-MODIFIED:20220802T083352Z
UID:10004944-1658655000-1658662200@graubuendentrailrun.ch
SUMMARY:Let's Trail Flims
DESCRIPTION:Modul 1: Einstieg\nMit Tim Frey\n\nJeder neue Weg beginnt mit einem ersten Schritt. Am Let’s Trail-Event in deiner Bündner Region machen wir dich startklar für den Trail und lehren dir die Grundlagen deines neuen Lieblingssports. Du willst Trailrunner werden? Nichts leichter als das – starte einfach!\n\nAnmeldung erforderlich unter: letstrail.ch
URL:https://graubuendentrailrun.ch/event/lets-trail-flims/2022-07-24/
ATTACH;FMTTYPE=image/jpeg:https://graubuendentrailrun.ch/wp-content/uploads/2022/08/Post_Flims_1080x1080_LetsTrail_223.jpg
END:VEVENT
BEGIN:VEVENT
DTSTART;TZID=Europe/Zurich:20220717T093000
DTEND;TZID=Europe/Zurich:20220717T113000
DTSTAMP:20260426T023822
CREATED:20220519T131545Z
LAST-MODIFIED:20220802T083352Z
UID:10004943-1658050200-1658057400@graubuendentrailrun.ch
SUMMARY:Let's Trail Flims
DESCRIPTION:Modul 1: Einstieg\nMit Tim Frey\n\nJeder neue Weg beginnt mit einem ersten Schritt. Am Let’s Trail-Event in deiner Bündner Region machen wir dich startklar für den Trail und lehren dir die Grundlagen deines neuen Lieblingssports. Du willst Trailrunner werden? Nichts leichter als das – starte einfach!\n\nAnmeldung erforderlich unter: letstrail.ch
URL:https://graubuendentrailrun.ch/event/lets-trail-flims/2022-07-17/
ATTACH;FMTTYPE=image/jpeg:https://graubuendentrailrun.ch/wp-content/uploads/2022/08/Post_Flims_1080x1080_LetsTrail_223.jpg
END:VEVENT
END:VCALENDAR