BEGIN:VCALENDAR
VERSION:2.0
PRODID:-//graubünden Trailrun - ECPv6.15.20//NONSGML v1.0//EN
CALSCALE:GREGORIAN
METHOD:PUBLISH
X-ORIGINAL-URL:https://graubuendentrailrun.ch
X-WR-CALDESC:Veranstaltungen für graubünden Trailrun
REFRESH-INTERVAL;VALUE=DURATION:PT1H
X-Robots-Tag:noindex
X-PUBLISHED-TTL:PT1H
BEGIN:VTIMEZONE
TZID:Europe/Zurich
BEGIN:DAYLIGHT
TZOFFSETFROM:+0100
TZOFFSETTO:+0200
TZNAME:CEST
DTSTART:20260329T010000
END:DAYLIGHT
BEGIN:STANDARD
TZOFFSETFROM:+0200
TZOFFSETTO:+0100
TZNAME:CET
DTSTART:20261025T010000
END:STANDARD
BEGIN:DAYLIGHT
TZOFFSETFROM:+0100
TZOFFSETTO:+0200
TZNAME:CEST
DTSTART:20270328T010000
END:DAYLIGHT
BEGIN:STANDARD
TZOFFSETFROM:+0200
TZOFFSETTO:+0100
TZNAME:CET
DTSTART:20271031T010000
END:STANDARD
BEGIN:DAYLIGHT
TZOFFSETFROM:+0100
TZOFFSETTO:+0200
TZNAME:CEST
DTSTART:20280326T010000
END:DAYLIGHT
BEGIN:STANDARD
TZOFFSETFROM:+0200
TZOFFSETTO:+0100
TZNAME:CET
DTSTART:20281029T010000
END:STANDARD
END:VTIMEZONE
BEGIN:VEVENT
DTSTART;TZID=Europe/Zurich:20270103T100000
DTEND;TZID=Europe/Zurich:20270103T120000
DTSTAMP:20260425T122350
CREATED:20240116T161714Z
LAST-MODIFIED:20250520T073456Z
UID:10007882-1798970400-1798977600@graubuendentrailrun.ch
SUMMARY:Trailtreff Flims Laax
DESCRIPTION:#trailtreff – Graubündens öffentliche Trailrunning-Gruppe\nDer Trailtreff Flims Laax ist ein Erlebnislauf in alpinem Gelände. Unsere Runden dauern zwischen 1.5 und 2.5 Stunden (15 bis 25 km) und finden wöchentlich am Sonntagvormittag das ganze Jahr hindurch statt. Wir teilen die Stärkeklassen flexibel ein. Anmelden musst du dich nicht\, sei einfach pünktlich um 10.00 Uhr bei den Bergbahnen Flims. Du kannst ca. 90 Min. am Stücklaufen und hast gute Laufschuhe? Dann auf den Trail\, fertig\, los!
URL:https://graubuendentrailrun.ch/event/trailtreff_flims/2027-01-03/
LOCATION:Bergbahn Flims\, Via dil Crest\, Flims\, GR\, 7017\, Switzerland
CATEGORIES:Trailtreff
END:VEVENT
BEGIN:VEVENT
DTSTART;TZID=Europe/Zurich:20270110T100000
DTEND;TZID=Europe/Zurich:20270110T120000
DTSTAMP:20260425T122350
CREATED:20240116T161714Z
LAST-MODIFIED:20250520T073456Z
UID:10007883-1799575200-1799582400@graubuendentrailrun.ch
SUMMARY:Trailtreff Flims Laax
DESCRIPTION:#trailtreff – Graubündens öffentliche Trailrunning-Gruppe\nDer Trailtreff Flims Laax ist ein Erlebnislauf in alpinem Gelände. Unsere Runden dauern zwischen 1.5 und 2.5 Stunden (15 bis 25 km) und finden wöchentlich am Sonntagvormittag das ganze Jahr hindurch statt. Wir teilen die Stärkeklassen flexibel ein. Anmelden musst du dich nicht\, sei einfach pünktlich um 10.00 Uhr bei den Bergbahnen Flims. Du kannst ca. 90 Min. am Stücklaufen und hast gute Laufschuhe? Dann auf den Trail\, fertig\, los!
URL:https://graubuendentrailrun.ch/event/trailtreff_flims/2027-01-10/
LOCATION:Bergbahn Flims\, Via dil Crest\, Flims\, GR\, 7017\, Switzerland
CATEGORIES:Trailtreff
END:VEVENT
BEGIN:VEVENT
DTSTART;TZID=Europe/Zurich:20270117T100000
DTEND;TZID=Europe/Zurich:20270117T120000
DTSTAMP:20260425T122350
CREATED:20240116T161714Z
LAST-MODIFIED:20250520T073456Z
UID:10007884-1800180000-1800187200@graubuendentrailrun.ch
SUMMARY:Trailtreff Flims Laax
DESCRIPTION:#trailtreff – Graubündens öffentliche Trailrunning-Gruppe\nDer Trailtreff Flims Laax ist ein Erlebnislauf in alpinem Gelände. Unsere Runden dauern zwischen 1.5 und 2.5 Stunden (15 bis 25 km) und finden wöchentlich am Sonntagvormittag das ganze Jahr hindurch statt. Wir teilen die Stärkeklassen flexibel ein. Anmelden musst du dich nicht\, sei einfach pünktlich um 10.00 Uhr bei den Bergbahnen Flims. Du kannst ca. 90 Min. am Stücklaufen und hast gute Laufschuhe? Dann auf den Trail\, fertig\, los!
URL:https://graubuendentrailrun.ch/event/trailtreff_flims/2027-01-17/
LOCATION:Bergbahn Flims\, Via dil Crest\, Flims\, GR\, 7017\, Switzerland
CATEGORIES:Trailtreff
END:VEVENT
BEGIN:VEVENT
DTSTART;TZID=Europe/Zurich:20270124T100000
DTEND;TZID=Europe/Zurich:20270124T120000
DTSTAMP:20260425T122350
CREATED:20240116T161714Z
LAST-MODIFIED:20250520T073456Z
UID:10007885-1800784800-1800792000@graubuendentrailrun.ch
SUMMARY:Trailtreff Flims Laax
DESCRIPTION:#trailtreff – Graubündens öffentliche Trailrunning-Gruppe\nDer Trailtreff Flims Laax ist ein Erlebnislauf in alpinem Gelände. Unsere Runden dauern zwischen 1.5 und 2.5 Stunden (15 bis 25 km) und finden wöchentlich am Sonntagvormittag das ganze Jahr hindurch statt. Wir teilen die Stärkeklassen flexibel ein. Anmelden musst du dich nicht\, sei einfach pünktlich um 10.00 Uhr bei den Bergbahnen Flims. Du kannst ca. 90 Min. am Stücklaufen und hast gute Laufschuhe? Dann auf den Trail\, fertig\, los!
URL:https://graubuendentrailrun.ch/event/trailtreff_flims/2027-01-24/
LOCATION:Bergbahn Flims\, Via dil Crest\, Flims\, GR\, 7017\, Switzerland
CATEGORIES:Trailtreff
END:VEVENT
BEGIN:VEVENT
DTSTART;TZID=Europe/Zurich:20270131T100000
DTEND;TZID=Europe/Zurich:20270131T120000
DTSTAMP:20260425T122350
CREATED:20240116T161714Z
LAST-MODIFIED:20250520T073456Z
UID:10007886-1801389600-1801396800@graubuendentrailrun.ch
SUMMARY:Trailtreff Flims Laax
DESCRIPTION:#trailtreff – Graubündens öffentliche Trailrunning-Gruppe\nDer Trailtreff Flims Laax ist ein Erlebnislauf in alpinem Gelände. Unsere Runden dauern zwischen 1.5 und 2.5 Stunden (15 bis 25 km) und finden wöchentlich am Sonntagvormittag das ganze Jahr hindurch statt. Wir teilen die Stärkeklassen flexibel ein. Anmelden musst du dich nicht\, sei einfach pünktlich um 10.00 Uhr bei den Bergbahnen Flims. Du kannst ca. 90 Min. am Stücklaufen und hast gute Laufschuhe? Dann auf den Trail\, fertig\, los!
URL:https://graubuendentrailrun.ch/event/trailtreff_flims/2027-01-31/
LOCATION:Bergbahn Flims\, Via dil Crest\, Flims\, GR\, 7017\, Switzerland
CATEGORIES:Trailtreff
END:VEVENT
BEGIN:VEVENT
DTSTART;TZID=Europe/Zurich:20270207T100000
DTEND;TZID=Europe/Zurich:20270207T120000
DTSTAMP:20260425T122350
CREATED:20240116T161714Z
LAST-MODIFIED:20250520T073456Z
UID:10007887-1801994400-1802001600@graubuendentrailrun.ch
SUMMARY:Trailtreff Flims Laax
DESCRIPTION:#trailtreff – Graubündens öffentliche Trailrunning-Gruppe\nDer Trailtreff Flims Laax ist ein Erlebnislauf in alpinem Gelände. Unsere Runden dauern zwischen 1.5 und 2.5 Stunden (15 bis 25 km) und finden wöchentlich am Sonntagvormittag das ganze Jahr hindurch statt. Wir teilen die Stärkeklassen flexibel ein. Anmelden musst du dich nicht\, sei einfach pünktlich um 10.00 Uhr bei den Bergbahnen Flims. Du kannst ca. 90 Min. am Stücklaufen und hast gute Laufschuhe? Dann auf den Trail\, fertig\, los!
URL:https://graubuendentrailrun.ch/event/trailtreff_flims/2027-02-07/
LOCATION:Bergbahn Flims\, Via dil Crest\, Flims\, GR\, 7017\, Switzerland
CATEGORIES:Trailtreff
END:VEVENT
BEGIN:VEVENT
DTSTART;TZID=Europe/Zurich:20270214T100000
DTEND;TZID=Europe/Zurich:20270214T120000
DTSTAMP:20260425T122350
CREATED:20240116T161714Z
LAST-MODIFIED:20250520T073456Z
UID:10007888-1802599200-1802606400@graubuendentrailrun.ch
SUMMARY:Trailtreff Flims Laax
DESCRIPTION:#trailtreff – Graubündens öffentliche Trailrunning-Gruppe\nDer Trailtreff Flims Laax ist ein Erlebnislauf in alpinem Gelände. Unsere Runden dauern zwischen 1.5 und 2.5 Stunden (15 bis 25 km) und finden wöchentlich am Sonntagvormittag das ganze Jahr hindurch statt. Wir teilen die Stärkeklassen flexibel ein. Anmelden musst du dich nicht\, sei einfach pünktlich um 10.00 Uhr bei den Bergbahnen Flims. Du kannst ca. 90 Min. am Stücklaufen und hast gute Laufschuhe? Dann auf den Trail\, fertig\, los!
URL:https://graubuendentrailrun.ch/event/trailtreff_flims/2027-02-14/
LOCATION:Bergbahn Flims\, Via dil Crest\, Flims\, GR\, 7017\, Switzerland
CATEGORIES:Trailtreff
END:VEVENT
BEGIN:VEVENT
DTSTART;TZID=Europe/Zurich:20270221T100000
DTEND;TZID=Europe/Zurich:20270221T120000
DTSTAMP:20260425T122350
CREATED:20240116T161714Z
LAST-MODIFIED:20250520T073456Z
UID:10007889-1803204000-1803211200@graubuendentrailrun.ch
SUMMARY:Trailtreff Flims Laax
DESCRIPTION:#trailtreff – Graubündens öffentliche Trailrunning-Gruppe\nDer Trailtreff Flims Laax ist ein Erlebnislauf in alpinem Gelände. Unsere Runden dauern zwischen 1.5 und 2.5 Stunden (15 bis 25 km) und finden wöchentlich am Sonntagvormittag das ganze Jahr hindurch statt. Wir teilen die Stärkeklassen flexibel ein. Anmelden musst du dich nicht\, sei einfach pünktlich um 10.00 Uhr bei den Bergbahnen Flims. Du kannst ca. 90 Min. am Stücklaufen und hast gute Laufschuhe? Dann auf den Trail\, fertig\, los!
URL:https://graubuendentrailrun.ch/event/trailtreff_flims/2027-02-21/
LOCATION:Bergbahn Flims\, Via dil Crest\, Flims\, GR\, 7017\, Switzerland
CATEGORIES:Trailtreff
END:VEVENT
BEGIN:VEVENT
DTSTART;TZID=Europe/Zurich:20270228T100000
DTEND;TZID=Europe/Zurich:20270228T120000
DTSTAMP:20260425T122350
CREATED:20240116T161714Z
LAST-MODIFIED:20250520T073456Z
UID:10007890-1803808800-1803816000@graubuendentrailrun.ch
SUMMARY:Trailtreff Flims Laax
DESCRIPTION:#trailtreff – Graubündens öffentliche Trailrunning-Gruppe\nDer Trailtreff Flims Laax ist ein Erlebnislauf in alpinem Gelände. Unsere Runden dauern zwischen 1.5 und 2.5 Stunden (15 bis 25 km) und finden wöchentlich am Sonntagvormittag das ganze Jahr hindurch statt. Wir teilen die Stärkeklassen flexibel ein. Anmelden musst du dich nicht\, sei einfach pünktlich um 10.00 Uhr bei den Bergbahnen Flims. Du kannst ca. 90 Min. am Stücklaufen und hast gute Laufschuhe? Dann auf den Trail\, fertig\, los!
URL:https://graubuendentrailrun.ch/event/trailtreff_flims/2027-02-28/
LOCATION:Bergbahn Flims\, Via dil Crest\, Flims\, GR\, 7017\, Switzerland
CATEGORIES:Trailtreff
END:VEVENT
BEGIN:VEVENT
DTSTART;TZID=Europe/Zurich:20270307T100000
DTEND;TZID=Europe/Zurich:20270307T120000
DTSTAMP:20260425T122350
CREATED:20240116T161714Z
LAST-MODIFIED:20250520T073456Z
UID:10007891-1804413600-1804420800@graubuendentrailrun.ch
SUMMARY:Trailtreff Flims Laax
DESCRIPTION:#trailtreff – Graubündens öffentliche Trailrunning-Gruppe\nDer Trailtreff Flims Laax ist ein Erlebnislauf in alpinem Gelände. Unsere Runden dauern zwischen 1.5 und 2.5 Stunden (15 bis 25 km) und finden wöchentlich am Sonntagvormittag das ganze Jahr hindurch statt. Wir teilen die Stärkeklassen flexibel ein. Anmelden musst du dich nicht\, sei einfach pünktlich um 10.00 Uhr bei den Bergbahnen Flims. Du kannst ca. 90 Min. am Stücklaufen und hast gute Laufschuhe? Dann auf den Trail\, fertig\, los!
URL:https://graubuendentrailrun.ch/event/trailtreff_flims/2027-03-07/
LOCATION:Bergbahn Flims\, Via dil Crest\, Flims\, GR\, 7017\, Switzerland
CATEGORIES:Trailtreff
END:VEVENT
BEGIN:VEVENT
DTSTART;TZID=Europe/Zurich:20270314T100000
DTEND;TZID=Europe/Zurich:20270314T120000
DTSTAMP:20260425T122350
CREATED:20240116T161714Z
LAST-MODIFIED:20250520T073456Z
UID:10007892-1805018400-1805025600@graubuendentrailrun.ch
SUMMARY:Trailtreff Flims Laax
DESCRIPTION:#trailtreff – Graubündens öffentliche Trailrunning-Gruppe\nDer Trailtreff Flims Laax ist ein Erlebnislauf in alpinem Gelände. Unsere Runden dauern zwischen 1.5 und 2.5 Stunden (15 bis 25 km) und finden wöchentlich am Sonntagvormittag das ganze Jahr hindurch statt. Wir teilen die Stärkeklassen flexibel ein. Anmelden musst du dich nicht\, sei einfach pünktlich um 10.00 Uhr bei den Bergbahnen Flims. Du kannst ca. 90 Min. am Stücklaufen und hast gute Laufschuhe? Dann auf den Trail\, fertig\, los!
URL:https://graubuendentrailrun.ch/event/trailtreff_flims/2027-03-14/
LOCATION:Bergbahn Flims\, Via dil Crest\, Flims\, GR\, 7017\, Switzerland
CATEGORIES:Trailtreff
END:VEVENT
BEGIN:VEVENT
DTSTART;TZID=Europe/Zurich:20270321T100000
DTEND;TZID=Europe/Zurich:20270321T120000
DTSTAMP:20260425T122350
CREATED:20240116T161714Z
LAST-MODIFIED:20250520T073456Z
UID:10007893-1805623200-1805630400@graubuendentrailrun.ch
SUMMARY:Trailtreff Flims Laax
DESCRIPTION:#trailtreff – Graubündens öffentliche Trailrunning-Gruppe\nDer Trailtreff Flims Laax ist ein Erlebnislauf in alpinem Gelände. Unsere Runden dauern zwischen 1.5 und 2.5 Stunden (15 bis 25 km) und finden wöchentlich am Sonntagvormittag das ganze Jahr hindurch statt. Wir teilen die Stärkeklassen flexibel ein. Anmelden musst du dich nicht\, sei einfach pünktlich um 10.00 Uhr bei den Bergbahnen Flims. Du kannst ca. 90 Min. am Stücklaufen und hast gute Laufschuhe? Dann auf den Trail\, fertig\, los!
URL:https://graubuendentrailrun.ch/event/trailtreff_flims/2027-03-21/
LOCATION:Bergbahn Flims\, Via dil Crest\, Flims\, GR\, 7017\, Switzerland
CATEGORIES:Trailtreff
END:VEVENT
BEGIN:VEVENT
DTSTART;TZID=Europe/Zurich:20270328T100000
DTEND;TZID=Europe/Zurich:20270328T120000
DTSTAMP:20260425T122350
CREATED:20240116T161714Z
LAST-MODIFIED:20250520T073456Z
UID:10007894-1806228000-1806235200@graubuendentrailrun.ch
SUMMARY:Trailtreff Flims Laax
DESCRIPTION:#trailtreff – Graubündens öffentliche Trailrunning-Gruppe\nDer Trailtreff Flims Laax ist ein Erlebnislauf in alpinem Gelände. Unsere Runden dauern zwischen 1.5 und 2.5 Stunden (15 bis 25 km) und finden wöchentlich am Sonntagvormittag das ganze Jahr hindurch statt. Wir teilen die Stärkeklassen flexibel ein. Anmelden musst du dich nicht\, sei einfach pünktlich um 10.00 Uhr bei den Bergbahnen Flims. Du kannst ca. 90 Min. am Stücklaufen und hast gute Laufschuhe? Dann auf den Trail\, fertig\, los!
URL:https://graubuendentrailrun.ch/event/trailtreff_flims/2027-03-28/
LOCATION:Bergbahn Flims\, Via dil Crest\, Flims\, GR\, 7017\, Switzerland
CATEGORIES:Trailtreff
END:VEVENT
BEGIN:VEVENT
DTSTART;TZID=Europe/Zurich:20270404T100000
DTEND;TZID=Europe/Zurich:20270404T120000
DTSTAMP:20260425T122350
CREATED:20240116T161714Z
LAST-MODIFIED:20250520T073456Z
UID:10007895-1806832800-1806840000@graubuendentrailrun.ch
SUMMARY:Trailtreff Flims Laax
DESCRIPTION:#trailtreff – Graubündens öffentliche Trailrunning-Gruppe\nDer Trailtreff Flims Laax ist ein Erlebnislauf in alpinem Gelände. Unsere Runden dauern zwischen 1.5 und 2.5 Stunden (15 bis 25 km) und finden wöchentlich am Sonntagvormittag das ganze Jahr hindurch statt. Wir teilen die Stärkeklassen flexibel ein. Anmelden musst du dich nicht\, sei einfach pünktlich um 10.00 Uhr bei den Bergbahnen Flims. Du kannst ca. 90 Min. am Stücklaufen und hast gute Laufschuhe? Dann auf den Trail\, fertig\, los!
URL:https://graubuendentrailrun.ch/event/trailtreff_flims/2027-04-04/
LOCATION:Bergbahn Flims\, Via dil Crest\, Flims\, GR\, 7017\, Switzerland
CATEGORIES:Trailtreff
END:VEVENT
BEGIN:VEVENT
DTSTART;TZID=Europe/Zurich:20270411T100000
DTEND;TZID=Europe/Zurich:20270411T120000
DTSTAMP:20260425T122350
CREATED:20240116T161714Z
LAST-MODIFIED:20250520T073456Z
UID:10007896-1807437600-1807444800@graubuendentrailrun.ch
SUMMARY:Trailtreff Flims Laax
DESCRIPTION:#trailtreff – Graubündens öffentliche Trailrunning-Gruppe\nDer Trailtreff Flims Laax ist ein Erlebnislauf in alpinem Gelände. Unsere Runden dauern zwischen 1.5 und 2.5 Stunden (15 bis 25 km) und finden wöchentlich am Sonntagvormittag das ganze Jahr hindurch statt. Wir teilen die Stärkeklassen flexibel ein. Anmelden musst du dich nicht\, sei einfach pünktlich um 10.00 Uhr bei den Bergbahnen Flims. Du kannst ca. 90 Min. am Stücklaufen und hast gute Laufschuhe? Dann auf den Trail\, fertig\, los!
URL:https://graubuendentrailrun.ch/event/trailtreff_flims/2027-04-11/
LOCATION:Bergbahn Flims\, Via dil Crest\, Flims\, GR\, 7017\, Switzerland
CATEGORIES:Trailtreff
END:VEVENT
BEGIN:VEVENT
DTSTART;TZID=Europe/Zurich:20270418T100000
DTEND;TZID=Europe/Zurich:20270418T120000
DTSTAMP:20260425T122350
CREATED:20240116T161714Z
LAST-MODIFIED:20250520T073456Z
UID:10007897-1808042400-1808049600@graubuendentrailrun.ch
SUMMARY:Trailtreff Flims Laax
DESCRIPTION:#trailtreff – Graubündens öffentliche Trailrunning-Gruppe\nDer Trailtreff Flims Laax ist ein Erlebnislauf in alpinem Gelände. Unsere Runden dauern zwischen 1.5 und 2.5 Stunden (15 bis 25 km) und finden wöchentlich am Sonntagvormittag das ganze Jahr hindurch statt. Wir teilen die Stärkeklassen flexibel ein. Anmelden musst du dich nicht\, sei einfach pünktlich um 10.00 Uhr bei den Bergbahnen Flims. Du kannst ca. 90 Min. am Stücklaufen und hast gute Laufschuhe? Dann auf den Trail\, fertig\, los!
URL:https://graubuendentrailrun.ch/event/trailtreff_flims/2027-04-18/
LOCATION:Bergbahn Flims\, Via dil Crest\, Flims\, GR\, 7017\, Switzerland
CATEGORIES:Trailtreff
END:VEVENT
BEGIN:VEVENT
DTSTART;TZID=Europe/Zurich:20270425T100000
DTEND;TZID=Europe/Zurich:20270425T120000
DTSTAMP:20260425T122350
CREATED:20240116T161714Z
LAST-MODIFIED:20250520T073456Z
UID:10007898-1808647200-1808654400@graubuendentrailrun.ch
SUMMARY:Trailtreff Flims Laax
DESCRIPTION:#trailtreff – Graubündens öffentliche Trailrunning-Gruppe\nDer Trailtreff Flims Laax ist ein Erlebnislauf in alpinem Gelände. Unsere Runden dauern zwischen 1.5 und 2.5 Stunden (15 bis 25 km) und finden wöchentlich am Sonntagvormittag das ganze Jahr hindurch statt. Wir teilen die Stärkeklassen flexibel ein. Anmelden musst du dich nicht\, sei einfach pünktlich um 10.00 Uhr bei den Bergbahnen Flims. Du kannst ca. 90 Min. am Stücklaufen und hast gute Laufschuhe? Dann auf den Trail\, fertig\, los!
URL:https://graubuendentrailrun.ch/event/trailtreff_flims/2027-04-25/
LOCATION:Bergbahn Flims\, Via dil Crest\, Flims\, GR\, 7017\, Switzerland
CATEGORIES:Trailtreff
END:VEVENT
BEGIN:VEVENT
DTSTART;TZID=Europe/Zurich:20270502T100000
DTEND;TZID=Europe/Zurich:20270502T120000
DTSTAMP:20260425T122350
CREATED:20240116T161714Z
LAST-MODIFIED:20250520T073456Z
UID:10007899-1809252000-1809259200@graubuendentrailrun.ch
SUMMARY:Trailtreff Flims Laax
DESCRIPTION:#trailtreff – Graubündens öffentliche Trailrunning-Gruppe\nDer Trailtreff Flims Laax ist ein Erlebnislauf in alpinem Gelände. Unsere Runden dauern zwischen 1.5 und 2.5 Stunden (15 bis 25 km) und finden wöchentlich am Sonntagvormittag das ganze Jahr hindurch statt. Wir teilen die Stärkeklassen flexibel ein. Anmelden musst du dich nicht\, sei einfach pünktlich um 10.00 Uhr bei den Bergbahnen Flims. Du kannst ca. 90 Min. am Stücklaufen und hast gute Laufschuhe? Dann auf den Trail\, fertig\, los!
URL:https://graubuendentrailrun.ch/event/trailtreff_flims/2027-05-02/
LOCATION:Bergbahn Flims\, Via dil Crest\, Flims\, GR\, 7017\, Switzerland
CATEGORIES:Trailtreff
END:VEVENT
BEGIN:VEVENT
DTSTART;TZID=Europe/Zurich:20270509T100000
DTEND;TZID=Europe/Zurich:20270509T120000
DTSTAMP:20260425T122350
CREATED:20240116T161714Z
LAST-MODIFIED:20250520T073456Z
UID:10007900-1809856800-1809864000@graubuendentrailrun.ch
SUMMARY:Trailtreff Flims Laax
DESCRIPTION:#trailtreff – Graubündens öffentliche Trailrunning-Gruppe\nDer Trailtreff Flims Laax ist ein Erlebnislauf in alpinem Gelände. Unsere Runden dauern zwischen 1.5 und 2.5 Stunden (15 bis 25 km) und finden wöchentlich am Sonntagvormittag das ganze Jahr hindurch statt. Wir teilen die Stärkeklassen flexibel ein. Anmelden musst du dich nicht\, sei einfach pünktlich um 10.00 Uhr bei den Bergbahnen Flims. Du kannst ca. 90 Min. am Stücklaufen und hast gute Laufschuhe? Dann auf den Trail\, fertig\, los!
URL:https://graubuendentrailrun.ch/event/trailtreff_flims/2027-05-09/
LOCATION:Bergbahn Flims\, Via dil Crest\, Flims\, GR\, 7017\, Switzerland
CATEGORIES:Trailtreff
END:VEVENT
BEGIN:VEVENT
DTSTART;TZID=Europe/Zurich:20270516T100000
DTEND;TZID=Europe/Zurich:20270516T120000
DTSTAMP:20260425T122350
CREATED:20240116T161714Z
LAST-MODIFIED:20250520T073456Z
UID:10007901-1810461600-1810468800@graubuendentrailrun.ch
SUMMARY:Trailtreff Flims Laax
DESCRIPTION:#trailtreff – Graubündens öffentliche Trailrunning-Gruppe\nDer Trailtreff Flims Laax ist ein Erlebnislauf in alpinem Gelände. Unsere Runden dauern zwischen 1.5 und 2.5 Stunden (15 bis 25 km) und finden wöchentlich am Sonntagvormittag das ganze Jahr hindurch statt. Wir teilen die Stärkeklassen flexibel ein. Anmelden musst du dich nicht\, sei einfach pünktlich um 10.00 Uhr bei den Bergbahnen Flims. Du kannst ca. 90 Min. am Stücklaufen und hast gute Laufschuhe? Dann auf den Trail\, fertig\, los!
URL:https://graubuendentrailrun.ch/event/trailtreff_flims/2027-05-16/
LOCATION:Bergbahn Flims\, Via dil Crest\, Flims\, GR\, 7017\, Switzerland
CATEGORIES:Trailtreff
END:VEVENT
BEGIN:VEVENT
DTSTART;TZID=Europe/Zurich:20270523T100000
DTEND;TZID=Europe/Zurich:20270523T120000
DTSTAMP:20260425T122350
CREATED:20240116T161714Z
LAST-MODIFIED:20250520T073456Z
UID:10007902-1811066400-1811073600@graubuendentrailrun.ch
SUMMARY:Trailtreff Flims Laax
DESCRIPTION:#trailtreff – Graubündens öffentliche Trailrunning-Gruppe\nDer Trailtreff Flims Laax ist ein Erlebnislauf in alpinem Gelände. Unsere Runden dauern zwischen 1.5 und 2.5 Stunden (15 bis 25 km) und finden wöchentlich am Sonntagvormittag das ganze Jahr hindurch statt. Wir teilen die Stärkeklassen flexibel ein. Anmelden musst du dich nicht\, sei einfach pünktlich um 10.00 Uhr bei den Bergbahnen Flims. Du kannst ca. 90 Min. am Stücklaufen und hast gute Laufschuhe? Dann auf den Trail\, fertig\, los!
URL:https://graubuendentrailrun.ch/event/trailtreff_flims/2027-05-23/
LOCATION:Bergbahn Flims\, Via dil Crest\, Flims\, GR\, 7017\, Switzerland
CATEGORIES:Trailtreff
END:VEVENT
BEGIN:VEVENT
DTSTART;TZID=Europe/Zurich:20270530T100000
DTEND;TZID=Europe/Zurich:20270530T120000
DTSTAMP:20260425T122350
CREATED:20240116T161714Z
LAST-MODIFIED:20250520T073456Z
UID:10007903-1811671200-1811678400@graubuendentrailrun.ch
SUMMARY:Trailtreff Flims Laax
DESCRIPTION:#trailtreff – Graubündens öffentliche Trailrunning-Gruppe\nDer Trailtreff Flims Laax ist ein Erlebnislauf in alpinem Gelände. Unsere Runden dauern zwischen 1.5 und 2.5 Stunden (15 bis 25 km) und finden wöchentlich am Sonntagvormittag das ganze Jahr hindurch statt. Wir teilen die Stärkeklassen flexibel ein. Anmelden musst du dich nicht\, sei einfach pünktlich um 10.00 Uhr bei den Bergbahnen Flims. Du kannst ca. 90 Min. am Stücklaufen und hast gute Laufschuhe? Dann auf den Trail\, fertig\, los!
URL:https://graubuendentrailrun.ch/event/trailtreff_flims/2027-05-30/
LOCATION:Bergbahn Flims\, Via dil Crest\, Flims\, GR\, 7017\, Switzerland
CATEGORIES:Trailtreff
END:VEVENT
BEGIN:VEVENT
DTSTART;TZID=Europe/Zurich:20270606T100000
DTEND;TZID=Europe/Zurich:20270606T120000
DTSTAMP:20260425T122350
CREATED:20240116T161714Z
LAST-MODIFIED:20250520T073456Z
UID:10007904-1812276000-1812283200@graubuendentrailrun.ch
SUMMARY:Trailtreff Flims Laax
DESCRIPTION:#trailtreff – Graubündens öffentliche Trailrunning-Gruppe\nDer Trailtreff Flims Laax ist ein Erlebnislauf in alpinem Gelände. Unsere Runden dauern zwischen 1.5 und 2.5 Stunden (15 bis 25 km) und finden wöchentlich am Sonntagvormittag das ganze Jahr hindurch statt. Wir teilen die Stärkeklassen flexibel ein. Anmelden musst du dich nicht\, sei einfach pünktlich um 10.00 Uhr bei den Bergbahnen Flims. Du kannst ca. 90 Min. am Stücklaufen und hast gute Laufschuhe? Dann auf den Trail\, fertig\, los!
URL:https://graubuendentrailrun.ch/event/trailtreff_flims/2027-06-06/
LOCATION:Bergbahn Flims\, Via dil Crest\, Flims\, GR\, 7017\, Switzerland
CATEGORIES:Trailtreff
END:VEVENT
BEGIN:VEVENT
DTSTART;TZID=Europe/Zurich:20270613T100000
DTEND;TZID=Europe/Zurich:20270613T120000
DTSTAMP:20260425T122350
CREATED:20240116T161714Z
LAST-MODIFIED:20250520T073456Z
UID:10007905-1812880800-1812888000@graubuendentrailrun.ch
SUMMARY:Trailtreff Flims Laax
DESCRIPTION:#trailtreff – Graubündens öffentliche Trailrunning-Gruppe\nDer Trailtreff Flims Laax ist ein Erlebnislauf in alpinem Gelände. Unsere Runden dauern zwischen 1.5 und 2.5 Stunden (15 bis 25 km) und finden wöchentlich am Sonntagvormittag das ganze Jahr hindurch statt. Wir teilen die Stärkeklassen flexibel ein. Anmelden musst du dich nicht\, sei einfach pünktlich um 10.00 Uhr bei den Bergbahnen Flims. Du kannst ca. 90 Min. am Stücklaufen und hast gute Laufschuhe? Dann auf den Trail\, fertig\, los!
URL:https://graubuendentrailrun.ch/event/trailtreff_flims/2027-06-13/
LOCATION:Bergbahn Flims\, Via dil Crest\, Flims\, GR\, 7017\, Switzerland
CATEGORIES:Trailtreff
END:VEVENT
BEGIN:VEVENT
DTSTART;TZID=Europe/Zurich:20270620T100000
DTEND;TZID=Europe/Zurich:20270620T120000
DTSTAMP:20260425T122350
CREATED:20240116T161714Z
LAST-MODIFIED:20250520T073456Z
UID:10007906-1813485600-1813492800@graubuendentrailrun.ch
SUMMARY:Trailtreff Flims Laax
DESCRIPTION:#trailtreff – Graubündens öffentliche Trailrunning-Gruppe\nDer Trailtreff Flims Laax ist ein Erlebnislauf in alpinem Gelände. Unsere Runden dauern zwischen 1.5 und 2.5 Stunden (15 bis 25 km) und finden wöchentlich am Sonntagvormittag das ganze Jahr hindurch statt. Wir teilen die Stärkeklassen flexibel ein. Anmelden musst du dich nicht\, sei einfach pünktlich um 10.00 Uhr bei den Bergbahnen Flims. Du kannst ca. 90 Min. am Stücklaufen und hast gute Laufschuhe? Dann auf den Trail\, fertig\, los!
URL:https://graubuendentrailrun.ch/event/trailtreff_flims/2027-06-20/
LOCATION:Bergbahn Flims\, Via dil Crest\, Flims\, GR\, 7017\, Switzerland
CATEGORIES:Trailtreff
END:VEVENT
BEGIN:VEVENT
DTSTART;TZID=Europe/Zurich:20270627T100000
DTEND;TZID=Europe/Zurich:20270627T120000
DTSTAMP:20260425T122350
CREATED:20240116T161714Z
LAST-MODIFIED:20250520T073456Z
UID:10007907-1814090400-1814097600@graubuendentrailrun.ch
SUMMARY:Trailtreff Flims Laax
DESCRIPTION:#trailtreff – Graubündens öffentliche Trailrunning-Gruppe\nDer Trailtreff Flims Laax ist ein Erlebnislauf in alpinem Gelände. Unsere Runden dauern zwischen 1.5 und 2.5 Stunden (15 bis 25 km) und finden wöchentlich am Sonntagvormittag das ganze Jahr hindurch statt. Wir teilen die Stärkeklassen flexibel ein. Anmelden musst du dich nicht\, sei einfach pünktlich um 10.00 Uhr bei den Bergbahnen Flims. Du kannst ca. 90 Min. am Stücklaufen und hast gute Laufschuhe? Dann auf den Trail\, fertig\, los!
URL:https://graubuendentrailrun.ch/event/trailtreff_flims/2027-06-27/
LOCATION:Bergbahn Flims\, Via dil Crest\, Flims\, GR\, 7017\, Switzerland
CATEGORIES:Trailtreff
END:VEVENT
BEGIN:VEVENT
DTSTART;TZID=Europe/Zurich:20270704T100000
DTEND;TZID=Europe/Zurich:20270704T120000
DTSTAMP:20260425T122350
CREATED:20240116T161714Z
LAST-MODIFIED:20250520T073456Z
UID:10007908-1814695200-1814702400@graubuendentrailrun.ch
SUMMARY:Trailtreff Flims Laax
DESCRIPTION:#trailtreff – Graubündens öffentliche Trailrunning-Gruppe\nDer Trailtreff Flims Laax ist ein Erlebnislauf in alpinem Gelände. Unsere Runden dauern zwischen 1.5 und 2.5 Stunden (15 bis 25 km) und finden wöchentlich am Sonntagvormittag das ganze Jahr hindurch statt. Wir teilen die Stärkeklassen flexibel ein. Anmelden musst du dich nicht\, sei einfach pünktlich um 10.00 Uhr bei den Bergbahnen Flims. Du kannst ca. 90 Min. am Stücklaufen und hast gute Laufschuhe? Dann auf den Trail\, fertig\, los!
URL:https://graubuendentrailrun.ch/event/trailtreff_flims/2027-07-04/
LOCATION:Bergbahn Flims\, Via dil Crest\, Flims\, GR\, 7017\, Switzerland
CATEGORIES:Trailtreff
END:VEVENT
BEGIN:VEVENT
DTSTART;TZID=Europe/Zurich:20270711T100000
DTEND;TZID=Europe/Zurich:20270711T120000
DTSTAMP:20260425T122350
CREATED:20240116T161714Z
LAST-MODIFIED:20250520T073456Z
UID:10007909-1815300000-1815307200@graubuendentrailrun.ch
SUMMARY:Trailtreff Flims Laax
DESCRIPTION:#trailtreff – Graubündens öffentliche Trailrunning-Gruppe\nDer Trailtreff Flims Laax ist ein Erlebnislauf in alpinem Gelände. Unsere Runden dauern zwischen 1.5 und 2.5 Stunden (15 bis 25 km) und finden wöchentlich am Sonntagvormittag das ganze Jahr hindurch statt. Wir teilen die Stärkeklassen flexibel ein. Anmelden musst du dich nicht\, sei einfach pünktlich um 10.00 Uhr bei den Bergbahnen Flims. Du kannst ca. 90 Min. am Stücklaufen und hast gute Laufschuhe? Dann auf den Trail\, fertig\, los!
URL:https://graubuendentrailrun.ch/event/trailtreff_flims/2027-07-11/
LOCATION:Bergbahn Flims\, Via dil Crest\, Flims\, GR\, 7017\, Switzerland
CATEGORIES:Trailtreff
END:VEVENT
BEGIN:VEVENT
DTSTART;TZID=Europe/Zurich:20270718T100000
DTEND;TZID=Europe/Zurich:20270718T120000
DTSTAMP:20260425T122350
CREATED:20240116T161714Z
LAST-MODIFIED:20250520T073456Z
UID:10007910-1815904800-1815912000@graubuendentrailrun.ch
SUMMARY:Trailtreff Flims Laax
DESCRIPTION:#trailtreff – Graubündens öffentliche Trailrunning-Gruppe\nDer Trailtreff Flims Laax ist ein Erlebnislauf in alpinem Gelände. Unsere Runden dauern zwischen 1.5 und 2.5 Stunden (15 bis 25 km) und finden wöchentlich am Sonntagvormittag das ganze Jahr hindurch statt. Wir teilen die Stärkeklassen flexibel ein. Anmelden musst du dich nicht\, sei einfach pünktlich um 10.00 Uhr bei den Bergbahnen Flims. Du kannst ca. 90 Min. am Stücklaufen und hast gute Laufschuhe? Dann auf den Trail\, fertig\, los!
URL:https://graubuendentrailrun.ch/event/trailtreff_flims/2027-07-18/
LOCATION:Bergbahn Flims\, Via dil Crest\, Flims\, GR\, 7017\, Switzerland
CATEGORIES:Trailtreff
END:VEVENT
BEGIN:VEVENT
DTSTART;TZID=Europe/Zurich:20270725T100000
DTEND;TZID=Europe/Zurich:20270725T120000
DTSTAMP:20260425T122350
CREATED:20240116T161714Z
LAST-MODIFIED:20250520T073456Z
UID:10007911-1816509600-1816516800@graubuendentrailrun.ch
SUMMARY:Trailtreff Flims Laax
DESCRIPTION:#trailtreff – Graubündens öffentliche Trailrunning-Gruppe\nDer Trailtreff Flims Laax ist ein Erlebnislauf in alpinem Gelände. Unsere Runden dauern zwischen 1.5 und 2.5 Stunden (15 bis 25 km) und finden wöchentlich am Sonntagvormittag das ganze Jahr hindurch statt. Wir teilen die Stärkeklassen flexibel ein. Anmelden musst du dich nicht\, sei einfach pünktlich um 10.00 Uhr bei den Bergbahnen Flims. Du kannst ca. 90 Min. am Stücklaufen und hast gute Laufschuhe? Dann auf den Trail\, fertig\, los!
URL:https://graubuendentrailrun.ch/event/trailtreff_flims/2027-07-25/
LOCATION:Bergbahn Flims\, Via dil Crest\, Flims\, GR\, 7017\, Switzerland
CATEGORIES:Trailtreff
END:VEVENT
END:VCALENDAR