BEGIN:VCALENDAR
VERSION:2.0
PRODID:-//graubünden Trailrun - ECPv6.15.20//NONSGML v1.0//EN
CALSCALE:GREGORIAN
METHOD:PUBLISH
X-ORIGINAL-URL:https://graubuendentrailrun.ch
X-WR-CALDESC:Veranstaltungen für graubünden Trailrun
REFRESH-INTERVAL;VALUE=DURATION:PT1H
X-Robots-Tag:noindex
X-PUBLISHED-TTL:PT1H
BEGIN:VTIMEZONE
TZID:Europe/Zurich
BEGIN:DAYLIGHT
TZOFFSETFROM:+0100
TZOFFSETTO:+0200
TZNAME:CEST
DTSTART:20250330T010000
END:DAYLIGHT
BEGIN:STANDARD
TZOFFSETFROM:+0200
TZOFFSETTO:+0100
TZNAME:CET
DTSTART:20251026T010000
END:STANDARD
BEGIN:DAYLIGHT
TZOFFSETFROM:+0100
TZOFFSETTO:+0200
TZNAME:CEST
DTSTART:20260329T010000
END:DAYLIGHT
BEGIN:STANDARD
TZOFFSETFROM:+0200
TZOFFSETTO:+0100
TZNAME:CET
DTSTART:20261025T010000
END:STANDARD
BEGIN:DAYLIGHT
TZOFFSETFROM:+0100
TZOFFSETTO:+0200
TZNAME:CEST
DTSTART:20270328T010000
END:DAYLIGHT
BEGIN:STANDARD
TZOFFSETFROM:+0200
TZOFFSETTO:+0100
TZNAME:CET
DTSTART:20271031T010000
END:STANDARD
END:VTIMEZONE
BEGIN:VEVENT
DTSTART;VALUE=DATE:20260717
DTEND;VALUE=DATE:20260719
DTSTAMP:20260423T060053
CREATED:20210511T093806Z
LAST-MODIFIED:20250731T093123Z
UID:10009539-1784275200-1784394000@graubuendentrailrun.ch
SUMMARY:Engadin Ultra Trail
DESCRIPTION:Discover your Power  \nauf 102km\, 52km\, 23km oder 16km für Trail-Anfänger oder Experten. Vier Trailläufe auf abwechslungsreichen Strecken in ruhigeren – oft noch unentdeckten – Teilen des Oberengadins zwischen Zuoz und Samedan.
URL:https://graubuendentrailrun.ch/event/engadin-ultra-trail/2026-07-17/
LOCATION:Promulins Arena Samedan\, Promulins 12\, Samedan\, 7503\, Switzerland
CATEGORIES:Laufveranstaltungen
ATTACH;FMTTYPE=image/jpeg:https://graubuendentrailrun.ch/wp-content/uploads/2021/07/Engadin_Ultra_Trail_2021.jpg
ORGANIZER;CN="OK Engadin Ultra Trail":MAILTO:info@engadinultratrail.ch
END:VEVENT
END:VCALENDAR