BEGIN:VCALENDAR
VERSION:2.0
PRODID:-//graubünden Trailrun - ECPv6.15.20//NONSGML v1.0//EN
CALSCALE:GREGORIAN
METHOD:PUBLISH
X-ORIGINAL-URL:https://graubuendentrailrun.ch
X-WR-CALDESC:Veranstaltungen für graubünden Trailrun
REFRESH-INTERVAL;VALUE=DURATION:PT1H
X-Robots-Tag:noindex
X-PUBLISHED-TTL:PT1H
BEGIN:VTIMEZONE
TZID:Europe/Zurich
BEGIN:DAYLIGHT
TZOFFSETFROM:+0100
TZOFFSETTO:+0200
TZNAME:CEST
DTSTART:20250330T010000
END:DAYLIGHT
BEGIN:STANDARD
TZOFFSETFROM:+0200
TZOFFSETTO:+0100
TZNAME:CET
DTSTART:20251026T010000
END:STANDARD
BEGIN:DAYLIGHT
TZOFFSETFROM:+0100
TZOFFSETTO:+0200
TZNAME:CEST
DTSTART:20260329T010000
END:DAYLIGHT
BEGIN:STANDARD
TZOFFSETFROM:+0200
TZOFFSETTO:+0100
TZNAME:CET
DTSTART:20261025T010000
END:STANDARD
BEGIN:DAYLIGHT
TZOFFSETFROM:+0100
TZOFFSETTO:+0200
TZNAME:CEST
DTSTART:20270328T010000
END:DAYLIGHT
BEGIN:STANDARD
TZOFFSETFROM:+0200
TZOFFSETTO:+0100
TZNAME:CET
DTSTART:20271031T010000
END:STANDARD
END:VTIMEZONE
BEGIN:VEVENT
DTSTART;VALUE=DATE:20260627
DTEND;VALUE=DATE:20260629
DTSTAMP:20260424T041129
CREATED:20220407T084628Z
LAST-MODIFIED:20250807T121031Z
UID:10004932-1782518400-1782691199@graubuendentrailrun.ch
SUMMARY:Swiss Irontrail
DESCRIPTION:Ein unverwechselbares und einmaliges Trailerlebnis\, in der Umgebung von steilen Berggipfeln\, weiten Landschaften\, Gletschern und Bergseen. Im Herzen von Graubünden\, dem Val Surses. \nT78 – Savognin\n78 km und +/- 4’386 m \nT55 – Savognin\n55 km und +3’835 m / -3’246 m \nT22 – Bivio\n 21.6 km und +/- 1’083 m \nT20 – Savognin\n20.2 km und +/- 821 m
URL:https://graubuendentrailrun.ch/event/swiss-irontrail/
LOCATION:Savognin\, Savognin\, Switzerland
CATEGORIES:Laufveranstaltungen
ATTACH;FMTTYPE=image/jpeg:https://graubuendentrailrun.ch/wp-content/uploads/2022/04/Irontrail.jpg
ORGANIZER;CN="OK Swiss Irontrail":MAILTO:info@irontrail.ch
END:VEVENT
END:VCALENDAR