BEGIN:VCALENDAR
VERSION:2.0
PRODID:-//graubünden Trailrun - ECPv6.15.20//NONSGML v1.0//EN
CALSCALE:GREGORIAN
METHOD:PUBLISH
X-WR-CALNAME:graubünden Trailrun
X-ORIGINAL-URL:https://graubuendentrailrun.ch
X-WR-CALDESC:Veranstaltungen für graubünden Trailrun
REFRESH-INTERVAL;VALUE=DURATION:PT1H
X-Robots-Tag:noindex
X-PUBLISHED-TTL:PT1H
BEGIN:VTIMEZONE
TZID:Europe/Zurich
BEGIN:DAYLIGHT
TZOFFSETFROM:+0100
TZOFFSETTO:+0200
TZNAME:CEST
DTSTART:20200329T010000
END:DAYLIGHT
BEGIN:STANDARD
TZOFFSETFROM:+0200
TZOFFSETTO:+0100
TZNAME:CET
DTSTART:20201025T010000
END:STANDARD
BEGIN:DAYLIGHT
TZOFFSETFROM:+0100
TZOFFSETTO:+0200
TZNAME:CEST
DTSTART:20210328T010000
END:DAYLIGHT
BEGIN:STANDARD
TZOFFSETFROM:+0200
TZOFFSETTO:+0100
TZNAME:CET
DTSTART:20211031T010000
END:STANDARD
BEGIN:DAYLIGHT
TZOFFSETFROM:+0100
TZOFFSETTO:+0200
TZNAME:CEST
DTSTART:20220327T010000
END:DAYLIGHT
BEGIN:STANDARD
TZOFFSETFROM:+0200
TZOFFSETTO:+0100
TZNAME:CET
DTSTART:20221030T010000
END:STANDARD
BEGIN:DAYLIGHT
TZOFFSETFROM:+0100
TZOFFSETTO:+0200
TZNAME:CEST
DTSTART:20230326T010000
END:DAYLIGHT
BEGIN:STANDARD
TZOFFSETFROM:+0200
TZOFFSETTO:+0100
TZNAME:CET
DTSTART:20231029T010000
END:STANDARD
BEGIN:DAYLIGHT
TZOFFSETFROM:+0100
TZOFFSETTO:+0200
TZNAME:CEST
DTSTART:20240331T010000
END:DAYLIGHT
BEGIN:STANDARD
TZOFFSETFROM:+0200
TZOFFSETTO:+0100
TZNAME:CET
DTSTART:20241027T010000
END:STANDARD
BEGIN:DAYLIGHT
TZOFFSETFROM:+0100
TZOFFSETTO:+0200
TZNAME:CEST
DTSTART:20250330T010000
END:DAYLIGHT
BEGIN:STANDARD
TZOFFSETFROM:+0200
TZOFFSETTO:+0100
TZNAME:CET
DTSTART:20251026T010000
END:STANDARD
BEGIN:DAYLIGHT
TZOFFSETFROM:+0100
TZOFFSETTO:+0200
TZNAME:CEST
DTSTART:20260329T010000
END:DAYLIGHT
BEGIN:STANDARD
TZOFFSETFROM:+0200
TZOFFSETTO:+0100
TZNAME:CET
DTSTART:20261025T010000
END:STANDARD
END:VTIMEZONE
BEGIN:VEVENT
DTSTART;VALUE=DATE:20251019
DTEND;VALUE=DATE:20251020
DTSTAMP:20260424T100309
CREATED:20210414T083648Z
LAST-MODIFIED:20250227T155525Z
UID:10008450-1760860800-1760893200@graubuendentrailrun.ch
SUMMARY:Transviamala
DESCRIPTION:Transviamala\, run & walk 19 km\nDas Lauferlebnis transviamala wird in Thusis gestartet und führt auf der alten Strasse durch das «verlorene Loch» nach Rongellen. Nach diesem ersten saftigen Anstieg verlässt man die Strasse und läuft entlang der «viaSpluga» der Viamala-Schlucht entgegen. Dieser Streckenabschnitt verspricht stufenreiche Aufstiege\, Single-Trails Felsbändern entlang\, und atemberaubende Ausblicke in die Schlucht. Die Viamala-Schlucht überquert man auf den von vielen Abbildungen bekannten Brücken. Die viaSpluga führt danach runter zum Rhein und über die Punt Suransuns. Von hier ist es ein stetes auf und ab einem Crosslauf gleich\, welcher einem in intensiven Anstiegen hoch bis nach Reischen bringt. Dieser Abschnitt birgt eines der eindrücklichsten Erlebnisse in sich: Nach einem steilen Anstieg in einem dunklen Waldstück öffnet sich plötzlich das weite und offene Schamsertal – die Strapazen der Viamala-Schlucht sind damit vorbei! Die steilen Anstiege aber noch nicht… Nach Reischen steigt der Lauf nochmals an und führt wiederum auf herrlichen Single-Trails oberhalb Zillis durch. Der Lauf führt dannach auf der klassischen Schamserlaufstrecke über Pignia nach Andeer. Der leichte Anstieg bis Clugin warnt nochmals vor der letzten Klippe. Auf den letzten Kilometern wird nochmals alles gefordert im Anstieg auf Plans. Danach gilt es laufen lassen und sich auf die besten Kuchen der Region freuen! \nDer Transviamala Curta über 11.5km führt von Thusis bis nach Donat und ergänzt das Angebot der Veranstaltung optimal.
URL:https://graubuendentrailrun.ch/event/transviamala/2025-10-19/
LOCATION:Thusis\, Thusis\, 7430\, Switzerland
CATEGORIES:Laufveranstaltungen
ATTACH;FMTTYPE=image/jpeg:https://graubuendentrailrun.ch/wp-content/uploads/2020/02/transviamala.jpg
ORGANIZER;CN="OK Transruinaulta / Transviamala":MAILTO:info@transviamala.ch
END:VEVENT
BEGIN:VEVENT
DTSTART;VALUE=DATE:20251018
DTEND;VALUE=DATE:20251019
DTSTAMP:20260424T100309
CREATED:20210414T083309Z
LAST-MODIFIED:20250227T155438Z
UID:10008449-1760774400-1760806800@graubuendentrailrun.ch
SUMMARY:Transruinaulta
DESCRIPTION:Trailmarathon 42 km\nDer Transruinaulta misst 42 Kilometer und führt von Ilanz nach Thusis. Von Ilanz\, der ersten Stadt am Rhein\, starten die Trailrunner praktisch direkt in einen wunderschönen Singletrail\, entlang des jungen Vorderrheines. Durch exklusive Ausgangslage soll das Naturerlebnis durch Einzelstarts noch weiter gefördert werden. Nach den ersten rund 11 Kilometer mitten in der Rheinschlucht folgen heftige Anstiege hoch nach Versam\, durch das Versamertobel nach Scardanal und weiter nach Rhäzüns. Der Marathon biegt dann Richtung Heinzenberg ab\, folgt dem Hinterrhein\, bis auf die Höhe von Präz. Der Ausblick in Richtung Zielort Thusis und über das ganze Domleschg entschädigt für den zurückliegenden harten Anstieg. Vom Dach des Marathon geht es auf Singletrails dem Heinzenberg entlang langsam abwärts\, bevor kurz vor dem Ziel noch einige kurze Anstiege bevorstehen. \nMit dem Transruinaulta Curta über 24km steht eine zweite Distanz zur Wahl. Diese startet ebenfalls in Ilanz und endet in Rhäzuns.
URL:https://graubuendentrailrun.ch/event/transruinaulta/2025-10-18/
LOCATION:Ilanz\, Ilanz\, 7130\, Switzerland
CATEGORIES:Laufveranstaltungen
ATTACH;FMTTYPE=image/jpeg:https://graubuendentrailrun.ch/wp-content/uploads/2020/02/transviamala.jpg
ORGANIZER;CN="OK Transruinaulta / Transviamala":MAILTO:info@transviamala.ch
END:VEVENT
BEGIN:VEVENT
DTSTART;VALUE=DATE:20231022
DTEND;VALUE=DATE:20231023
DTSTAMP:20260424T100309
CREATED:20210414T083648Z
LAST-MODIFIED:20250227T155525Z
UID:10003359-1697932800-1698019199@graubuendentrailrun.ch
SUMMARY:Transviamala
DESCRIPTION:Transviamala\, run & walk 19 km\nDas Lauferlebnis transviamala wird in Thusis gestartet und führt auf der alten Strasse durch das «verlorene Loch» nach Rongellen. Nach diesem ersten saftigen Anstieg verlässt man die Strasse und läuft entlang der «viaSpluga» der Viamala-Schlucht entgegen. Dieser Streckenabschnitt verspricht stufenreiche Aufstiege\, Single-Trails Felsbändern entlang\, und atemberaubende Ausblicke in die Schlucht. Die Viamala-Schlucht überquert man auf den von vielen Abbildungen bekannten Brücken. Die viaSpluga führt danach runter zum Rhein und über die Punt Suransuns. Von hier ist es ein stetes auf und ab einem Crosslauf gleich\, welcher einem in intensiven Anstiegen hoch bis nach Reischen bringt. Dieser Abschnitt birgt eines der eindrücklichsten Erlebnisse in sich: Nach einem steilen Anstieg in einem dunklen Waldstück öffnet sich plötzlich das weite und offene Schamsertal – die Strapazen der Viamala-Schlucht sind damit vorbei! Die steilen Anstiege aber noch nicht… Nach Reischen steigt der Lauf nochmals an und führt wiederum auf herrlichen Single-Trails oberhalb Zillis durch. Der Lauf führt dannach auf der klassischen Schamserlaufstrecke über Pignia nach Andeer. Der leichte Anstieg bis Clugin warnt nochmals vor der letzten Klippe. Auf den letzten Kilometern wird nochmals alles gefordert im Anstieg auf Plans. Danach gilt es laufen lassen und sich auf die besten Kuchen der Region freuen! \nDer Transviamala Curta über 11.5km führt von Thusis bis nach Donat und ergänzt das Angebot der Veranstaltung optimal.
URL:https://graubuendentrailrun.ch/event/transviamala/2023-10-22/
LOCATION:Thusis\, Thusis\, 7430\, Switzerland
CATEGORIES:Laufveranstaltungen
ATTACH;FMTTYPE=image/jpeg:https://graubuendentrailrun.ch/wp-content/uploads/2020/02/transviamala.jpg
ORGANIZER;CN="OK Transruinaulta / Transviamala":MAILTO:info@transviamala.ch
END:VEVENT
BEGIN:VEVENT
DTSTART;VALUE=DATE:20231021
DTEND;VALUE=DATE:20231022
DTSTAMP:20260424T100309
CREATED:20210414T083309Z
LAST-MODIFIED:20250227T155438Z
UID:10003356-1697846400-1697932799@graubuendentrailrun.ch
SUMMARY:Transruinaulta
DESCRIPTION:Trailmarathon 42 km\nDer Transruinaulta misst 42 Kilometer und führt von Ilanz nach Thusis. Von Ilanz\, der ersten Stadt am Rhein\, starten die Trailrunner praktisch direkt in einen wunderschönen Singletrail\, entlang des jungen Vorderrheines. Durch exklusive Ausgangslage soll das Naturerlebnis durch Einzelstarts noch weiter gefördert werden. Nach den ersten rund 11 Kilometer mitten in der Rheinschlucht folgen heftige Anstiege hoch nach Versam\, durch das Versamertobel nach Scardanal und weiter nach Rhäzüns. Der Marathon biegt dann Richtung Heinzenberg ab\, folgt dem Hinterrhein\, bis auf die Höhe von Präz. Der Ausblick in Richtung Zielort Thusis und über das ganze Domleschg entschädigt für den zurückliegenden harten Anstieg. Vom Dach des Marathon geht es auf Singletrails dem Heinzenberg entlang langsam abwärts\, bevor kurz vor dem Ziel noch einige kurze Anstiege bevorstehen. \nMit dem Transruinaulta Curta über 24km steht eine zweite Distanz zur Wahl. Diese startet ebenfalls in Ilanz und endet in Rhäzuns.
URL:https://graubuendentrailrun.ch/event/transruinaulta/2023-10-21/
LOCATION:Ilanz\, Ilanz\, 7130\, Switzerland
CATEGORIES:Laufveranstaltungen
ATTACH;FMTTYPE=image/jpeg:https://graubuendentrailrun.ch/wp-content/uploads/2020/02/transviamala.jpg
ORGANIZER;CN="OK Transruinaulta / Transviamala":MAILTO:info@transviamala.ch
END:VEVENT
BEGIN:VEVENT
DTSTART;VALUE=DATE:20221023
DTEND;VALUE=DATE:20221024
DTSTAMP:20260424T100309
CREATED:20210414T083648Z
LAST-MODIFIED:20250227T155525Z
UID:10003358-1666483200-1666569599@graubuendentrailrun.ch
SUMMARY:Transviamala
DESCRIPTION:Transviamala\, run & walk 19 km\nDas Lauferlebnis transviamala wird in Thusis gestartet und führt auf der alten Strasse durch das «verlorene Loch» nach Rongellen. Nach diesem ersten saftigen Anstieg verlässt man die Strasse und läuft entlang der «viaSpluga» der Viamala-Schlucht entgegen. Dieser Streckenabschnitt verspricht stufenreiche Aufstiege\, Single-Trails Felsbändern entlang\, und atemberaubende Ausblicke in die Schlucht. Die Viamala-Schlucht überquert man auf den von vielen Abbildungen bekannten Brücken. Die viaSpluga führt danach runter zum Rhein und über die Punt Suransuns. Von hier ist es ein stetes auf und ab einem Crosslauf gleich\, welcher einem in intensiven Anstiegen hoch bis nach Reischen bringt. Dieser Abschnitt birgt eines der eindrücklichsten Erlebnisse in sich: Nach einem steilen Anstieg in einem dunklen Waldstück öffnet sich plötzlich das weite und offene Schamsertal – die Strapazen der Viamala-Schlucht sind damit vorbei! Die steilen Anstiege aber noch nicht… Nach Reischen steigt der Lauf nochmals an und führt wiederum auf herrlichen Single-Trails oberhalb Zillis durch. Der Lauf führt dannach auf der klassischen Schamserlaufstrecke über Pignia nach Andeer. Der leichte Anstieg bis Clugin warnt nochmals vor der letzten Klippe. Auf den letzten Kilometern wird nochmals alles gefordert im Anstieg auf Plans. Danach gilt es laufen lassen und sich auf die besten Kuchen der Region freuen! \nDer Transviamala Curta über 11.5km führt von Thusis bis nach Donat und ergänzt das Angebot der Veranstaltung optimal.
URL:https://graubuendentrailrun.ch/event/transviamala/2022-10-23/
LOCATION:Thusis\, Thusis\, 7430\, Switzerland
CATEGORIES:Laufveranstaltungen
ATTACH;FMTTYPE=image/jpeg:https://graubuendentrailrun.ch/wp-content/uploads/2020/02/transviamala.jpg
ORGANIZER;CN="OK Transruinaulta / Transviamala":MAILTO:info@transviamala.ch
END:VEVENT
BEGIN:VEVENT
DTSTART;VALUE=DATE:20221022
DTEND;VALUE=DATE:20221023
DTSTAMP:20260424T100309
CREATED:20210414T083309Z
LAST-MODIFIED:20250227T155438Z
UID:10003355-1666396800-1666483199@graubuendentrailrun.ch
SUMMARY:Transruinaulta
DESCRIPTION:Trailmarathon 42 km\nDer Transruinaulta misst 42 Kilometer und führt von Ilanz nach Thusis. Von Ilanz\, der ersten Stadt am Rhein\, starten die Trailrunner praktisch direkt in einen wunderschönen Singletrail\, entlang des jungen Vorderrheines. Durch exklusive Ausgangslage soll das Naturerlebnis durch Einzelstarts noch weiter gefördert werden. Nach den ersten rund 11 Kilometer mitten in der Rheinschlucht folgen heftige Anstiege hoch nach Versam\, durch das Versamertobel nach Scardanal und weiter nach Rhäzüns. Der Marathon biegt dann Richtung Heinzenberg ab\, folgt dem Hinterrhein\, bis auf die Höhe von Präz. Der Ausblick in Richtung Zielort Thusis und über das ganze Domleschg entschädigt für den zurückliegenden harten Anstieg. Vom Dach des Marathon geht es auf Singletrails dem Heinzenberg entlang langsam abwärts\, bevor kurz vor dem Ziel noch einige kurze Anstiege bevorstehen. \nMit dem Transruinaulta Curta über 24km steht eine zweite Distanz zur Wahl. Diese startet ebenfalls in Ilanz und endet in Rhäzuns.
URL:https://graubuendentrailrun.ch/event/transruinaulta/2022-10-22/
LOCATION:Ilanz\, Ilanz\, 7130\, Switzerland
CATEGORIES:Laufveranstaltungen
ATTACH;FMTTYPE=image/jpeg:https://graubuendentrailrun.ch/wp-content/uploads/2020/02/transviamala.jpg
ORGANIZER;CN="OK Transruinaulta / Transviamala":MAILTO:info@transviamala.ch
END:VEVENT
BEGIN:VEVENT
DTSTART;VALUE=DATE:20211024
DTEND;VALUE=DATE:20211025
DTSTAMP:20260424T100309
CREATED:20210414T083648Z
LAST-MODIFIED:20250227T155525Z
UID:10003357-1635033600-1635119999@graubuendentrailrun.ch
SUMMARY:Transviamala
DESCRIPTION:Transviamala\, run & walk 19 km\nDas Lauferlebnis transviamala wird in Thusis gestartet und führt auf der alten Strasse durch das «verlorene Loch» nach Rongellen. Nach diesem ersten saftigen Anstieg verlässt man die Strasse und läuft entlang der «viaSpluga» der Viamala-Schlucht entgegen. Dieser Streckenabschnitt verspricht stufenreiche Aufstiege\, Single-Trails Felsbändern entlang\, und atemberaubende Ausblicke in die Schlucht. Die Viamala-Schlucht überquert man auf den von vielen Abbildungen bekannten Brücken. Die viaSpluga führt danach runter zum Rhein und über die Punt Suransuns. Von hier ist es ein stetes auf und ab einem Crosslauf gleich\, welcher einem in intensiven Anstiegen hoch bis nach Reischen bringt. Dieser Abschnitt birgt eines der eindrücklichsten Erlebnisse in sich: Nach einem steilen Anstieg in einem dunklen Waldstück öffnet sich plötzlich das weite und offene Schamsertal – die Strapazen der Viamala-Schlucht sind damit vorbei! Die steilen Anstiege aber noch nicht… Nach Reischen steigt der Lauf nochmals an und führt wiederum auf herrlichen Single-Trails oberhalb Zillis durch. Der Lauf führt dannach auf der klassischen Schamserlaufstrecke über Pignia nach Andeer. Der leichte Anstieg bis Clugin warnt nochmals vor der letzten Klippe. Auf den letzten Kilometern wird nochmals alles gefordert im Anstieg auf Plans. Danach gilt es laufen lassen und sich auf die besten Kuchen der Region freuen! \nDer Transviamala Curta über 11.5km führt von Thusis bis nach Donat und ergänzt das Angebot der Veranstaltung optimal.
URL:https://graubuendentrailrun.ch/event/transviamala/2021-10-24/
LOCATION:Thusis\, Thusis\, 7430\, Switzerland
CATEGORIES:Laufveranstaltungen
ATTACH;FMTTYPE=image/jpeg:https://graubuendentrailrun.ch/wp-content/uploads/2020/02/transviamala.jpg
ORGANIZER;CN="OK Transruinaulta / Transviamala":MAILTO:info@transviamala.ch
END:VEVENT
BEGIN:VEVENT
DTSTART;VALUE=DATE:20211023
DTEND;VALUE=DATE:20211024
DTSTAMP:20260424T100309
CREATED:20210414T083309Z
LAST-MODIFIED:20250227T155438Z
UID:10003354-1634947200-1635033599@graubuendentrailrun.ch
SUMMARY:Transruinaulta
DESCRIPTION:Trailmarathon 42 km\nDer Transruinaulta misst 42 Kilometer und führt von Ilanz nach Thusis. Von Ilanz\, der ersten Stadt am Rhein\, starten die Trailrunner praktisch direkt in einen wunderschönen Singletrail\, entlang des jungen Vorderrheines. Durch exklusive Ausgangslage soll das Naturerlebnis durch Einzelstarts noch weiter gefördert werden. Nach den ersten rund 11 Kilometer mitten in der Rheinschlucht folgen heftige Anstiege hoch nach Versam\, durch das Versamertobel nach Scardanal und weiter nach Rhäzüns. Der Marathon biegt dann Richtung Heinzenberg ab\, folgt dem Hinterrhein\, bis auf die Höhe von Präz. Der Ausblick in Richtung Zielort Thusis und über das ganze Domleschg entschädigt für den zurückliegenden harten Anstieg. Vom Dach des Marathon geht es auf Singletrails dem Heinzenberg entlang langsam abwärts\, bevor kurz vor dem Ziel noch einige kurze Anstiege bevorstehen. \nMit dem Transruinaulta Curta über 24km steht eine zweite Distanz zur Wahl. Diese startet ebenfalls in Ilanz und endet in Rhäzuns.
URL:https://graubuendentrailrun.ch/event/transruinaulta/2021-10-23/
LOCATION:Ilanz\, Ilanz\, 7130\, Switzerland
CATEGORIES:Laufveranstaltungen
ATTACH;FMTTYPE=image/jpeg:https://graubuendentrailrun.ch/wp-content/uploads/2020/02/transviamala.jpg
ORGANIZER;CN="OK Transruinaulta / Transviamala":MAILTO:info@transviamala.ch
END:VEVENT
END:VCALENDAR