BEGIN:VCALENDAR
VERSION:2.0
PRODID:-//graubünden Trailrun - ECPv6.15.20//NONSGML v1.0//EN
CALSCALE:GREGORIAN
METHOD:PUBLISH
X-ORIGINAL-URL:https://graubuendentrailrun.ch
X-WR-CALDESC:Veranstaltungen für graubünden Trailrun
REFRESH-INTERVAL;VALUE=DURATION:PT1H
X-Robots-Tag:noindex
X-PUBLISHED-TTL:PT1H
BEGIN:VTIMEZONE
TZID:Europe/Zurich
BEGIN:DAYLIGHT
TZOFFSETFROM:+0100
TZOFFSETTO:+0200
TZNAME:CEST
DTSTART:20200329T010000
END:DAYLIGHT
BEGIN:STANDARD
TZOFFSETFROM:+0200
TZOFFSETTO:+0100
TZNAME:CET
DTSTART:20201025T010000
END:STANDARD
BEGIN:DAYLIGHT
TZOFFSETFROM:+0100
TZOFFSETTO:+0200
TZNAME:CEST
DTSTART:20210328T010000
END:DAYLIGHT
BEGIN:STANDARD
TZOFFSETFROM:+0200
TZOFFSETTO:+0100
TZNAME:CET
DTSTART:20211031T010000
END:STANDARD
BEGIN:DAYLIGHT
TZOFFSETFROM:+0100
TZOFFSETTO:+0200
TZNAME:CEST
DTSTART:20220327T010000
END:DAYLIGHT
BEGIN:STANDARD
TZOFFSETFROM:+0200
TZOFFSETTO:+0100
TZNAME:CET
DTSTART:20221030T010000
END:STANDARD
BEGIN:DAYLIGHT
TZOFFSETFROM:+0100
TZOFFSETTO:+0200
TZNAME:CEST
DTSTART:20230326T010000
END:DAYLIGHT
BEGIN:STANDARD
TZOFFSETFROM:+0200
TZOFFSETTO:+0100
TZNAME:CET
DTSTART:20231029T010000
END:STANDARD
BEGIN:DAYLIGHT
TZOFFSETFROM:+0100
TZOFFSETTO:+0200
TZNAME:CEST
DTSTART:20240331T010000
END:DAYLIGHT
BEGIN:STANDARD
TZOFFSETFROM:+0200
TZOFFSETTO:+0100
TZNAME:CET
DTSTART:20241027T010000
END:STANDARD
END:VTIMEZONE
BEGIN:VEVENT
DTSTART;VALUE=DATE:20230805
DTEND;VALUE=DATE:20230807
DTSTAMP:20260424T104817
CREATED:20210525T115312Z
LAST-MODIFIED:20221118T140727Z
UID:10004207-1691193600-1691366399@graubuendentrailrun.ch
SUMMARY:Vertical Sanbe
DESCRIPTION:K31 Trail Sanbe\n31 km +/- 1800 m \nK18 Trail Sanbe\n18.6 km +/- 650 m \nK6 Vertical Sanbe and Walking\n6 km + 1100 m
URL:https://graubuendentrailrun.ch/event/vertical-sanbe/2023-08-05/
LOCATION:San Bernardino\, San Bernardino\, 6565\, Switzerland
CATEGORIES:Laufveranstaltungen
ATTACH;FMTTYPE=image/jpeg:https://graubuendentrailrun.ch/wp-content/uploads/2020/02/vertical_sanbe.jpg
ORGANIZER;CN="OK Vertical Sanbe":MAILTO:info@verticalsanbe.ch
END:VEVENT
BEGIN:VEVENT
DTSTART;VALUE=DATE:20220806
DTEND;VALUE=DATE:20220808
DTSTAMP:20260424T104817
CREATED:20210525T115312Z
LAST-MODIFIED:20221118T140727Z
UID:10004206-1659744000-1659916799@graubuendentrailrun.ch
SUMMARY:Vertical Sanbe
DESCRIPTION:K31 Trail Sanbe\n31 km +/- 1800 m \nK18 Trail Sanbe\n18.6 km +/- 650 m \nK6 Vertical Sanbe and Walking\n6 km + 1100 m
URL:https://graubuendentrailrun.ch/event/vertical-sanbe/2022-08-06/
LOCATION:San Bernardino\, San Bernardino\, 6565\, Switzerland
CATEGORIES:Laufveranstaltungen
ATTACH;FMTTYPE=image/jpeg:https://graubuendentrailrun.ch/wp-content/uploads/2020/02/vertical_sanbe.jpg
ORGANIZER;CN="OK Vertical Sanbe":MAILTO:info@verticalsanbe.ch
END:VEVENT
BEGIN:VEVENT
DTSTART;VALUE=DATE:20210717
DTEND;VALUE=DATE:20210719
DTSTAMP:20260424T104817
CREATED:20210525T115312Z
LAST-MODIFIED:20221118T140727Z
UID:10004205-1626480000-1626652799@graubuendentrailrun.ch
SUMMARY:Vertical Sanbe
DESCRIPTION:K31 Trail Sanbe\n31 km +/- 1800 m \nK18 Trail Sanbe\n18.6 km +/- 650 m \nK6 Vertical Sanbe and Walking\n6 km + 1100 m
URL:https://graubuendentrailrun.ch/event/vertical-sanbe/2021-07-17/
LOCATION:San Bernardino\, San Bernardino\, 6565\, Switzerland
CATEGORIES:Laufveranstaltungen
ATTACH;FMTTYPE=image/jpeg:https://graubuendentrailrun.ch/wp-content/uploads/2020/02/vertical_sanbe.jpg
ORGANIZER;CN="OK Vertical Sanbe":MAILTO:info@verticalsanbe.ch
END:VEVENT
END:VCALENDAR