BEGIN:VCALENDAR
VERSION:2.0
PRODID:-//graubünden Trailrun - ECPv6.15.20//NONSGML v1.0//EN
CALSCALE:GREGORIAN
METHOD:PUBLISH
X-WR-CALNAME:graubünden Trailrun
X-ORIGINAL-URL:https://graubuendentrailrun.ch
X-WR-CALDESC:Veranstaltungen für graubünden Trailrun
REFRESH-INTERVAL;VALUE=DURATION:PT1H
X-Robots-Tag:noindex
X-PUBLISHED-TTL:PT1H
BEGIN:VTIMEZONE
TZID:Europe/Zurich
BEGIN:DAYLIGHT
TZOFFSETFROM:+0100
TZOFFSETTO:+0200
TZNAME:CEST
DTSTART:20220327T010000
END:DAYLIGHT
BEGIN:STANDARD
TZOFFSETFROM:+0200
TZOFFSETTO:+0100
TZNAME:CET
DTSTART:20221030T010000
END:STANDARD
BEGIN:DAYLIGHT
TZOFFSETFROM:+0100
TZOFFSETTO:+0200
TZNAME:CEST
DTSTART:20230326T010000
END:DAYLIGHT
BEGIN:STANDARD
TZOFFSETFROM:+0200
TZOFFSETTO:+0100
TZNAME:CET
DTSTART:20231029T010000
END:STANDARD
BEGIN:DAYLIGHT
TZOFFSETFROM:+0100
TZOFFSETTO:+0200
TZNAME:CEST
DTSTART:20240331T010000
END:DAYLIGHT
BEGIN:STANDARD
TZOFFSETFROM:+0200
TZOFFSETTO:+0100
TZNAME:CET
DTSTART:20241027T010000
END:STANDARD
END:VTIMEZONE
BEGIN:VEVENT
DTSTART;TZID=Europe/Zurich:20230822T190000
DTEND;TZID=Europe/Zurich:20230822T210000
DTSTAMP:20260424T210100
CREATED:20230511T071950Z
LAST-MODIFIED:20230511T071950Z
UID:10007193-1692730800-1692738000@graubuendentrailrun.ch
SUMMARY:Trail2Gether
DESCRIPTION:TRAIL2GETHER Richtet sich an Laufeinsteiger sowie routinierte Läufer. Die Laufserie startet am 20. Juni und hat den Madrisa Trail am 19. August zum Ziel! In dieser Zeit werden wir dich intensiv mit begleitenden Trainings und spannenden Informationen rund um das Trailrunning auf dein nächstes Projekt vorbereiten. \n\n\nDein Package10x Professionell begleitete Lauftrainings\, 1x pro WocheTrainingswochenplanFussanalyse und LaufschuhberatungMaterialtest mit DynafitGarmin WorkshopYasminfit PräsentationPhysio TippsNutriathletic Empfehlungen15% auf deinen nächsten Laufschuh von Rätikon SportGemeinsames Abschlussessen \n\n\nAnforderungen\nDu kannst 1h am Stück im Flachen laufen / 8-11 km in 1h \n\nBildquelle: Paedii Luchs
URL:https://graubuendentrailrun.ch/event/trail2gether/2023-08-22/
LOCATION:Rätikon Sport\, Küblis\, Industriestrasse 1\, Küblis\, Graubünden\, 7240\, Switzerland
CATEGORIES:Schnupper-Events
ATTACH;FMTTYPE=image/jpeg:https://graubuendentrailrun.ch/wp-content/uploads/2023/05/2021-06-12-plpictures-by-paedii-luchs-a7r3-htt-stantoenien-0363-web.jpg
ORGANIZER;CN="R%C3%A4tikon Sport":MAILTO:info@raetikonsport.ch
END:VEVENT
BEGIN:VEVENT
DTSTART;TZID=Europe/Zurich:20230815T190000
DTEND;TZID=Europe/Zurich:20230815T210000
DTSTAMP:20260424T210100
CREATED:20230511T071950Z
LAST-MODIFIED:20230511T071950Z
UID:10007192-1692126000-1692133200@graubuendentrailrun.ch
SUMMARY:Trail2Gether
DESCRIPTION:TRAIL2GETHER Richtet sich an Laufeinsteiger sowie routinierte Läufer. Die Laufserie startet am 20. Juni und hat den Madrisa Trail am 19. August zum Ziel! In dieser Zeit werden wir dich intensiv mit begleitenden Trainings und spannenden Informationen rund um das Trailrunning auf dein nächstes Projekt vorbereiten. \n\n\nDein Package10x Professionell begleitete Lauftrainings\, 1x pro WocheTrainingswochenplanFussanalyse und LaufschuhberatungMaterialtest mit DynafitGarmin WorkshopYasminfit PräsentationPhysio TippsNutriathletic Empfehlungen15% auf deinen nächsten Laufschuh von Rätikon SportGemeinsames Abschlussessen \n\n\nAnforderungen\nDu kannst 1h am Stück im Flachen laufen / 8-11 km in 1h \n\nBildquelle: Paedii Luchs
URL:https://graubuendentrailrun.ch/event/trail2gether/2023-08-15/
LOCATION:Rätikon Sport\, Küblis\, Industriestrasse 1\, Küblis\, Graubünden\, 7240\, Switzerland
CATEGORIES:Schnupper-Events
ATTACH;FMTTYPE=image/jpeg:https://graubuendentrailrun.ch/wp-content/uploads/2023/05/2021-06-12-plpictures-by-paedii-luchs-a7r3-htt-stantoenien-0363-web.jpg
ORGANIZER;CN="R%C3%A4tikon Sport":MAILTO:info@raetikonsport.ch
END:VEVENT
BEGIN:VEVENT
DTSTART;TZID=Europe/Zurich:20230808T190000
DTEND;TZID=Europe/Zurich:20230808T210000
DTSTAMP:20260424T210100
CREATED:20230511T071950Z
LAST-MODIFIED:20230511T071950Z
UID:10007191-1691521200-1691528400@graubuendentrailrun.ch
SUMMARY:Trail2Gether
DESCRIPTION:TRAIL2GETHER Richtet sich an Laufeinsteiger sowie routinierte Läufer. Die Laufserie startet am 20. Juni und hat den Madrisa Trail am 19. August zum Ziel! In dieser Zeit werden wir dich intensiv mit begleitenden Trainings und spannenden Informationen rund um das Trailrunning auf dein nächstes Projekt vorbereiten. \n\n\nDein Package10x Professionell begleitete Lauftrainings\, 1x pro WocheTrainingswochenplanFussanalyse und LaufschuhberatungMaterialtest mit DynafitGarmin WorkshopYasminfit PräsentationPhysio TippsNutriathletic Empfehlungen15% auf deinen nächsten Laufschuh von Rätikon SportGemeinsames Abschlussessen \n\n\nAnforderungen\nDu kannst 1h am Stück im Flachen laufen / 8-11 km in 1h \n\nBildquelle: Paedii Luchs
URL:https://graubuendentrailrun.ch/event/trail2gether/2023-08-08/
LOCATION:Rätikon Sport\, Küblis\, Industriestrasse 1\, Küblis\, Graubünden\, 7240\, Switzerland
CATEGORIES:Schnupper-Events
ATTACH;FMTTYPE=image/jpeg:https://graubuendentrailrun.ch/wp-content/uploads/2023/05/2021-06-12-plpictures-by-paedii-luchs-a7r3-htt-stantoenien-0363-web.jpg
ORGANIZER;CN="R%C3%A4tikon Sport":MAILTO:info@raetikonsport.ch
END:VEVENT
BEGIN:VEVENT
DTSTART;TZID=Europe/Zurich:20230801T190000
DTEND;TZID=Europe/Zurich:20230801T210000
DTSTAMP:20260424T210100
CREATED:20230511T071950Z
LAST-MODIFIED:20230511T071950Z
UID:10007190-1690916400-1690923600@graubuendentrailrun.ch
SUMMARY:Trail2Gether
DESCRIPTION:TRAIL2GETHER Richtet sich an Laufeinsteiger sowie routinierte Läufer. Die Laufserie startet am 20. Juni und hat den Madrisa Trail am 19. August zum Ziel! In dieser Zeit werden wir dich intensiv mit begleitenden Trainings und spannenden Informationen rund um das Trailrunning auf dein nächstes Projekt vorbereiten. \n\n\nDein Package10x Professionell begleitete Lauftrainings\, 1x pro WocheTrainingswochenplanFussanalyse und LaufschuhberatungMaterialtest mit DynafitGarmin WorkshopYasminfit PräsentationPhysio TippsNutriathletic Empfehlungen15% auf deinen nächsten Laufschuh von Rätikon SportGemeinsames Abschlussessen \n\n\nAnforderungen\nDu kannst 1h am Stück im Flachen laufen / 8-11 km in 1h \n\nBildquelle: Paedii Luchs
URL:https://graubuendentrailrun.ch/event/trail2gether/2023-08-01/
LOCATION:Rätikon Sport\, Küblis\, Industriestrasse 1\, Küblis\, Graubünden\, 7240\, Switzerland
CATEGORIES:Schnupper-Events
ATTACH;FMTTYPE=image/jpeg:https://graubuendentrailrun.ch/wp-content/uploads/2023/05/2021-06-12-plpictures-by-paedii-luchs-a7r3-htt-stantoenien-0363-web.jpg
ORGANIZER;CN="R%C3%A4tikon Sport":MAILTO:info@raetikonsport.ch
END:VEVENT
BEGIN:VEVENT
DTSTART;TZID=Europe/Zurich:20230725T190000
DTEND;TZID=Europe/Zurich:20230725T210000
DTSTAMP:20260424T210100
CREATED:20230511T071950Z
LAST-MODIFIED:20230511T071950Z
UID:10007189-1690311600-1690318800@graubuendentrailrun.ch
SUMMARY:Trail2Gether
DESCRIPTION:TRAIL2GETHER Richtet sich an Laufeinsteiger sowie routinierte Läufer. Die Laufserie startet am 20. Juni und hat den Madrisa Trail am 19. August zum Ziel! In dieser Zeit werden wir dich intensiv mit begleitenden Trainings und spannenden Informationen rund um das Trailrunning auf dein nächstes Projekt vorbereiten. \n\n\nDein Package10x Professionell begleitete Lauftrainings\, 1x pro WocheTrainingswochenplanFussanalyse und LaufschuhberatungMaterialtest mit DynafitGarmin WorkshopYasminfit PräsentationPhysio TippsNutriathletic Empfehlungen15% auf deinen nächsten Laufschuh von Rätikon SportGemeinsames Abschlussessen \n\n\nAnforderungen\nDu kannst 1h am Stück im Flachen laufen / 8-11 km in 1h \n\nBildquelle: Paedii Luchs
URL:https://graubuendentrailrun.ch/event/trail2gether/2023-07-25/
LOCATION:Rätikon Sport\, Küblis\, Industriestrasse 1\, Küblis\, Graubünden\, 7240\, Switzerland
CATEGORIES:Schnupper-Events
ATTACH;FMTTYPE=image/jpeg:https://graubuendentrailrun.ch/wp-content/uploads/2023/05/2021-06-12-plpictures-by-paedii-luchs-a7r3-htt-stantoenien-0363-web.jpg
ORGANIZER;CN="R%C3%A4tikon Sport":MAILTO:info@raetikonsport.ch
END:VEVENT
BEGIN:VEVENT
DTSTART;TZID=Europe/Zurich:20230718T190000
DTEND;TZID=Europe/Zurich:20230718T210000
DTSTAMP:20260424T210100
CREATED:20230511T071950Z
LAST-MODIFIED:20230511T071950Z
UID:10007188-1689706800-1689714000@graubuendentrailrun.ch
SUMMARY:Trail2Gether
DESCRIPTION:TRAIL2GETHER Richtet sich an Laufeinsteiger sowie routinierte Läufer. Die Laufserie startet am 20. Juni und hat den Madrisa Trail am 19. August zum Ziel! In dieser Zeit werden wir dich intensiv mit begleitenden Trainings und spannenden Informationen rund um das Trailrunning auf dein nächstes Projekt vorbereiten. \n\n\nDein Package10x Professionell begleitete Lauftrainings\, 1x pro WocheTrainingswochenplanFussanalyse und LaufschuhberatungMaterialtest mit DynafitGarmin WorkshopYasminfit PräsentationPhysio TippsNutriathletic Empfehlungen15% auf deinen nächsten Laufschuh von Rätikon SportGemeinsames Abschlussessen \n\n\nAnforderungen\nDu kannst 1h am Stück im Flachen laufen / 8-11 km in 1h \n\nBildquelle: Paedii Luchs
URL:https://graubuendentrailrun.ch/event/trail2gether/2023-07-18/
LOCATION:Rätikon Sport\, Küblis\, Industriestrasse 1\, Küblis\, Graubünden\, 7240\, Switzerland
CATEGORIES:Schnupper-Events
ATTACH;FMTTYPE=image/jpeg:https://graubuendentrailrun.ch/wp-content/uploads/2023/05/2021-06-12-plpictures-by-paedii-luchs-a7r3-htt-stantoenien-0363-web.jpg
ORGANIZER;CN="R%C3%A4tikon Sport":MAILTO:info@raetikonsport.ch
END:VEVENT
BEGIN:VEVENT
DTSTART;TZID=Europe/Zurich:20230711T190000
DTEND;TZID=Europe/Zurich:20230711T210000
DTSTAMP:20260424T210100
CREATED:20230511T071950Z
LAST-MODIFIED:20230511T071950Z
UID:10007187-1689102000-1689109200@graubuendentrailrun.ch
SUMMARY:Trail2Gether
DESCRIPTION:TRAIL2GETHER Richtet sich an Laufeinsteiger sowie routinierte Läufer. Die Laufserie startet am 20. Juni und hat den Madrisa Trail am 19. August zum Ziel! In dieser Zeit werden wir dich intensiv mit begleitenden Trainings und spannenden Informationen rund um das Trailrunning auf dein nächstes Projekt vorbereiten. \n\n\nDein Package10x Professionell begleitete Lauftrainings\, 1x pro WocheTrainingswochenplanFussanalyse und LaufschuhberatungMaterialtest mit DynafitGarmin WorkshopYasminfit PräsentationPhysio TippsNutriathletic Empfehlungen15% auf deinen nächsten Laufschuh von Rätikon SportGemeinsames Abschlussessen \n\n\nAnforderungen\nDu kannst 1h am Stück im Flachen laufen / 8-11 km in 1h \n\nBildquelle: Paedii Luchs
URL:https://graubuendentrailrun.ch/event/trail2gether/2023-07-11/
LOCATION:Rätikon Sport\, Küblis\, Industriestrasse 1\, Küblis\, Graubünden\, 7240\, Switzerland
CATEGORIES:Schnupper-Events
ATTACH;FMTTYPE=image/jpeg:https://graubuendentrailrun.ch/wp-content/uploads/2023/05/2021-06-12-plpictures-by-paedii-luchs-a7r3-htt-stantoenien-0363-web.jpg
ORGANIZER;CN="R%C3%A4tikon Sport":MAILTO:info@raetikonsport.ch
END:VEVENT
BEGIN:VEVENT
DTSTART;TZID=Europe/Zurich:20230704T190000
DTEND;TZID=Europe/Zurich:20230704T210000
DTSTAMP:20260424T210100
CREATED:20230511T071950Z
LAST-MODIFIED:20230511T071950Z
UID:10007186-1688497200-1688504400@graubuendentrailrun.ch
SUMMARY:Trail2Gether
DESCRIPTION:TRAIL2GETHER Richtet sich an Laufeinsteiger sowie routinierte Läufer. Die Laufserie startet am 20. Juni und hat den Madrisa Trail am 19. August zum Ziel! In dieser Zeit werden wir dich intensiv mit begleitenden Trainings und spannenden Informationen rund um das Trailrunning auf dein nächstes Projekt vorbereiten. \n\n\nDein Package10x Professionell begleitete Lauftrainings\, 1x pro WocheTrainingswochenplanFussanalyse und LaufschuhberatungMaterialtest mit DynafitGarmin WorkshopYasminfit PräsentationPhysio TippsNutriathletic Empfehlungen15% auf deinen nächsten Laufschuh von Rätikon SportGemeinsames Abschlussessen \n\n\nAnforderungen\nDu kannst 1h am Stück im Flachen laufen / 8-11 km in 1h \n\nBildquelle: Paedii Luchs
URL:https://graubuendentrailrun.ch/event/trail2gether/2023-07-04/
LOCATION:Rätikon Sport\, Küblis\, Industriestrasse 1\, Küblis\, Graubünden\, 7240\, Switzerland
CATEGORIES:Schnupper-Events
ATTACH;FMTTYPE=image/jpeg:https://graubuendentrailrun.ch/wp-content/uploads/2023/05/2021-06-12-plpictures-by-paedii-luchs-a7r3-htt-stantoenien-0363-web.jpg
ORGANIZER;CN="R%C3%A4tikon Sport":MAILTO:info@raetikonsport.ch
END:VEVENT
BEGIN:VEVENT
DTSTART;TZID=Europe/Zurich:20230627T190000
DTEND;TZID=Europe/Zurich:20230627T210000
DTSTAMP:20260424T210100
CREATED:20230511T071950Z
LAST-MODIFIED:20230511T071950Z
UID:10007185-1687892400-1687899600@graubuendentrailrun.ch
SUMMARY:Trail2Gether
DESCRIPTION:TRAIL2GETHER Richtet sich an Laufeinsteiger sowie routinierte Läufer. Die Laufserie startet am 20. Juni und hat den Madrisa Trail am 19. August zum Ziel! In dieser Zeit werden wir dich intensiv mit begleitenden Trainings und spannenden Informationen rund um das Trailrunning auf dein nächstes Projekt vorbereiten. \n\n\nDein Package10x Professionell begleitete Lauftrainings\, 1x pro WocheTrainingswochenplanFussanalyse und LaufschuhberatungMaterialtest mit DynafitGarmin WorkshopYasminfit PräsentationPhysio TippsNutriathletic Empfehlungen15% auf deinen nächsten Laufschuh von Rätikon SportGemeinsames Abschlussessen \n\n\nAnforderungen\nDu kannst 1h am Stück im Flachen laufen / 8-11 km in 1h \n\nBildquelle: Paedii Luchs
URL:https://graubuendentrailrun.ch/event/trail2gether/2023-06-27/
LOCATION:Rätikon Sport\, Küblis\, Industriestrasse 1\, Küblis\, Graubünden\, 7240\, Switzerland
CATEGORIES:Schnupper-Events
ATTACH;FMTTYPE=image/jpeg:https://graubuendentrailrun.ch/wp-content/uploads/2023/05/2021-06-12-plpictures-by-paedii-luchs-a7r3-htt-stantoenien-0363-web.jpg
ORGANIZER;CN="R%C3%A4tikon Sport":MAILTO:info@raetikonsport.ch
END:VEVENT
BEGIN:VEVENT
DTSTART;TZID=Europe/Zurich:20230620T190000
DTEND;TZID=Europe/Zurich:20230620T210000
DTSTAMP:20260424T210100
CREATED:20230511T071950Z
LAST-MODIFIED:20230511T071950Z
UID:10007184-1687287600-1687294800@graubuendentrailrun.ch
SUMMARY:Trail2Gether
DESCRIPTION:TRAIL2GETHER Richtet sich an Laufeinsteiger sowie routinierte Läufer. Die Laufserie startet am 20. Juni und hat den Madrisa Trail am 19. August zum Ziel! In dieser Zeit werden wir dich intensiv mit begleitenden Trainings und spannenden Informationen rund um das Trailrunning auf dein nächstes Projekt vorbereiten. \n\n\nDein Package10x Professionell begleitete Lauftrainings\, 1x pro WocheTrainingswochenplanFussanalyse und LaufschuhberatungMaterialtest mit DynafitGarmin WorkshopYasminfit PräsentationPhysio TippsNutriathletic Empfehlungen15% auf deinen nächsten Laufschuh von Rätikon SportGemeinsames Abschlussessen \n\n\nAnforderungen\nDu kannst 1h am Stück im Flachen laufen / 8-11 km in 1h \n\nBildquelle: Paedii Luchs
URL:https://graubuendentrailrun.ch/event/trail2gether/2023-06-20/
LOCATION:Rätikon Sport\, Küblis\, Industriestrasse 1\, Küblis\, Graubünden\, 7240\, Switzerland
CATEGORIES:Schnupper-Events
ATTACH;FMTTYPE=image/jpeg:https://graubuendentrailrun.ch/wp-content/uploads/2023/05/2021-06-12-plpictures-by-paedii-luchs-a7r3-htt-stantoenien-0363-web.jpg
ORGANIZER;CN="R%C3%A4tikon Sport":MAILTO:info@raetikonsport.ch
END:VEVENT
END:VCALENDAR