BEGIN:VCALENDAR
VERSION:2.0
PRODID:-//graubünden Trailrun - ECPv6.15.20//NONSGML v1.0//EN
CALSCALE:GREGORIAN
METHOD:PUBLISH
X-ORIGINAL-URL:https://graubuendentrailrun.ch
X-WR-CALDESC:Veranstaltungen für graubünden Trailrun
REFRESH-INTERVAL;VALUE=DURATION:PT1H
X-Robots-Tag:noindex
X-PUBLISHED-TTL:PT1H
BEGIN:VTIMEZONE
TZID:Europe/Zurich
BEGIN:DAYLIGHT
TZOFFSETFROM:+0100
TZOFFSETTO:+0200
TZNAME:CEST
DTSTART:20200329T010000
END:DAYLIGHT
BEGIN:STANDARD
TZOFFSETFROM:+0200
TZOFFSETTO:+0100
TZNAME:CET
DTSTART:20201025T010000
END:STANDARD
BEGIN:DAYLIGHT
TZOFFSETFROM:+0100
TZOFFSETTO:+0200
TZNAME:CEST
DTSTART:20210328T010000
END:DAYLIGHT
BEGIN:STANDARD
TZOFFSETFROM:+0200
TZOFFSETTO:+0100
TZNAME:CET
DTSTART:20211031T010000
END:STANDARD
BEGIN:DAYLIGHT
TZOFFSETFROM:+0100
TZOFFSETTO:+0200
TZNAME:CEST
DTSTART:20220327T010000
END:DAYLIGHT
BEGIN:STANDARD
TZOFFSETFROM:+0200
TZOFFSETTO:+0100
TZNAME:CET
DTSTART:20221030T010000
END:STANDARD
BEGIN:DAYLIGHT
TZOFFSETFROM:+0100
TZOFFSETTO:+0200
TZNAME:CEST
DTSTART:20230326T010000
END:DAYLIGHT
BEGIN:STANDARD
TZOFFSETFROM:+0200
TZOFFSETTO:+0100
TZNAME:CET
DTSTART:20231029T010000
END:STANDARD
END:VTIMEZONE
BEGIN:VEVENT
DTSTART;VALUE=DATE:20220529
DTEND;VALUE=DATE:20220530
DTSTAMP:20260423T153045
CREATED:20210511T084002Z
LAST-MODIFIED:20220318T083213Z
UID:10003361-1653782400-1653868799@graubuendentrailrun.ch
SUMMARY:Churer Stadtlauf
DESCRIPTION:In diesem Jahr wird der Anlass nicht an einem definierten Tag durchgeführt. Eigentlich war dafür der Sonntag\, 16. Mai 2021 vorgesehen. Nun hast du 3 Wochen Zeit\, deine Runden vor Ort\, oder in deiner vertrauten Umgebung zu Laufen. Die Runde durch die Churer Altstadt steht von Freitag\, 14. Mai 2021 bis am Sonntag\, 6. Juni 2021 für dich bereit. Die verschiedenen Laufrunden sind entsprechend signalisiert. Die Markierung ist am Boden angebracht und die drei Runden sind durch verschiedene Farben gekennzeichnet. Die Runde von 2300 Meter ist mit grünen Pfeilen markiert. Die Rollstuhl und Special Olympics Runde von 1000 Meter ist mir roten Pfeiler und die Kinderrunde von 480 Meter ist mit gelben Pfeilen markiert. \nHier gehts zu weiteren Infos und zur Anmeldung.
URL:https://graubuendentrailrun.ch/event/churer-stadtlauf/2022-05-29/
LOCATION:Chur\, Klostergasse\, Chur\, Graubünden\, 7000\, Switzerland
CATEGORIES:Laufveranstaltungen
ATTACH;FMTTYPE=image/jpeg:https://graubuendentrailrun.ch/wp-content/uploads/2020/08/Churer_Stadtlauf.jpg
ORGANIZER;CN="RUEDIRENNT":MAILTO:ruedi@ruedirennt.ch
END:VEVENT
BEGIN:VEVENT
DTSTART;VALUE=DATE:20210514
DTEND;VALUE=DATE:20210515
DTSTAMP:20260423T153045
CREATED:20210511T084002Z
LAST-MODIFIED:20220318T083213Z
UID:10003360-1620950400-1621036799@graubuendentrailrun.ch
SUMMARY:Churer Stadtlauf
DESCRIPTION:In diesem Jahr wird der Anlass nicht an einem definierten Tag durchgeführt. Eigentlich war dafür der Sonntag\, 16. Mai 2021 vorgesehen. Nun hast du 3 Wochen Zeit\, deine Runden vor Ort\, oder in deiner vertrauten Umgebung zu Laufen. Die Runde durch die Churer Altstadt steht von Freitag\, 14. Mai 2021 bis am Sonntag\, 6. Juni 2021 für dich bereit. Die verschiedenen Laufrunden sind entsprechend signalisiert. Die Markierung ist am Boden angebracht und die drei Runden sind durch verschiedene Farben gekennzeichnet. Die Runde von 2300 Meter ist mit grünen Pfeilen markiert. Die Rollstuhl und Special Olympics Runde von 1000 Meter ist mir roten Pfeiler und die Kinderrunde von 480 Meter ist mit gelben Pfeilen markiert. \nHier gehts zu weiteren Infos und zur Anmeldung.
URL:https://graubuendentrailrun.ch/event/churer-stadtlauf/2021-05-14/
LOCATION:Chur\, Klostergasse\, Chur\, Graubünden\, 7000\, Switzerland
CATEGORIES:Laufveranstaltungen
ATTACH;FMTTYPE=image/jpeg:https://graubuendentrailrun.ch/wp-content/uploads/2020/08/Churer_Stadtlauf.jpg
ORGANIZER;CN="RUEDIRENNT":MAILTO:ruedi@ruedirennt.ch
END:VEVENT
END:VCALENDAR