BEGIN:VCALENDAR
VERSION:2.0
PRODID:-//graubünden Trailrun - ECPv6.15.20//NONSGML v1.0//EN
CALSCALE:GREGORIAN
METHOD:PUBLISH
X-ORIGINAL-URL:https://graubuendentrailrun.ch
X-WR-CALDESC:Veranstaltungen für graubünden Trailrun
REFRESH-INTERVAL;VALUE=DURATION:PT1H
X-Robots-Tag:noindex
X-PUBLISHED-TTL:PT1H
BEGIN:VTIMEZONE
TZID:Europe/Zurich
BEGIN:DAYLIGHT
TZOFFSETFROM:+0100
TZOFFSETTO:+0200
TZNAME:CEST
DTSTART:20230326T010000
END:DAYLIGHT
BEGIN:STANDARD
TZOFFSETFROM:+0200
TZOFFSETTO:+0100
TZNAME:CET
DTSTART:20231029T010000
END:STANDARD
BEGIN:DAYLIGHT
TZOFFSETFROM:+0100
TZOFFSETTO:+0200
TZNAME:CEST
DTSTART:20240331T010000
END:DAYLIGHT
BEGIN:STANDARD
TZOFFSETFROM:+0200
TZOFFSETTO:+0100
TZNAME:CET
DTSTART:20241027T010000
END:STANDARD
BEGIN:DAYLIGHT
TZOFFSETFROM:+0100
TZOFFSETTO:+0200
TZNAME:CEST
DTSTART:20250330T010000
END:DAYLIGHT
BEGIN:STANDARD
TZOFFSETFROM:+0200
TZOFFSETTO:+0100
TZNAME:CET
DTSTART:20251026T010000
END:STANDARD
END:VTIMEZONE
BEGIN:VEVENT
DTSTART;TZID=Europe/Zurich:20240715T190000
DTEND;TZID=Europe/Zurich:20240715T200000
DTSTAMP:20260424T073459
CREATED:20240614T062930Z
LAST-MODIFIED:20250520T073242Z
UID:10008043-1721070000-1721073600@graubuendentrailrun.ch
SUMMARY:Trailtreff Samedan
DESCRIPTION:#trailtreff – Graubündens öffentliche Trailrunning-Gruppe\nDer Trailtreff Samedan ist eine Feierabendrunde in flowigem Gelände. Unsere Runden dauern ca. 60 Min und finden das ganze Jahr hindurch wöchentlich am Montag statt. Im Juni und Juli können im Sportgeschäft Stile Alpino in Samedan Test-Laufschuhe ausgeliehen werden. Anmelden musst du dich nicht\, sei einfach pünktlich um 19.00 Uhr beim Fussballplatz Promulinsarena in Samedan. Also auf den Trail\, fertig\, los!
URL:https://graubuendentrailrun.ch/event/trailtreff_samedan/2024-07-15/
LOCATION:Promulins Arena Samedan\, Promulins 12\, Samedan\, 7503\, Switzerland
CATEGORIES:Trailtreff
ATTACH;FMTTYPE=image/jpeg:https://graubuendentrailrun.ch/wp-content/uploads/2024/06/Trailtreff_Samedan-e1718721983611.jpg
ORGANIZER;CN="Tina Gartz Vliegen":MAILTO:gartztina@hotmail.com
END:VEVENT
BEGIN:VEVENT
DTSTART;TZID=Europe/Zurich:20240708T190000
DTEND;TZID=Europe/Zurich:20240708T200000
DTSTAMP:20260424T073459
CREATED:20240614T062930Z
LAST-MODIFIED:20250520T073242Z
UID:10008042-1720465200-1720468800@graubuendentrailrun.ch
SUMMARY:Trailtreff Samedan
DESCRIPTION:#trailtreff – Graubündens öffentliche Trailrunning-Gruppe\nDer Trailtreff Samedan ist eine Feierabendrunde in flowigem Gelände. Unsere Runden dauern ca. 60 Min und finden das ganze Jahr hindurch wöchentlich am Montag statt. Im Juni und Juli können im Sportgeschäft Stile Alpino in Samedan Test-Laufschuhe ausgeliehen werden. Anmelden musst du dich nicht\, sei einfach pünktlich um 19.00 Uhr beim Fussballplatz Promulinsarena in Samedan. Also auf den Trail\, fertig\, los!
URL:https://graubuendentrailrun.ch/event/trailtreff_samedan/2024-07-08/
LOCATION:Promulins Arena Samedan\, Promulins 12\, Samedan\, 7503\, Switzerland
CATEGORIES:Trailtreff
ATTACH;FMTTYPE=image/jpeg:https://graubuendentrailrun.ch/wp-content/uploads/2024/06/Trailtreff_Samedan-e1718721983611.jpg
ORGANIZER;CN="Tina Gartz Vliegen":MAILTO:gartztina@hotmail.com
END:VEVENT
BEGIN:VEVENT
DTSTART;TZID=Europe/Zurich:20240701T190000
DTEND;TZID=Europe/Zurich:20240701T200000
DTSTAMP:20260424T073459
CREATED:20240614T062930Z
LAST-MODIFIED:20250520T073242Z
UID:10008041-1719860400-1719864000@graubuendentrailrun.ch
SUMMARY:Trailtreff Samedan
DESCRIPTION:#trailtreff – Graubündens öffentliche Trailrunning-Gruppe\nDer Trailtreff Samedan ist eine Feierabendrunde in flowigem Gelände. Unsere Runden dauern ca. 60 Min und finden das ganze Jahr hindurch wöchentlich am Montag statt. Im Juni und Juli können im Sportgeschäft Stile Alpino in Samedan Test-Laufschuhe ausgeliehen werden. Anmelden musst du dich nicht\, sei einfach pünktlich um 19.00 Uhr beim Fussballplatz Promulinsarena in Samedan. Also auf den Trail\, fertig\, los!
URL:https://graubuendentrailrun.ch/event/trailtreff_samedan/2024-07-01/
LOCATION:Promulins Arena Samedan\, Promulins 12\, Samedan\, 7503\, Switzerland
CATEGORIES:Trailtreff
ATTACH;FMTTYPE=image/jpeg:https://graubuendentrailrun.ch/wp-content/uploads/2024/06/Trailtreff_Samedan-e1718721983611.jpg
ORGANIZER;CN="Tina Gartz Vliegen":MAILTO:gartztina@hotmail.com
END:VEVENT
BEGIN:VEVENT
DTSTART;TZID=Europe/Zurich:20240624T190000
DTEND;TZID=Europe/Zurich:20240624T200000
DTSTAMP:20260424T073459
CREATED:20240614T062930Z
LAST-MODIFIED:20250520T073242Z
UID:10008040-1719255600-1719259200@graubuendentrailrun.ch
SUMMARY:Trailtreff Samedan
DESCRIPTION:#trailtreff – Graubündens öffentliche Trailrunning-Gruppe\nDer Trailtreff Samedan ist eine Feierabendrunde in flowigem Gelände. Unsere Runden dauern ca. 60 Min und finden das ganze Jahr hindurch wöchentlich am Montag statt. Im Juni und Juli können im Sportgeschäft Stile Alpino in Samedan Test-Laufschuhe ausgeliehen werden. Anmelden musst du dich nicht\, sei einfach pünktlich um 19.00 Uhr beim Fussballplatz Promulinsarena in Samedan. Also auf den Trail\, fertig\, los!
URL:https://graubuendentrailrun.ch/event/trailtreff_samedan/2024-06-24/
LOCATION:Promulins Arena Samedan\, Promulins 12\, Samedan\, 7503\, Switzerland
CATEGORIES:Trailtreff
ATTACH;FMTTYPE=image/jpeg:https://graubuendentrailrun.ch/wp-content/uploads/2024/06/Trailtreff_Samedan-e1718721983611.jpg
ORGANIZER;CN="Tina Gartz Vliegen":MAILTO:gartztina@hotmail.com
END:VEVENT
BEGIN:VEVENT
DTSTART;TZID=Europe/Zurich:20240617T190000
DTEND;TZID=Europe/Zurich:20240617T200000
DTSTAMP:20260424T073459
CREATED:20240614T062930Z
LAST-MODIFIED:20250520T073242Z
UID:10008007-1718650800-1718654400@graubuendentrailrun.ch
SUMMARY:Trailtreff Samedan
DESCRIPTION:#trailtreff – Graubündens öffentliche Trailrunning-Gruppe\nDer Trailtreff Samedan ist eine Feierabendrunde in flowigem Gelände. Unsere Runden dauern ca. 60 Min und finden das ganze Jahr hindurch wöchentlich am Montag statt. Im Juni und Juli können im Sportgeschäft Stile Alpino in Samedan Test-Laufschuhe ausgeliehen werden. Anmelden musst du dich nicht\, sei einfach pünktlich um 19.00 Uhr beim Fussballplatz Promulinsarena in Samedan. Also auf den Trail\, fertig\, los!
URL:https://graubuendentrailrun.ch/event/trailtreff_samedan/2024-06-17/
LOCATION:Promulins Arena Samedan\, Promulins 12\, Samedan\, 7503\, Switzerland
CATEGORIES:Trailtreff
ATTACH;FMTTYPE=image/jpeg:https://graubuendentrailrun.ch/wp-content/uploads/2024/06/Trailtreff_Samedan-e1718721983611.jpg
ORGANIZER;CN="Tina Gartz Vliegen":MAILTO:gartztina@hotmail.com
END:VEVENT
END:VCALENDAR