BEGIN:VCALENDAR
VERSION:2.0
PRODID:-//graubünden Trailrun - ECPv6.15.20//NONSGML v1.0//EN
CALSCALE:GREGORIAN
METHOD:PUBLISH
X-ORIGINAL-URL:https://graubuendentrailrun.ch
X-WR-CALDESC:Veranstaltungen für graubünden Trailrun
REFRESH-INTERVAL;VALUE=DURATION:PT1H
X-Robots-Tag:noindex
X-PUBLISHED-TTL:PT1H
BEGIN:VTIMEZONE
TZID:Europe/Zurich
BEGIN:DAYLIGHT
TZOFFSETFROM:+0100
TZOFFSETTO:+0200
TZNAME:CEST
DTSTART:20240331T010000
END:DAYLIGHT
BEGIN:STANDARD
TZOFFSETFROM:+0200
TZOFFSETTO:+0100
TZNAME:CET
DTSTART:20241027T010000
END:STANDARD
BEGIN:DAYLIGHT
TZOFFSETFROM:+0100
TZOFFSETTO:+0200
TZNAME:CEST
DTSTART:20250330T010000
END:DAYLIGHT
BEGIN:STANDARD
TZOFFSETFROM:+0200
TZOFFSETTO:+0100
TZNAME:CET
DTSTART:20251026T010000
END:STANDARD
BEGIN:DAYLIGHT
TZOFFSETFROM:+0100
TZOFFSETTO:+0200
TZNAME:CEST
DTSTART:20260329T010000
END:DAYLIGHT
BEGIN:STANDARD
TZOFFSETFROM:+0200
TZOFFSETTO:+0100
TZNAME:CET
DTSTART:20261025T010000
END:STANDARD
BEGIN:DAYLIGHT
TZOFFSETFROM:+0100
TZOFFSETTO:+0200
TZNAME:CEST
DTSTART:20270328T010000
END:DAYLIGHT
BEGIN:STANDARD
TZOFFSETFROM:+0200
TZOFFSETTO:+0100
TZNAME:CET
DTSTART:20271031T010000
END:STANDARD
END:VTIMEZONE
BEGIN:VEVENT
DTSTART;TZID=Europe/Zurich:20260313T160000
DTEND;TZID=Europe/Zurich:20260313T200000
DTSTAMP:20260423T215140
CREATED:20251103T183132Z
LAST-MODIFIED:20251103T183132Z
UID:10009562-1773417600-1773432000@graubuendentrailrun.ch
SUMMARY:Mitgliederversammlung
DESCRIPTION:
URL:https://graubuendentrailrun.ch/event/mitgliederversammlung/
CATEGORIES:Vereinstermine
ATTACH;FMTTYPE=image/jpeg:https://graubuendentrailrun.ch/wp-content/uploads/2025/03/PHOTO-2025-03-27-14-13-22-12-scaled.jpg
ORGANIZER;CN="Verein graub%C3%BCnden Trailrun":MAILTO:info@zenit.run
END:VEVENT
BEGIN:VEVENT
DTSTART;TZID=Europe/Zurich:20260303T183000
DTEND;TZID=Europe/Zurich:20260303T210000
DTSTAMP:20260423T215140
CREATED:20260127T153245Z
LAST-MODIFIED:20260127T153832Z
UID:10016611-1772562600-1772571600@graubuendentrailrun.ch
SUMMARY:Community Run – moonrun
DESCRIPTION:Start: 18.30 Uhr\nEnde: 21.00 Uhr\nStrecke: 9 km / 470 Hm \nEin besonderes Erlebnis wartet auf dich am Dienstagabend\, 3.3.2026. Erlebe die Magie einer klaren kalten Vollmondnacht am Schamserberg. Unsere Trailrunde startet in Mathon und führt uns zum Bergsee Libi am Fusse des Beverins. Zurück in Mathon kehren wir im Restaurant Muntsulej ein und stärken uns mit Getränken und einer währschaften Gerstensuppe. Damit du gemütlich Anreisen kannst und sicher wieder nach Hause kommst\, haben wir für dich ein TrailTaxi organisiert. Einfach deinen Zustiegsort im Anmeldeformular auswählen.
URL:https://graubuendentrailrun.ch/event/moonrun/
LOCATION:Mathon\, laresch 1\, Mathon\, 7433
CATEGORIES:Community Runs
ATTACH;FMTTYPE=image/jpeg:https://graubuendentrailrun.ch/wp-content/uploads/2026/01/Flyer_moonrun_16zu9.jpg
ORGANIZER;CN="Verein graub%C3%BCnden Trailrun":MAILTO:info@zenit.run
END:VEVENT
BEGIN:VEVENT
DTSTART;VALUE=DATE:20251120
DTEND;VALUE=DATE:20251121
DTSTAMP:20260423T215140
CREATED:20250626T065236Z
LAST-MODIFIED:20250626T065236Z
UID:10009527-1763596800-1763683199@graubuendentrailrun.ch
SUMMARY:Open Space & Trails
DESCRIPTION:Die Open Space & Trails Workshops bieten Trailrunning-Begeisterten in Graubünden eine Plattform zum Mitgestalten. In entspannter Atmosphäre tauschen sich Teilnehmende aus Tourismus\, Sport und Community über die Zukunft des Trailrunnings aus – von Ideen bis zu Herausforderungen. Abgerundet wird der Tag mit einer gemeinsamen Laufrunde auf den Trails – für Austausch\, Inspiration und echtes Trail-Feeling. \nMehr erfahren
URL:https://graubuendentrailrun.ch/event/open-space-trails/2025-11-20/
CATEGORIES:Projekttermine
ATTACH;FMTTYPE=image/jpeg:https://graubuendentrailrun.ch/wp-content/uploads/2025/06/AdobeStock_701417940-scaled.jpeg
ORGANIZER;CN="Verein graub%C3%BCnden Trailrun":MAILTO:info@zenit.run
END:VEVENT
BEGIN:VEVENT
DTSTART;TZID=Europe/Zurich:20251111T110000
DTEND;TZID=Europe/Zurich:20251111T170000
DTSTAMP:20260423T215140
CREATED:20250915T145055Z
LAST-MODIFIED:20250915T145055Z
UID:10009543-1762858800-1762880400@graubuendentrailrun.ch
SUMMARY:Ruedirennt Marathon
DESCRIPTION:Ruedirennt Marathon für die gute Sache\n\n\n\n\ngraubünden Trailrun ist dabei – und du kannst mitlaufen! \nAm 11. November um 11:00 Uhr starten wir in Thusis zu einem ganz besonderen Marathon. Im Rahmen des Projekts von Ruedi Frehner «Ruedi rennt – 30 Marathons in 30 Tagen für krebskranke Kinder» haben wir als Verein einen der 30 Marathons übernommen. Damit unterstützen wir die Stiftung Sonnenschein\, die sich für krebskranke Kinder und ihre Familien einsetzt – im Spital\, im Alltag und mit viel Herz. \nDie Strecke besteht aus sechs abwechslungsreichen Runden (14.1 km\, 9.4 km\, 9 km\, 5.9 km\, 2 x 1.5 km) mit zusätzlichen Schlaufen im Trailcenter Thusis. Begleite mit uns zusammen Ruedi bei seiner Challenge\, laufe mit ihm oder komm einfach vorbei und geniesse das tolle Rahmenprogramm. \nWas erwartet dich vor Ort? \n\nVerpflegung und Getränke\nMaterial-Testing mit X-Bionic\nVerlosung von einem Paar X-Bionic Terraskin Schuhe\n\nWie kannst du Teil der Veranstaltung sein? \n\nLaufe mit Ruedi zusammen: eine\, zwei\, drei\, vier\, fünf oder alle Runden\nBesuche uns im Trailcenter Thusis und geniesse das Rahmenprogramm – ob ein kleiner Lunch\, X-Bionic Schuhe testen oder zur Feier des gelungenen Marathons am Nachmittag\n\nLasst uns gemeinsam laufen – für die Community\, für die Freude am Sport und für einen guten Zweck. Wir freuen uns auf dich!
URL:https://graubuendentrailrun.ch/event/ruedirennt-marathon/
LOCATION:Trailcenter Thusis\, PC3W+4GP Thusis
CATEGORIES:Community Runs
ATTACH;FMTTYPE=image/png:https://graubuendentrailrun.ch/wp-content/uploads/2025/09/Bildschirmfoto-2025-09-15-um-16.48.05.png
ORGANIZER;CN="Verein graub%C3%BCnden Trailrun":MAILTO:info@zenit.run
END:VEVENT
BEGIN:VEVENT
DTSTART;TZID=Europe/Zurich:20250819T130000
DTEND;TZID=Europe/Zurich:20250819T170000
DTSTAMP:20260423T215140
CREATED:20250626T070419Z
LAST-MODIFIED:20250626T070419Z
UID:10009529-1755608400-1755622800@graubuendentrailrun.ch
SUMMARY:Netzwerk-Treffen
DESCRIPTION:Networking\, sich über Trailrunning austauschen und aktuelle Themen diskutieren. \nDank dem jährlichen Treffen wurde eine Plattform geschaffen\, wo sich die Welt des Trailrunnings trifft\, austauscht und aktuelle Themen diskutiert. Das Detailprogramm sowie die externen Themeninputs werden aktuell geplant und zeitnah den Teilnehmenden kommuniziert. Willkommen sind alle – ob Destination\, Leistungsträger oder Privatperson mit einer Leidenschaft fürs Trailrunning!
URL:https://graubuendentrailrun.ch/event/netzwerk-treffen/2025-08-19/
CATEGORIES:Projekttermine
ATTACH;FMTTYPE=image/jpeg:https://graubuendentrailrun.ch/wp-content/uploads/2025/06/AdobeStock_1441448132-scaled.jpeg
ORGANIZER;CN="Verein graub%C3%BCnden Trailrun":MAILTO:info@zenit.run
END:VEVENT
END:VCALENDAR