BEGIN:VCALENDAR
VERSION:2.0
PRODID:-//graubünden Trailrun - ECPv6.15.20//NONSGML v1.0//EN
CALSCALE:GREGORIAN
METHOD:PUBLISH
X-ORIGINAL-URL:https://graubuendentrailrun.ch
X-WR-CALDESC:Veranstaltungen für graubünden Trailrun
REFRESH-INTERVAL;VALUE=DURATION:PT1H
X-Robots-Tag:noindex
X-PUBLISHED-TTL:PT1H
BEGIN:VTIMEZONE
TZID:Europe/Zurich
BEGIN:DAYLIGHT
TZOFFSETFROM:+0100
TZOFFSETTO:+0200
TZNAME:CEST
DTSTART:20250330T010000
END:DAYLIGHT
BEGIN:STANDARD
TZOFFSETFROM:+0200
TZOFFSETTO:+0100
TZNAME:CET
DTSTART:20251026T010000
END:STANDARD
BEGIN:DAYLIGHT
TZOFFSETFROM:+0100
TZOFFSETTO:+0200
TZNAME:CEST
DTSTART:20260329T010000
END:DAYLIGHT
BEGIN:STANDARD
TZOFFSETFROM:+0200
TZOFFSETTO:+0100
TZNAME:CET
DTSTART:20261025T010000
END:STANDARD
BEGIN:DAYLIGHT
TZOFFSETFROM:+0100
TZOFFSETTO:+0200
TZNAME:CEST
DTSTART:20270328T010000
END:DAYLIGHT
BEGIN:STANDARD
TZOFFSETFROM:+0200
TZOFFSETTO:+0100
TZNAME:CET
DTSTART:20271031T010000
END:STANDARD
END:VTIMEZONE
BEGIN:VEVENT
DTSTART;TZID=Europe/Zurich:20260818T130000
DTEND;TZID=Europe/Zurich:20260818T170000
DTSTAMP:20260423T105920
CREATED:20250626T070419Z
LAST-MODIFIED:20250626T070419Z
UID:10009530-1787058000-1787072400@graubuendentrailrun.ch
SUMMARY:Netzwerk-Treffen
DESCRIPTION:Networking\, sich über Trailrunning austauschen und aktuelle Themen diskutieren. \nDank dem jährlichen Treffen wurde eine Plattform geschaffen\, wo sich die Welt des Trailrunnings trifft\, austauscht und aktuelle Themen diskutiert. Das Detailprogramm sowie die externen Themeninputs werden aktuell geplant und zeitnah den Teilnehmenden kommuniziert. Willkommen sind alle – ob Destination\, Leistungsträger oder Privatperson mit einer Leidenschaft fürs Trailrunning!
URL:https://graubuendentrailrun.ch/event/netzwerk-treffen/2026-08-18/
CATEGORIES:Projekttermine
ATTACH;FMTTYPE=image/jpeg:https://graubuendentrailrun.ch/wp-content/uploads/2025/06/AdobeStock_1441448132-scaled.jpeg
ORGANIZER;CN="Verein graub%C3%BCnden Trailrun":MAILTO:info@zenit.run
END:VEVENT
BEGIN:VEVENT
DTSTART;VALUE=DATE:20261119
DTEND;VALUE=DATE:20261120
DTSTAMP:20260423T105920
CREATED:20250626T065236Z
LAST-MODIFIED:20250626T065236Z
UID:10009528-1795075200-1795107600@graubuendentrailrun.ch
SUMMARY:Open Space & Trails
DESCRIPTION:Die Open Space & Trails Workshops bieten Trailrunning-Begeisterten in Graubünden eine Plattform zum Mitgestalten. In entspannter Atmosphäre tauschen sich Teilnehmende aus Tourismus\, Sport und Community über die Zukunft des Trailrunnings aus – von Ideen bis zu Herausforderungen. Abgerundet wird der Tag mit einer gemeinsamen Laufrunde auf den Trails – für Austausch\, Inspiration und echtes Trail-Feeling. \nMehr erfahren
URL:https://graubuendentrailrun.ch/event/open-space-trails/2026-11-19/
CATEGORIES:Projekttermine
ATTACH;FMTTYPE=image/jpeg:https://graubuendentrailrun.ch/wp-content/uploads/2025/06/AdobeStock_701417940-scaled.jpeg
ORGANIZER;CN="Verein graub%C3%BCnden Trailrun":MAILTO:info@zenit.run
END:VEVENT
END:VCALENDAR