BEGIN:VCALENDAR
VERSION:2.0
PRODID:-//graubünden Trailrun - ECPv6.15.20//NONSGML v1.0//EN
CALSCALE:GREGORIAN
METHOD:PUBLISH
X-WR-CALNAME:graubünden Trailrun
X-ORIGINAL-URL:https://graubuendentrailrun.ch
X-WR-CALDESC:Veranstaltungen für graubünden Trailrun
REFRESH-INTERVAL;VALUE=DURATION:PT1H
X-Robots-Tag:noindex
X-PUBLISHED-TTL:PT1H
BEGIN:VTIMEZONE
TZID:Europe/Zurich
BEGIN:DAYLIGHT
TZOFFSETFROM:+0100
TZOFFSETTO:+0200
TZNAME:CEST
DTSTART:20200329T010000
END:DAYLIGHT
BEGIN:STANDARD
TZOFFSETFROM:+0200
TZOFFSETTO:+0100
TZNAME:CET
DTSTART:20201025T010000
END:STANDARD
BEGIN:DAYLIGHT
TZOFFSETFROM:+0100
TZOFFSETTO:+0200
TZNAME:CEST
DTSTART:20210328T010000
END:DAYLIGHT
BEGIN:STANDARD
TZOFFSETFROM:+0200
TZOFFSETTO:+0100
TZNAME:CET
DTSTART:20211031T010000
END:STANDARD
BEGIN:DAYLIGHT
TZOFFSETFROM:+0100
TZOFFSETTO:+0200
TZNAME:CEST
DTSTART:20220327T010000
END:DAYLIGHT
BEGIN:STANDARD
TZOFFSETFROM:+0200
TZOFFSETTO:+0100
TZNAME:CET
DTSTART:20221030T010000
END:STANDARD
BEGIN:DAYLIGHT
TZOFFSETFROM:+0100
TZOFFSETTO:+0200
TZNAME:CEST
DTSTART:20230326T010000
END:DAYLIGHT
BEGIN:STANDARD
TZOFFSETFROM:+0200
TZOFFSETTO:+0100
TZNAME:CET
DTSTART:20231029T010000
END:STANDARD
BEGIN:DAYLIGHT
TZOFFSETFROM:+0100
TZOFFSETTO:+0200
TZNAME:CEST
DTSTART:20240331T010000
END:DAYLIGHT
BEGIN:STANDARD
TZOFFSETFROM:+0200
TZOFFSETTO:+0100
TZNAME:CET
DTSTART:20241027T010000
END:STANDARD
END:VTIMEZONE
BEGIN:VEVENT
DTSTART;VALUE=DATE:20231008
DTEND;VALUE=DATE:20231009
DTSTAMP:20260423T130008
CREATED:20210526T064749Z
LAST-MODIFIED:20230105T132258Z
UID:10004223-1696723200-1696809599@graubuendentrailrun.ch
SUMMARY:Val Bregaglia Trail
DESCRIPTION:Laufveranstaltung mit drei Strecken auf den Grenzwegen zwischen der Schweiz und Italien. \nTrail\n43\,2 km / Höhenprofil +/- 2758 m \nHalf Trail \n23\,5 km / Höhenprofil +/- 1032 m \n 
URL:https://graubuendentrailrun.ch/event/val-bregaglia-trail/2023-10-08/
LOCATION:Chiavenna\, Chiavenna\, 23022\, Italy
CATEGORIES:Laufveranstaltungen
ATTACH;FMTTYPE=image/jpeg:https://graubuendentrailrun.ch/wp-content/uploads/2020/08/Bregaglia_Trail.jpg
ORGANIZER;CN="OK KV / Val Bregaglia Trail":MAILTO:info@kilometroverticalelagunc.it
END:VEVENT
BEGIN:VEVENT
DTSTART;VALUE=DATE:20231007
DTEND;VALUE=DATE:20231008
DTSTAMP:20260423T130009
CREATED:20210527T082957Z
LAST-MODIFIED:20230105T132417Z
UID:10004296-1696636800-1696723199@graubuendentrailrun.ch
SUMMARY:Kilometro Verticale
DESCRIPTION:Laufveranstaltung mit einer Strecke von 1 km vertikal und 3.298 m horizontal.
URL:https://graubuendentrailrun.ch/event/kilometro-verticale/2023-10-07/
LOCATION:Chiavenna\, Chiavenna\, 23022\, Italy
CATEGORIES:Laufveranstaltungen
ATTACH;FMTTYPE=image/jpeg:https://graubuendentrailrun.ch/wp-content/uploads/2020/08/Kilometro_Verticale.jpg
ORGANIZER;CN="OK KV / Val Bregaglia Trail":MAILTO:info@kilometroverticalelagunc.it
END:VEVENT
BEGIN:VEVENT
DTSTART;VALUE=DATE:20221009
DTEND;VALUE=DATE:20221010
DTSTAMP:20260423T130009
CREATED:20210526T064749Z
LAST-MODIFIED:20230105T132258Z
UID:10004222-1665273600-1665359999@graubuendentrailrun.ch
SUMMARY:Val Bregaglia Trail
DESCRIPTION:Laufveranstaltung mit drei Strecken auf den Grenzwegen zwischen der Schweiz und Italien. \nTrail\n43\,2 km / Höhenprofil +/- 2758 m \nHalf Trail \n23\,5 km / Höhenprofil +/- 1032 m \n 
URL:https://graubuendentrailrun.ch/event/val-bregaglia-trail/2022-10-09/
LOCATION:Chiavenna\, Chiavenna\, 23022\, Italy
CATEGORIES:Laufveranstaltungen
ATTACH;FMTTYPE=image/jpeg:https://graubuendentrailrun.ch/wp-content/uploads/2020/08/Bregaglia_Trail.jpg
ORGANIZER;CN="OK KV / Val Bregaglia Trail":MAILTO:info@kilometroverticalelagunc.it
END:VEVENT
BEGIN:VEVENT
DTSTART;VALUE=DATE:20221008
DTEND;VALUE=DATE:20221009
DTSTAMP:20260423T130009
CREATED:20210527T082957Z
LAST-MODIFIED:20230105T132417Z
UID:10004295-1665187200-1665273599@graubuendentrailrun.ch
SUMMARY:Kilometro Verticale
DESCRIPTION:Laufveranstaltung mit einer Strecke von 1 km vertikal und 3.298 m horizontal.
URL:https://graubuendentrailrun.ch/event/kilometro-verticale/2022-10-08/
LOCATION:Chiavenna\, Chiavenna\, 23022\, Italy
CATEGORIES:Laufveranstaltungen
ATTACH;FMTTYPE=image/jpeg:https://graubuendentrailrun.ch/wp-content/uploads/2020/08/Kilometro_Verticale.jpg
ORGANIZER;CN="OK KV / Val Bregaglia Trail":MAILTO:info@kilometroverticalelagunc.it
END:VEVENT
BEGIN:VEVENT
DTSTART;VALUE=DATE:20211010
DTEND;VALUE=DATE:20211011
DTSTAMP:20260423T130009
CREATED:20210527T082957Z
LAST-MODIFIED:20230105T132417Z
UID:10004294-1633824000-1633910399@graubuendentrailrun.ch
SUMMARY:Kilometro Verticale
DESCRIPTION:Laufveranstaltung mit einer Strecke von 1 km vertikal und 3.298 m horizontal.
URL:https://graubuendentrailrun.ch/event/kilometro-verticale/2021-10-10/
LOCATION:Chiavenna\, Chiavenna\, 23022\, Italy
CATEGORIES:Laufveranstaltungen
ATTACH;FMTTYPE=image/jpeg:https://graubuendentrailrun.ch/wp-content/uploads/2020/08/Kilometro_Verticale.jpg
ORGANIZER;CN="OK KV / Val Bregaglia Trail":MAILTO:info@kilometroverticalelagunc.it
END:VEVENT
END:VCALENDAR