BEGIN:VCALENDAR
VERSION:2.0
PRODID:-//graubünden Trailrun - ECPv6.15.20//NONSGML v1.0//EN
CALSCALE:GREGORIAN
METHOD:PUBLISH
X-ORIGINAL-URL:https://graubuendentrailrun.ch
X-WR-CALDESC:Veranstaltungen für graubünden Trailrun
REFRESH-INTERVAL;VALUE=DURATION:PT1H
X-Robots-Tag:noindex
X-PUBLISHED-TTL:PT1H
BEGIN:VTIMEZONE
TZID:Europe/Zurich
BEGIN:DAYLIGHT
TZOFFSETFROM:+0100
TZOFFSETTO:+0200
TZNAME:CEST
DTSTART:20260329T010000
END:DAYLIGHT
BEGIN:STANDARD
TZOFFSETFROM:+0200
TZOFFSETTO:+0100
TZNAME:CET
DTSTART:20261025T010000
END:STANDARD
BEGIN:DAYLIGHT
TZOFFSETFROM:+0100
TZOFFSETTO:+0200
TZNAME:CEST
DTSTART:20270328T010000
END:DAYLIGHT
BEGIN:STANDARD
TZOFFSETFROM:+0200
TZOFFSETTO:+0100
TZNAME:CET
DTSTART:20271031T010000
END:STANDARD
BEGIN:DAYLIGHT
TZOFFSETFROM:+0100
TZOFFSETTO:+0200
TZNAME:CEST
DTSTART:20280326T010000
END:DAYLIGHT
BEGIN:STANDARD
TZOFFSETFROM:+0200
TZOFFSETTO:+0100
TZNAME:CET
DTSTART:20281029T010000
END:STANDARD
END:VTIMEZONE
BEGIN:VEVENT
DTSTART;TZID=Europe/Zurich:20270127T182000
DTEND;TZID=Europe/Zurich:20270127T200000
DTSTAMP:20260423T213718
CREATED:20260304T065104Z
LAST-MODIFIED:20260304T065332Z
UID:10016691-1801074000-1801080000@graubuendentrailrun.ch
SUMMARY:Winter Trailtreff Thusis
DESCRIPTION:#trailtreff – Graubündens öffentliche Trailrunning-Gruppe\nDer Winter Trailtreff Thusis ist eine Feierabendrunde in flowigem Gelände. Unsere Runden dauern ca. 60 – 80 Min. und finden wöchentlich am Mittwoch in den Wintermonaten (Nov. – März) statt. Wir teilen die Stärkeklassen flexibel ein. Anmelden musst du dich nicht\, sei einfach pünktlich um 18.20 Uhr beim Getränke Wieland an der Compognastrasse in Thusis. Also auf den Trail\, fertig\, los!
URL:https://graubuendentrailrun.ch/event/winter-trailtreff_thusis-2-2-3/2027-01-27/
LOCATION:Compognastrasee\, Compognastrasse 6\, Thusis\, 7430\, Switzerland
CATEGORIES:Trailtreff
ATTACH;FMTTYPE=image/jpeg:https://graubuendentrailrun.ch/wp-content/uploads/2021/12/Wintertrailtreff.jpg
ORGANIZER;CN="Peter Egger":MAILTO:egger.peter@bluewin.ch
END:VEVENT
BEGIN:VEVENT
DTSTART;TZID=Europe/Zurich:20270203T182000
DTEND;TZID=Europe/Zurich:20270203T200000
DTSTAMP:20260423T213718
CREATED:20260304T065104Z
LAST-MODIFIED:20260304T065332Z
UID:10016692-1801678800-1801684800@graubuendentrailrun.ch
SUMMARY:Winter Trailtreff Thusis
DESCRIPTION:#trailtreff – Graubündens öffentliche Trailrunning-Gruppe\nDer Winter Trailtreff Thusis ist eine Feierabendrunde in flowigem Gelände. Unsere Runden dauern ca. 60 – 80 Min. und finden wöchentlich am Mittwoch in den Wintermonaten (Nov. – März) statt. Wir teilen die Stärkeklassen flexibel ein. Anmelden musst du dich nicht\, sei einfach pünktlich um 18.20 Uhr beim Getränke Wieland an der Compognastrasse in Thusis. Also auf den Trail\, fertig\, los!
URL:https://graubuendentrailrun.ch/event/winter-trailtreff_thusis-2-2-3/2027-02-03/
LOCATION:Compognastrasee\, Compognastrasse 6\, Thusis\, 7430\, Switzerland
CATEGORIES:Trailtreff
ATTACH;FMTTYPE=image/jpeg:https://graubuendentrailrun.ch/wp-content/uploads/2021/12/Wintertrailtreff.jpg
ORGANIZER;CN="Peter Egger":MAILTO:egger.peter@bluewin.ch
END:VEVENT
BEGIN:VEVENT
DTSTART;TZID=Europe/Zurich:20270210T182000
DTEND;TZID=Europe/Zurich:20270210T200000
DTSTAMP:20260423T213718
CREATED:20260304T065104Z
LAST-MODIFIED:20260304T065332Z
UID:10016693-1802283600-1802289600@graubuendentrailrun.ch
SUMMARY:Winter Trailtreff Thusis
DESCRIPTION:#trailtreff – Graubündens öffentliche Trailrunning-Gruppe\nDer Winter Trailtreff Thusis ist eine Feierabendrunde in flowigem Gelände. Unsere Runden dauern ca. 60 – 80 Min. und finden wöchentlich am Mittwoch in den Wintermonaten (Nov. – März) statt. Wir teilen die Stärkeklassen flexibel ein. Anmelden musst du dich nicht\, sei einfach pünktlich um 18.20 Uhr beim Getränke Wieland an der Compognastrasse in Thusis. Also auf den Trail\, fertig\, los!
URL:https://graubuendentrailrun.ch/event/winter-trailtreff_thusis-2-2-3/2027-02-10/
LOCATION:Compognastrasee\, Compognastrasse 6\, Thusis\, 7430\, Switzerland
CATEGORIES:Trailtreff
ATTACH;FMTTYPE=image/jpeg:https://graubuendentrailrun.ch/wp-content/uploads/2021/12/Wintertrailtreff.jpg
ORGANIZER;CN="Peter Egger":MAILTO:egger.peter@bluewin.ch
END:VEVENT
BEGIN:VEVENT
DTSTART;TZID=Europe/Zurich:20270217T182000
DTEND;TZID=Europe/Zurich:20270217T200000
DTSTAMP:20260423T213718
CREATED:20260304T065104Z
LAST-MODIFIED:20260304T065332Z
UID:10016694-1802888400-1802894400@graubuendentrailrun.ch
SUMMARY:Winter Trailtreff Thusis
DESCRIPTION:#trailtreff – Graubündens öffentliche Trailrunning-Gruppe\nDer Winter Trailtreff Thusis ist eine Feierabendrunde in flowigem Gelände. Unsere Runden dauern ca. 60 – 80 Min. und finden wöchentlich am Mittwoch in den Wintermonaten (Nov. – März) statt. Wir teilen die Stärkeklassen flexibel ein. Anmelden musst du dich nicht\, sei einfach pünktlich um 18.20 Uhr beim Getränke Wieland an der Compognastrasse in Thusis. Also auf den Trail\, fertig\, los!
URL:https://graubuendentrailrun.ch/event/winter-trailtreff_thusis-2-2-3/2027-02-17/
LOCATION:Compognastrasee\, Compognastrasse 6\, Thusis\, 7430\, Switzerland
CATEGORIES:Trailtreff
ATTACH;FMTTYPE=image/jpeg:https://graubuendentrailrun.ch/wp-content/uploads/2021/12/Wintertrailtreff.jpg
ORGANIZER;CN="Peter Egger":MAILTO:egger.peter@bluewin.ch
END:VEVENT
BEGIN:VEVENT
DTSTART;TZID=Europe/Zurich:20270224T182000
DTEND;TZID=Europe/Zurich:20270224T200000
DTSTAMP:20260423T213718
CREATED:20260304T065104Z
LAST-MODIFIED:20260304T065332Z
UID:10016695-1803493200-1803499200@graubuendentrailrun.ch
SUMMARY:Winter Trailtreff Thusis
DESCRIPTION:#trailtreff – Graubündens öffentliche Trailrunning-Gruppe\nDer Winter Trailtreff Thusis ist eine Feierabendrunde in flowigem Gelände. Unsere Runden dauern ca. 60 – 80 Min. und finden wöchentlich am Mittwoch in den Wintermonaten (Nov. – März) statt. Wir teilen die Stärkeklassen flexibel ein. Anmelden musst du dich nicht\, sei einfach pünktlich um 18.20 Uhr beim Getränke Wieland an der Compognastrasse in Thusis. Also auf den Trail\, fertig\, los!
URL:https://graubuendentrailrun.ch/event/winter-trailtreff_thusis-2-2-3/2027-02-24/
LOCATION:Compognastrasee\, Compognastrasse 6\, Thusis\, 7430\, Switzerland
CATEGORIES:Trailtreff
ATTACH;FMTTYPE=image/jpeg:https://graubuendentrailrun.ch/wp-content/uploads/2021/12/Wintertrailtreff.jpg
ORGANIZER;CN="Peter Egger":MAILTO:egger.peter@bluewin.ch
END:VEVENT
BEGIN:VEVENT
DTSTART;TZID=Europe/Zurich:20270303T182000
DTEND;TZID=Europe/Zurich:20270303T200000
DTSTAMP:20260423T213718
CREATED:20260304T065104Z
LAST-MODIFIED:20260304T065332Z
UID:10016696-1804098000-1804104000@graubuendentrailrun.ch
SUMMARY:Winter Trailtreff Thusis
DESCRIPTION:#trailtreff – Graubündens öffentliche Trailrunning-Gruppe\nDer Winter Trailtreff Thusis ist eine Feierabendrunde in flowigem Gelände. Unsere Runden dauern ca. 60 – 80 Min. und finden wöchentlich am Mittwoch in den Wintermonaten (Nov. – März) statt. Wir teilen die Stärkeklassen flexibel ein. Anmelden musst du dich nicht\, sei einfach pünktlich um 18.20 Uhr beim Getränke Wieland an der Compognastrasse in Thusis. Also auf den Trail\, fertig\, los!
URL:https://graubuendentrailrun.ch/event/winter-trailtreff_thusis-2-2-3/2027-03-03/
LOCATION:Compognastrasee\, Compognastrasse 6\, Thusis\, 7430\, Switzerland
CATEGORIES:Trailtreff
ATTACH;FMTTYPE=image/jpeg:https://graubuendentrailrun.ch/wp-content/uploads/2021/12/Wintertrailtreff.jpg
ORGANIZER;CN="Peter Egger":MAILTO:egger.peter@bluewin.ch
END:VEVENT
BEGIN:VEVENT
DTSTART;TZID=Europe/Zurich:20270310T182000
DTEND;TZID=Europe/Zurich:20270310T200000
DTSTAMP:20260423T213718
CREATED:20260304T065104Z
LAST-MODIFIED:20260304T065332Z
UID:10016697-1804702800-1804708800@graubuendentrailrun.ch
SUMMARY:Winter Trailtreff Thusis
DESCRIPTION:#trailtreff – Graubündens öffentliche Trailrunning-Gruppe\nDer Winter Trailtreff Thusis ist eine Feierabendrunde in flowigem Gelände. Unsere Runden dauern ca. 60 – 80 Min. und finden wöchentlich am Mittwoch in den Wintermonaten (Nov. – März) statt. Wir teilen die Stärkeklassen flexibel ein. Anmelden musst du dich nicht\, sei einfach pünktlich um 18.20 Uhr beim Getränke Wieland an der Compognastrasse in Thusis. Also auf den Trail\, fertig\, los!
URL:https://graubuendentrailrun.ch/event/winter-trailtreff_thusis-2-2-3/2027-03-10/
LOCATION:Compognastrasee\, Compognastrasse 6\, Thusis\, 7430\, Switzerland
CATEGORIES:Trailtreff
ATTACH;FMTTYPE=image/jpeg:https://graubuendentrailrun.ch/wp-content/uploads/2021/12/Wintertrailtreff.jpg
ORGANIZER;CN="Peter Egger":MAILTO:egger.peter@bluewin.ch
END:VEVENT
BEGIN:VEVENT
DTSTART;TZID=Europe/Zurich:20270317T182000
DTEND;TZID=Europe/Zurich:20270317T200000
DTSTAMP:20260423T213718
CREATED:20260304T065104Z
LAST-MODIFIED:20260304T065332Z
UID:10016698-1805307600-1805313600@graubuendentrailrun.ch
SUMMARY:Winter Trailtreff Thusis
DESCRIPTION:#trailtreff – Graubündens öffentliche Trailrunning-Gruppe\nDer Winter Trailtreff Thusis ist eine Feierabendrunde in flowigem Gelände. Unsere Runden dauern ca. 60 – 80 Min. und finden wöchentlich am Mittwoch in den Wintermonaten (Nov. – März) statt. Wir teilen die Stärkeklassen flexibel ein. Anmelden musst du dich nicht\, sei einfach pünktlich um 18.20 Uhr beim Getränke Wieland an der Compognastrasse in Thusis. Also auf den Trail\, fertig\, los!
URL:https://graubuendentrailrun.ch/event/winter-trailtreff_thusis-2-2-3/2027-03-17/
LOCATION:Compognastrasee\, Compognastrasse 6\, Thusis\, 7430\, Switzerland
CATEGORIES:Trailtreff
ATTACH;FMTTYPE=image/jpeg:https://graubuendentrailrun.ch/wp-content/uploads/2021/12/Wintertrailtreff.jpg
ORGANIZER;CN="Peter Egger":MAILTO:egger.peter@bluewin.ch
END:VEVENT
BEGIN:VEVENT
DTSTART;TZID=Europe/Zurich:20270324T182000
DTEND;TZID=Europe/Zurich:20270324T200000
DTSTAMP:20260423T213718
CREATED:20260304T065104Z
LAST-MODIFIED:20260304T065332Z
UID:10016699-1805912400-1805918400@graubuendentrailrun.ch
SUMMARY:Winter Trailtreff Thusis
DESCRIPTION:#trailtreff – Graubündens öffentliche Trailrunning-Gruppe\nDer Winter Trailtreff Thusis ist eine Feierabendrunde in flowigem Gelände. Unsere Runden dauern ca. 60 – 80 Min. und finden wöchentlich am Mittwoch in den Wintermonaten (Nov. – März) statt. Wir teilen die Stärkeklassen flexibel ein. Anmelden musst du dich nicht\, sei einfach pünktlich um 18.20 Uhr beim Getränke Wieland an der Compognastrasse in Thusis. Also auf den Trail\, fertig\, los!
URL:https://graubuendentrailrun.ch/event/winter-trailtreff_thusis-2-2-3/2027-03-24/
LOCATION:Compognastrasee\, Compognastrasse 6\, Thusis\, 7430\, Switzerland
CATEGORIES:Trailtreff
ATTACH;FMTTYPE=image/jpeg:https://graubuendentrailrun.ch/wp-content/uploads/2021/12/Wintertrailtreff.jpg
ORGANIZER;CN="Peter Egger":MAILTO:egger.peter@bluewin.ch
END:VEVENT
END:VCALENDAR