BEGIN:VCALENDAR
VERSION:2.0
PRODID:-//graubünden Trailrun - ECPv6.15.20//NONSGML v1.0//EN
CALSCALE:GREGORIAN
METHOD:PUBLISH
X-ORIGINAL-URL:https://graubuendentrailrun.ch
X-WR-CALDESC:Veranstaltungen für graubünden Trailrun
REFRESH-INTERVAL;VALUE=DURATION:PT1H
X-Robots-Tag:noindex
X-PUBLISHED-TTL:PT1H
BEGIN:VTIMEZONE
TZID:Europe/Zurich
BEGIN:DAYLIGHT
TZOFFSETFROM:+0100
TZOFFSETTO:+0200
TZNAME:CEST
DTSTART:20200329T010000
END:DAYLIGHT
BEGIN:STANDARD
TZOFFSETFROM:+0200
TZOFFSETTO:+0100
TZNAME:CET
DTSTART:20201025T010000
END:STANDARD
BEGIN:DAYLIGHT
TZOFFSETFROM:+0100
TZOFFSETTO:+0200
TZNAME:CEST
DTSTART:20210328T010000
END:DAYLIGHT
BEGIN:STANDARD
TZOFFSETFROM:+0200
TZOFFSETTO:+0100
TZNAME:CET
DTSTART:20211031T010000
END:STANDARD
BEGIN:DAYLIGHT
TZOFFSETFROM:+0100
TZOFFSETTO:+0200
TZNAME:CEST
DTSTART:20220327T010000
END:DAYLIGHT
BEGIN:STANDARD
TZOFFSETFROM:+0200
TZOFFSETTO:+0100
TZNAME:CET
DTSTART:20221030T010000
END:STANDARD
BEGIN:DAYLIGHT
TZOFFSETFROM:+0100
TZOFFSETTO:+0200
TZNAME:CEST
DTSTART:20230326T010000
END:DAYLIGHT
BEGIN:STANDARD
TZOFFSETFROM:+0200
TZOFFSETTO:+0100
TZNAME:CET
DTSTART:20231029T010000
END:STANDARD
END:VTIMEZONE
BEGIN:VEVENT
DTSTART;TZID=Europe/Zurich:20220202T182000
DTEND;TZID=Europe/Zurich:20220202T200000
DTSTAMP:20260425T062207
CREATED:20211209T121404Z
LAST-MODIFIED:20220322T070256Z
UID:10004876-1643826000-1643832000@graubuendentrailrun.ch
SUMMARY:Winter #trailtreff_thusis
DESCRIPTION:#trailtreff – Graubündens öffentliche Trailrunning-Gruppe\nDer Winter #trailtreff_thusis ist eine Feierabendrunde in flowigem Gelände. Unsere Runden dauern mindestens 60 Min und finden wöchentlich am Mittwoch in den Wintermonaten (Nov. – März) statt.  Wir laufen durchschnittlich ca. 5:30 Min./Km je nach Runde. Anmelden musst du dich nicht\, sei einfach pünktlich um 18.20 Uhr beim Getränke Wieland an der Compognastrasse in Thusis. Also auf den Trail\, fertig\, los!
URL:https://graubuendentrailrun.ch/event/winter-trailtreff_thusis/2022-02-02/
LOCATION:Compognastrasee\, Compognastrasse 6\, Thusis\, 7430\, Switzerland
CATEGORIES:Trailtreff
ATTACH;FMTTYPE=image/jpeg:https://graubuendentrailrun.ch/wp-content/uploads/2021/12/Wintertrailtreff.jpg
ORGANIZER;CN="Peter Egger":MAILTO:egger.peter@bluewin.ch
END:VEVENT
BEGIN:VEVENT
DTSTART;TZID=Europe/Zurich:20220126T182000
DTEND;TZID=Europe/Zurich:20220126T200000
DTSTAMP:20260425T062207
CREATED:20211209T121404Z
LAST-MODIFIED:20220322T070256Z
UID:10004875-1643221200-1643227200@graubuendentrailrun.ch
SUMMARY:Winter #trailtreff_thusis
DESCRIPTION:#trailtreff – Graubündens öffentliche Trailrunning-Gruppe\nDer Winter #trailtreff_thusis ist eine Feierabendrunde in flowigem Gelände. Unsere Runden dauern mindestens 60 Min und finden wöchentlich am Mittwoch in den Wintermonaten (Nov. – März) statt.  Wir laufen durchschnittlich ca. 5:30 Min./Km je nach Runde. Anmelden musst du dich nicht\, sei einfach pünktlich um 18.20 Uhr beim Getränke Wieland an der Compognastrasse in Thusis. Also auf den Trail\, fertig\, los!
URL:https://graubuendentrailrun.ch/event/winter-trailtreff_thusis/2022-01-26/
LOCATION:Compognastrasee\, Compognastrasse 6\, Thusis\, 7430\, Switzerland
CATEGORIES:Trailtreff
ATTACH;FMTTYPE=image/jpeg:https://graubuendentrailrun.ch/wp-content/uploads/2021/12/Wintertrailtreff.jpg
ORGANIZER;CN="Peter Egger":MAILTO:egger.peter@bluewin.ch
END:VEVENT
BEGIN:VEVENT
DTSTART;TZID=Europe/Zurich:20220119T182000
DTEND;TZID=Europe/Zurich:20220119T200000
DTSTAMP:20260425T062207
CREATED:20211209T121404Z
LAST-MODIFIED:20220322T070256Z
UID:10004874-1642616400-1642622400@graubuendentrailrun.ch
SUMMARY:Winter #trailtreff_thusis
DESCRIPTION:#trailtreff – Graubündens öffentliche Trailrunning-Gruppe\nDer Winter #trailtreff_thusis ist eine Feierabendrunde in flowigem Gelände. Unsere Runden dauern mindestens 60 Min und finden wöchentlich am Mittwoch in den Wintermonaten (Nov. – März) statt.  Wir laufen durchschnittlich ca. 5:30 Min./Km je nach Runde. Anmelden musst du dich nicht\, sei einfach pünktlich um 18.20 Uhr beim Getränke Wieland an der Compognastrasse in Thusis. Also auf den Trail\, fertig\, los!
URL:https://graubuendentrailrun.ch/event/winter-trailtreff_thusis/2022-01-19/
LOCATION:Compognastrasee\, Compognastrasse 6\, Thusis\, 7430\, Switzerland
CATEGORIES:Trailtreff
ATTACH;FMTTYPE=image/jpeg:https://graubuendentrailrun.ch/wp-content/uploads/2021/12/Wintertrailtreff.jpg
ORGANIZER;CN="Peter Egger":MAILTO:egger.peter@bluewin.ch
END:VEVENT
BEGIN:VEVENT
DTSTART;TZID=Europe/Zurich:20220112T182000
DTEND;TZID=Europe/Zurich:20220112T200000
DTSTAMP:20260425T062207
CREATED:20211209T121404Z
LAST-MODIFIED:20220322T070256Z
UID:10004873-1642011600-1642017600@graubuendentrailrun.ch
SUMMARY:Winter #trailtreff_thusis
DESCRIPTION:#trailtreff – Graubündens öffentliche Trailrunning-Gruppe\nDer Winter #trailtreff_thusis ist eine Feierabendrunde in flowigem Gelände. Unsere Runden dauern mindestens 60 Min und finden wöchentlich am Mittwoch in den Wintermonaten (Nov. – März) statt.  Wir laufen durchschnittlich ca. 5:30 Min./Km je nach Runde. Anmelden musst du dich nicht\, sei einfach pünktlich um 18.20 Uhr beim Getränke Wieland an der Compognastrasse in Thusis. Also auf den Trail\, fertig\, los!
URL:https://graubuendentrailrun.ch/event/winter-trailtreff_thusis/2022-01-12/
LOCATION:Compognastrasee\, Compognastrasse 6\, Thusis\, 7430\, Switzerland
CATEGORIES:Trailtreff
ATTACH;FMTTYPE=image/jpeg:https://graubuendentrailrun.ch/wp-content/uploads/2021/12/Wintertrailtreff.jpg
ORGANIZER;CN="Peter Egger":MAILTO:egger.peter@bluewin.ch
END:VEVENT
BEGIN:VEVENT
DTSTART;TZID=Europe/Zurich:20220105T182000
DTEND;TZID=Europe/Zurich:20220105T200000
DTSTAMP:20260425T062207
CREATED:20211209T121404Z
LAST-MODIFIED:20220322T070256Z
UID:10004872-1641406800-1641412800@graubuendentrailrun.ch
SUMMARY:Winter #trailtreff_thusis
DESCRIPTION:#trailtreff – Graubündens öffentliche Trailrunning-Gruppe\nDer Winter #trailtreff_thusis ist eine Feierabendrunde in flowigem Gelände. Unsere Runden dauern mindestens 60 Min und finden wöchentlich am Mittwoch in den Wintermonaten (Nov. – März) statt.  Wir laufen durchschnittlich ca. 5:30 Min./Km je nach Runde. Anmelden musst du dich nicht\, sei einfach pünktlich um 18.20 Uhr beim Getränke Wieland an der Compognastrasse in Thusis. Also auf den Trail\, fertig\, los!
URL:https://graubuendentrailrun.ch/event/winter-trailtreff_thusis/2022-01-05/
LOCATION:Compognastrasee\, Compognastrasse 6\, Thusis\, 7430\, Switzerland
CATEGORIES:Trailtreff
ATTACH;FMTTYPE=image/jpeg:https://graubuendentrailrun.ch/wp-content/uploads/2021/12/Wintertrailtreff.jpg
ORGANIZER;CN="Peter Egger":MAILTO:egger.peter@bluewin.ch
END:VEVENT
BEGIN:VEVENT
DTSTART;TZID=Europe/Zurich:20211229T182000
DTEND;TZID=Europe/Zurich:20211229T200000
DTSTAMP:20260425T062207
CREATED:20211209T121404Z
LAST-MODIFIED:20220322T070256Z
UID:10004871-1640802000-1640808000@graubuendentrailrun.ch
SUMMARY:Winter #trailtreff_thusis
DESCRIPTION:#trailtreff – Graubündens öffentliche Trailrunning-Gruppe\nDer Winter #trailtreff_thusis ist eine Feierabendrunde in flowigem Gelände. Unsere Runden dauern mindestens 60 Min und finden wöchentlich am Mittwoch in den Wintermonaten (Nov. – März) statt.  Wir laufen durchschnittlich ca. 5:30 Min./Km je nach Runde. Anmelden musst du dich nicht\, sei einfach pünktlich um 18.20 Uhr beim Getränke Wieland an der Compognastrasse in Thusis. Also auf den Trail\, fertig\, los!
URL:https://graubuendentrailrun.ch/event/winter-trailtreff_thusis/2021-12-29/
LOCATION:Compognastrasee\, Compognastrasse 6\, Thusis\, 7430\, Switzerland
CATEGORIES:Trailtreff
ATTACH;FMTTYPE=image/jpeg:https://graubuendentrailrun.ch/wp-content/uploads/2021/12/Wintertrailtreff.jpg
ORGANIZER;CN="Peter Egger":MAILTO:egger.peter@bluewin.ch
END:VEVENT
BEGIN:VEVENT
DTSTART;TZID=Europe/Zurich:20211222T182000
DTEND;TZID=Europe/Zurich:20211222T200000
DTSTAMP:20260425T062207
CREATED:20211209T121404Z
LAST-MODIFIED:20220322T070256Z
UID:10004870-1640197200-1640203200@graubuendentrailrun.ch
SUMMARY:Winter #trailtreff_thusis
DESCRIPTION:#trailtreff – Graubündens öffentliche Trailrunning-Gruppe\nDer Winter #trailtreff_thusis ist eine Feierabendrunde in flowigem Gelände. Unsere Runden dauern mindestens 60 Min und finden wöchentlich am Mittwoch in den Wintermonaten (Nov. – März) statt.  Wir laufen durchschnittlich ca. 5:30 Min./Km je nach Runde. Anmelden musst du dich nicht\, sei einfach pünktlich um 18.20 Uhr beim Getränke Wieland an der Compognastrasse in Thusis. Also auf den Trail\, fertig\, los!
URL:https://graubuendentrailrun.ch/event/winter-trailtreff_thusis/2021-12-22/
LOCATION:Compognastrasee\, Compognastrasse 6\, Thusis\, 7430\, Switzerland
CATEGORIES:Trailtreff
ATTACH;FMTTYPE=image/jpeg:https://graubuendentrailrun.ch/wp-content/uploads/2021/12/Wintertrailtreff.jpg
ORGANIZER;CN="Peter Egger":MAILTO:egger.peter@bluewin.ch
END:VEVENT
BEGIN:VEVENT
DTSTART;TZID=Europe/Zurich:20211215T182000
DTEND;TZID=Europe/Zurich:20211215T200000
DTSTAMP:20260425T062207
CREATED:20211209T121404Z
LAST-MODIFIED:20220322T070256Z
UID:10004869-1639592400-1639598400@graubuendentrailrun.ch
SUMMARY:Winter #trailtreff_thusis
DESCRIPTION:#trailtreff – Graubündens öffentliche Trailrunning-Gruppe\nDer Winter #trailtreff_thusis ist eine Feierabendrunde in flowigem Gelände. Unsere Runden dauern mindestens 60 Min und finden wöchentlich am Mittwoch in den Wintermonaten (Nov. – März) statt.  Wir laufen durchschnittlich ca. 5:30 Min./Km je nach Runde. Anmelden musst du dich nicht\, sei einfach pünktlich um 18.20 Uhr beim Getränke Wieland an der Compognastrasse in Thusis. Also auf den Trail\, fertig\, los!
URL:https://graubuendentrailrun.ch/event/winter-trailtreff_thusis/2021-12-15/
LOCATION:Compognastrasee\, Compognastrasse 6\, Thusis\, 7430\, Switzerland
CATEGORIES:Trailtreff
ATTACH;FMTTYPE=image/jpeg:https://graubuendentrailrun.ch/wp-content/uploads/2021/12/Wintertrailtreff.jpg
ORGANIZER;CN="Peter Egger":MAILTO:egger.peter@bluewin.ch
END:VEVENT
BEGIN:VEVENT
DTSTART;TZID=Europe/Zurich:20211208T182000
DTEND;TZID=Europe/Zurich:20211208T200000
DTSTAMP:20260425T062207
CREATED:20211209T121404Z
LAST-MODIFIED:20220322T070256Z
UID:10004868-1638987600-1638993600@graubuendentrailrun.ch
SUMMARY:Winter #trailtreff_thusis
DESCRIPTION:#trailtreff – Graubündens öffentliche Trailrunning-Gruppe\nDer Winter #trailtreff_thusis ist eine Feierabendrunde in flowigem Gelände. Unsere Runden dauern mindestens 60 Min und finden wöchentlich am Mittwoch in den Wintermonaten (Nov. – März) statt.  Wir laufen durchschnittlich ca. 5:30 Min./Km je nach Runde. Anmelden musst du dich nicht\, sei einfach pünktlich um 18.20 Uhr beim Getränke Wieland an der Compognastrasse in Thusis. Also auf den Trail\, fertig\, los!
URL:https://graubuendentrailrun.ch/event/winter-trailtreff_thusis/2021-12-08/
LOCATION:Compognastrasee\, Compognastrasse 6\, Thusis\, 7430\, Switzerland
CATEGORIES:Trailtreff
ATTACH;FMTTYPE=image/jpeg:https://graubuendentrailrun.ch/wp-content/uploads/2021/12/Wintertrailtreff.jpg
ORGANIZER;CN="Peter Egger":MAILTO:egger.peter@bluewin.ch
END:VEVENT
BEGIN:VEVENT
DTSTART;TZID=Europe/Zurich:20211201T182000
DTEND;TZID=Europe/Zurich:20211201T200000
DTSTAMP:20260425T062207
CREATED:20211209T121404Z
LAST-MODIFIED:20220322T070256Z
UID:10004867-1638382800-1638388800@graubuendentrailrun.ch
SUMMARY:Winter #trailtreff_thusis
DESCRIPTION:#trailtreff – Graubündens öffentliche Trailrunning-Gruppe\nDer Winter #trailtreff_thusis ist eine Feierabendrunde in flowigem Gelände. Unsere Runden dauern mindestens 60 Min und finden wöchentlich am Mittwoch in den Wintermonaten (Nov. – März) statt.  Wir laufen durchschnittlich ca. 5:30 Min./Km je nach Runde. Anmelden musst du dich nicht\, sei einfach pünktlich um 18.20 Uhr beim Getränke Wieland an der Compognastrasse in Thusis. Also auf den Trail\, fertig\, los!
URL:https://graubuendentrailrun.ch/event/winter-trailtreff_thusis/2021-12-01/
LOCATION:Compognastrasee\, Compognastrasse 6\, Thusis\, 7430\, Switzerland
CATEGORIES:Trailtreff
ATTACH;FMTTYPE=image/jpeg:https://graubuendentrailrun.ch/wp-content/uploads/2021/12/Wintertrailtreff.jpg
ORGANIZER;CN="Peter Egger":MAILTO:egger.peter@bluewin.ch
END:VEVENT
BEGIN:VEVENT
DTSTART;TZID=Europe/Zurich:20211124T182000
DTEND;TZID=Europe/Zurich:20211124T200000
DTSTAMP:20260425T062207
CREATED:20211209T121404Z
LAST-MODIFIED:20220322T070256Z
UID:10004866-1637778000-1637784000@graubuendentrailrun.ch
SUMMARY:Winter #trailtreff_thusis
DESCRIPTION:#trailtreff – Graubündens öffentliche Trailrunning-Gruppe\nDer Winter #trailtreff_thusis ist eine Feierabendrunde in flowigem Gelände. Unsere Runden dauern mindestens 60 Min und finden wöchentlich am Mittwoch in den Wintermonaten (Nov. – März) statt.  Wir laufen durchschnittlich ca. 5:30 Min./Km je nach Runde. Anmelden musst du dich nicht\, sei einfach pünktlich um 18.20 Uhr beim Getränke Wieland an der Compognastrasse in Thusis. Also auf den Trail\, fertig\, los!
URL:https://graubuendentrailrun.ch/event/winter-trailtreff_thusis/2021-11-24/
LOCATION:Compognastrasee\, Compognastrasse 6\, Thusis\, 7430\, Switzerland
CATEGORIES:Trailtreff
ATTACH;FMTTYPE=image/jpeg:https://graubuendentrailrun.ch/wp-content/uploads/2021/12/Wintertrailtreff.jpg
ORGANIZER;CN="Peter Egger":MAILTO:egger.peter@bluewin.ch
END:VEVENT
BEGIN:VEVENT
DTSTART;TZID=Europe/Zurich:20211117T182000
DTEND;TZID=Europe/Zurich:20211117T200000
DTSTAMP:20260425T062207
CREATED:20211209T121404Z
LAST-MODIFIED:20220322T070256Z
UID:10004865-1637173200-1637179200@graubuendentrailrun.ch
SUMMARY:Winter #trailtreff_thusis
DESCRIPTION:#trailtreff – Graubündens öffentliche Trailrunning-Gruppe\nDer Winter #trailtreff_thusis ist eine Feierabendrunde in flowigem Gelände. Unsere Runden dauern mindestens 60 Min und finden wöchentlich am Mittwoch in den Wintermonaten (Nov. – März) statt.  Wir laufen durchschnittlich ca. 5:30 Min./Km je nach Runde. Anmelden musst du dich nicht\, sei einfach pünktlich um 18.20 Uhr beim Getränke Wieland an der Compognastrasse in Thusis. Also auf den Trail\, fertig\, los!
URL:https://graubuendentrailrun.ch/event/winter-trailtreff_thusis/2021-11-17/
LOCATION:Compognastrasee\, Compognastrasse 6\, Thusis\, 7430\, Switzerland
CATEGORIES:Trailtreff
ATTACH;FMTTYPE=image/jpeg:https://graubuendentrailrun.ch/wp-content/uploads/2021/12/Wintertrailtreff.jpg
ORGANIZER;CN="Peter Egger":MAILTO:egger.peter@bluewin.ch
END:VEVENT
BEGIN:VEVENT
DTSTART;TZID=Europe/Zurich:20211110T182000
DTEND;TZID=Europe/Zurich:20211110T200000
DTSTAMP:20260425T062207
CREATED:20211209T121404Z
LAST-MODIFIED:20220322T070256Z
UID:10004864-1636568400-1636574400@graubuendentrailrun.ch
SUMMARY:Winter #trailtreff_thusis
DESCRIPTION:#trailtreff – Graubündens öffentliche Trailrunning-Gruppe\nDer Winter #trailtreff_thusis ist eine Feierabendrunde in flowigem Gelände. Unsere Runden dauern mindestens 60 Min und finden wöchentlich am Mittwoch in den Wintermonaten (Nov. – März) statt.  Wir laufen durchschnittlich ca. 5:30 Min./Km je nach Runde. Anmelden musst du dich nicht\, sei einfach pünktlich um 18.20 Uhr beim Getränke Wieland an der Compognastrasse in Thusis. Also auf den Trail\, fertig\, los!
URL:https://graubuendentrailrun.ch/event/winter-trailtreff_thusis/2021-11-10/
LOCATION:Compognastrasee\, Compognastrasse 6\, Thusis\, 7430\, Switzerland
CATEGORIES:Trailtreff
ATTACH;FMTTYPE=image/jpeg:https://graubuendentrailrun.ch/wp-content/uploads/2021/12/Wintertrailtreff.jpg
ORGANIZER;CN="Peter Egger":MAILTO:egger.peter@bluewin.ch
END:VEVENT
BEGIN:VEVENT
DTSTART;TZID=Europe/Zurich:20211103T182000
DTEND;TZID=Europe/Zurich:20211103T200000
DTSTAMP:20260425T062207
CREATED:20211209T121404Z
LAST-MODIFIED:20220322T070256Z
UID:10004863-1635963600-1635969600@graubuendentrailrun.ch
SUMMARY:Winter #trailtreff_thusis
DESCRIPTION:#trailtreff – Graubündens öffentliche Trailrunning-Gruppe\nDer Winter #trailtreff_thusis ist eine Feierabendrunde in flowigem Gelände. Unsere Runden dauern mindestens 60 Min und finden wöchentlich am Mittwoch in den Wintermonaten (Nov. – März) statt.  Wir laufen durchschnittlich ca. 5:30 Min./Km je nach Runde. Anmelden musst du dich nicht\, sei einfach pünktlich um 18.20 Uhr beim Getränke Wieland an der Compognastrasse in Thusis. Also auf den Trail\, fertig\, los!
URL:https://graubuendentrailrun.ch/event/winter-trailtreff_thusis/2021-11-03/
LOCATION:Compognastrasee\, Compognastrasse 6\, Thusis\, 7430\, Switzerland
CATEGORIES:Trailtreff
ATTACH;FMTTYPE=image/jpeg:https://graubuendentrailrun.ch/wp-content/uploads/2021/12/Wintertrailtreff.jpg
ORGANIZER;CN="Peter Egger":MAILTO:egger.peter@bluewin.ch
END:VEVENT
END:VCALENDAR