BEGIN:VCALENDAR
VERSION:2.0
PRODID:-//graubünden Trailrun - ECPv6.15.20//NONSGML v1.0//EN
CALSCALE:GREGORIAN
METHOD:PUBLISH
X-ORIGINAL-URL:https://graubuendentrailrun.ch
X-WR-CALDESC:Veranstaltungen für graubünden Trailrun
REFRESH-INTERVAL;VALUE=DURATION:PT1H
X-Robots-Tag:noindex
X-PUBLISHED-TTL:PT1H
BEGIN:VTIMEZONE
TZID:Europe/Zurich
BEGIN:DAYLIGHT
TZOFFSETFROM:+0100
TZOFFSETTO:+0200
TZNAME:CEST
DTSTART:20230326T010000
END:DAYLIGHT
BEGIN:STANDARD
TZOFFSETFROM:+0200
TZOFFSETTO:+0100
TZNAME:CET
DTSTART:20231029T010000
END:STANDARD
BEGIN:DAYLIGHT
TZOFFSETFROM:+0100
TZOFFSETTO:+0200
TZNAME:CEST
DTSTART:20240331T010000
END:DAYLIGHT
BEGIN:STANDARD
TZOFFSETFROM:+0200
TZOFFSETTO:+0100
TZNAME:CET
DTSTART:20241027T010000
END:STANDARD
BEGIN:DAYLIGHT
TZOFFSETFROM:+0100
TZOFFSETTO:+0200
TZNAME:CEST
DTSTART:20250330T010000
END:DAYLIGHT
BEGIN:STANDARD
TZOFFSETFROM:+0200
TZOFFSETTO:+0100
TZNAME:CET
DTSTART:20251026T010000
END:STANDARD
END:VTIMEZONE
BEGIN:VEVENT
DTSTART;VALUE=DATE:20240906
DTEND;VALUE=DATE:20240909
DTSTAMP:20260422T222743
CREATED:20230206T103436Z
LAST-MODIFIED:20240416T124312Z
UID:10005287-1725580800-1725839999@graubuendentrailrun.ch
SUMMARY:3 Tage Albulatour
DESCRIPTION:3 Tage Trailrunning im Herzen Graubündens \nWährend drei Tagen Trailrunning vom Feinsten. Von Filisur über Monstein und Bergün laufen wir in Richtung Engadin. Die Tour startet im Tal\, führt über historische Pässe\, entlang eindrücklicher Schluchten und malerischen Seen. Jeder der drei Tage hat einen anderen Charakter. Von Wäldern bis hin zu alpinen Trails\, durchlaufen wir verschiedene Landschaften und haben so das gesamte Bergerlebnis. Übernachtung und Nachtessen geniessen wir in authentischen und gemütlichen Hotels. Das Gepäck wird transportiert\, damit du drei Tage aktive Erholung erlebst und das Laufen in vollen Zügen geniessen kannst.
URL:https://graubuendentrailrun.ch/event/3-tage-albulatour/
LOCATION:Filisur\, Filisur Bahnhof\, Filisur\, 7477\, Switzerland
CATEGORIES:Schnupper-Events,Trailrunning Camps
ATTACH;FMTTYPE=image/webp:https://graubuendentrailrun.ch/wp-content/uploads/2023/02/GRF_9305-large.jpg.webp
ORGANIZER;CN="bergfrey outdoor guide":MAILTO:info@bergfrey.ch
END:VEVENT
END:VCALENDAR