BEGIN:VCALENDAR
VERSION:2.0
PRODID:-//graubünden Trailrun - ECPv6.15.20//NONSGML v1.0//EN
CALSCALE:GREGORIAN
METHOD:PUBLISH
X-WR-CALNAME:graubünden Trailrun
X-ORIGINAL-URL:https://graubuendentrailrun.ch
X-WR-CALDESC:Veranstaltungen für graubünden Trailrun
REFRESH-INTERVAL;VALUE=DURATION:PT1H
X-Robots-Tag:noindex
X-PUBLISHED-TTL:PT1H
BEGIN:VTIMEZONE
TZID:Europe/Zurich
BEGIN:DAYLIGHT
TZOFFSETFROM:+0100
TZOFFSETTO:+0200
TZNAME:CEST
DTSTART:20200329T010000
END:DAYLIGHT
BEGIN:STANDARD
TZOFFSETFROM:+0200
TZOFFSETTO:+0100
TZNAME:CET
DTSTART:20201025T010000
END:STANDARD
BEGIN:DAYLIGHT
TZOFFSETFROM:+0100
TZOFFSETTO:+0200
TZNAME:CEST
DTSTART:20210328T010000
END:DAYLIGHT
BEGIN:STANDARD
TZOFFSETFROM:+0200
TZOFFSETTO:+0100
TZNAME:CET
DTSTART:20211031T010000
END:STANDARD
BEGIN:DAYLIGHT
TZOFFSETFROM:+0100
TZOFFSETTO:+0200
TZNAME:CEST
DTSTART:20220327T010000
END:DAYLIGHT
BEGIN:STANDARD
TZOFFSETFROM:+0200
TZOFFSETTO:+0100
TZNAME:CET
DTSTART:20221030T010000
END:STANDARD
END:VTIMEZONE
BEGIN:VEVENT
DTSTART;VALUE=DATE:20210806
DTEND;VALUE=DATE:20210809
DTSTAMP:20260426T031612
CREATED:20210518T082956Z
LAST-MODIFIED:20210518T085243Z
UID:10004193-1628208000-1628467199@graubuendentrailrun.ch
SUMMARY:Trailrunning und Yoga Retreat
DESCRIPTION:Drei Tage voller aktiver Erholung in der Bergwelt von Flims. Inklusive einmaliger Unterkunft in der Segnashütte in traumhafter Lage\, Trailrunning auf den schönsten Trails mit lokalen Guides sowie tägliche Yoga Einheiten.
URL:https://graubuendentrailrun.ch/event/trailrunning-und-yoga-retreat/
LOCATION:Flims Dorf\, Flims Dorf\, 7017\, Switzerland
CATEGORIES:Trailrunning Camps
ATTACH;FMTTYPE=image/jpeg:https://graubuendentrailrun.ch/wp-content/uploads/2021/05/183508249_392536228464812_4298593718782116372_nfull.jpeg
ORGANIZER;CN="bergfrey outdoor guide":MAILTO:info@bergfrey.ch
END:VEVENT
END:VCALENDAR