BEGIN:VCALENDAR
VERSION:2.0
PRODID:-//graubünden Trailrun - ECPv6.15.20//NONSGML v1.0//EN
CALSCALE:GREGORIAN
METHOD:PUBLISH
X-WR-CALNAME:graubünden Trailrun
X-ORIGINAL-URL:https://graubuendentrailrun.ch
X-WR-CALDESC:Veranstaltungen für graubünden Trailrun
REFRESH-INTERVAL;VALUE=DURATION:PT1H
X-Robots-Tag:noindex
X-PUBLISHED-TTL:PT1H
BEGIN:VTIMEZONE
TZID:Europe/Zurich
BEGIN:DAYLIGHT
TZOFFSETFROM:+0100
TZOFFSETTO:+0200
TZNAME:CEST
DTSTART:20210328T010000
END:DAYLIGHT
BEGIN:STANDARD
TZOFFSETFROM:+0200
TZOFFSETTO:+0100
TZNAME:CET
DTSTART:20211031T010000
END:STANDARD
BEGIN:DAYLIGHT
TZOFFSETFROM:+0100
TZOFFSETTO:+0200
TZNAME:CEST
DTSTART:20220327T010000
END:DAYLIGHT
BEGIN:STANDARD
TZOFFSETFROM:+0200
TZOFFSETTO:+0100
TZNAME:CET
DTSTART:20221030T010000
END:STANDARD
BEGIN:DAYLIGHT
TZOFFSETFROM:+0100
TZOFFSETTO:+0200
TZNAME:CEST
DTSTART:20230326T010000
END:DAYLIGHT
BEGIN:STANDARD
TZOFFSETFROM:+0200
TZOFFSETTO:+0100
TZNAME:CET
DTSTART:20231029T010000
END:STANDARD
BEGIN:DAYLIGHT
TZOFFSETFROM:+0100
TZOFFSETTO:+0200
TZNAME:CEST
DTSTART:20240331T010000
END:DAYLIGHT
BEGIN:STANDARD
TZOFFSETFROM:+0200
TZOFFSETTO:+0100
TZNAME:CET
DTSTART:20241027T010000
END:STANDARD
END:VTIMEZONE
BEGIN:VEVENT
DTSTART;VALUE=DATE:20230621
DTEND;VALUE=DATE:20230626
DTSTAMP:20260424T111746
CREATED:20220412T083148Z
LAST-MODIFIED:20230124T141414Z
UID:10004936-1687305600-1687737599@graubuendentrailrun.ch
SUMMARY:Trailrunning Camp Davos
DESCRIPTION:Die wunderschöne Landschaft Davos\, mit seinen eindrücklichen Bergen und abwechslungsreichen Trails\, bietet alles\, was sich der Trailrunner wünscht. Auf den flowigen Trails kommt sowohl der Traileinsteiger\, als auch der Experte auf seine Rechnung. Zudem lernen wir uns im Gelände spielerisch und mit Leichtigkeit zu bewegen. Zusätzlich arbeiten wir mit Functional- und Core- Training gezielt an unserer Stabilität. \nDas Camp eignet sich ideal als Vorbereitung zum Davos X-Trails oder anderen Traillaufveranstaltungen. Wir werden sicherlich Teilstücke der Strecke Diamond vom Davos-X-Trails ablaufen und somit unsere Teilnehmer für kommende Herausforderungen vorbereiten. Es soll jedoch niemand überfordert werden\, so werden auch verschiedene Leistungsgruppen angeboten. Zudem wird auch für die nötige Erholung  gesorgt sein in der hoteleigenen Wellness-Oase und einer sportgerechter Ernährung.
URL:https://graubuendentrailrun.ch/event/3-tage-auf-den-spuren-des-davos-x-trails/2023-06-21/
LOCATION:Hotel Steigenberger\, Promenade 89\, Davos Platz\, 7270\, Switzerland
CATEGORIES:Schnupper-Events,Trailrunning Camps
ATTACH;FMTTYPE=image/jpeg:https://graubuendentrailrun.ch/wp-content/uploads/2022/04/CB3B07A8-C64F-4210-AE1D-DB108835B2B6.jpeg
ORGANIZER;CN="NunigeSports":MAILTO:info@nunige.ch
END:VEVENT
BEGIN:VEVENT
DTSTART;VALUE=DATE:20220701
DTEND;VALUE=DATE:20220706
DTSTAMP:20260424T111746
CREATED:20220412T083148Z
LAST-MODIFIED:20230124T141414Z
UID:10004935-1656633600-1657065599@graubuendentrailrun.ch
SUMMARY:Trailrunning Camp Davos
DESCRIPTION:Die wunderschöne Landschaft Davos\, mit seinen eindrücklichen Bergen und abwechslungsreichen Trails\, bietet alles\, was sich der Trailrunner wünscht. Auf den flowigen Trails kommt sowohl der Traileinsteiger\, als auch der Experte auf seine Rechnung. Zudem lernen wir uns im Gelände spielerisch und mit Leichtigkeit zu bewegen. Zusätzlich arbeiten wir mit Functional- und Core- Training gezielt an unserer Stabilität. \nDas Camp eignet sich ideal als Vorbereitung zum Davos X-Trails oder anderen Traillaufveranstaltungen. Wir werden sicherlich Teilstücke der Strecke Diamond vom Davos-X-Trails ablaufen und somit unsere Teilnehmer für kommende Herausforderungen vorbereiten. Es soll jedoch niemand überfordert werden\, so werden auch verschiedene Leistungsgruppen angeboten. Zudem wird auch für die nötige Erholung  gesorgt sein in der hoteleigenen Wellness-Oase und einer sportgerechter Ernährung.
URL:https://graubuendentrailrun.ch/event/3-tage-auf-den-spuren-des-davos-x-trails/2022-07-01/
LOCATION:Hotel Steigenberger\, Promenade 89\, Davos Platz\, 7270\, Switzerland
CATEGORIES:Schnupper-Events,Trailrunning Camps
ATTACH;FMTTYPE=image/jpeg:https://graubuendentrailrun.ch/wp-content/uploads/2022/04/CB3B07A8-C64F-4210-AE1D-DB108835B2B6.jpeg
ORGANIZER;CN="NunigeSports":MAILTO:info@nunige.ch
END:VEVENT
END:VCALENDAR