BEGIN:VCALENDAR
VERSION:2.0
PRODID:-//graubünden Trailrun - ECPv6.15.20//NONSGML v1.0//EN
CALSCALE:GREGORIAN
METHOD:PUBLISH
X-WR-CALNAME:graubünden Trailrun
X-ORIGINAL-URL:https://graubuendentrailrun.ch
X-WR-CALDESC:Veranstaltungen für graubünden Trailrun
REFRESH-INTERVAL;VALUE=DURATION:PT1H
X-Robots-Tag:noindex
X-PUBLISHED-TTL:PT1H
BEGIN:VTIMEZONE
TZID:Europe/Zurich
BEGIN:DAYLIGHT
TZOFFSETFROM:+0100
TZOFFSETTO:+0200
TZNAME:CEST
DTSTART:20240331T010000
END:DAYLIGHT
BEGIN:STANDARD
TZOFFSETFROM:+0200
TZOFFSETTO:+0100
TZNAME:CET
DTSTART:20241027T010000
END:STANDARD
BEGIN:DAYLIGHT
TZOFFSETFROM:+0100
TZOFFSETTO:+0200
TZNAME:CEST
DTSTART:20250330T010000
END:DAYLIGHT
BEGIN:STANDARD
TZOFFSETFROM:+0200
TZOFFSETTO:+0100
TZNAME:CET
DTSTART:20251026T010000
END:STANDARD
BEGIN:DAYLIGHT
TZOFFSETFROM:+0100
TZOFFSETTO:+0200
TZNAME:CEST
DTSTART:20260329T010000
END:DAYLIGHT
BEGIN:STANDARD
TZOFFSETFROM:+0200
TZOFFSETTO:+0100
TZNAME:CET
DTSTART:20261025T010000
END:STANDARD
END:VTIMEZONE
BEGIN:VEVENT
DTSTART;VALUE=DATE:20250802
DTEND;VALUE=DATE:20250803
DTSTAMP:20260423T055029
CREATED:20250228T050345Z
LAST-MODIFIED:20250228T050345Z
UID:10008451-1754092800-1754179199@graubuendentrailrun.ch
SUMMARY:Trail Run Jenaz
DESCRIPTION:Der dritte Trail Run der trail-maniacs im Bündnerland. Minimum essentials\, great adventure! \n\n\n\n\nDrei Distanzen erwarten euch\, von 18 km bis 58 km. „back to the roots“\, wir zählen auf Selbstnavigation und Selbstverpflegung! Die Anmeldung 2025 ist offen und weitere Infos zu den Strecken folgen anfangs 2025.
URL:https://graubuendentrailrun.ch/event/trail-run-jenaz/
LOCATION:Jenaz\, Jenaz\, 7233\, Switzerland
CATEGORIES:Laufveranstaltungen
ATTACH;FMTTYPE=image/png:https://graubuendentrailrun.ch/wp-content/uploads/2025/02/TrailRun_Jenaz.png
ORGANIZER;CN="trail-maniacs":MAILTO:info@trail-maniacs.ch
END:VEVENT
END:VCALENDAR