BEGIN:VCALENDAR
VERSION:2.0
PRODID:-//graubünden Trailrun - ECPv6.15.20//NONSGML v1.0//EN
CALSCALE:GREGORIAN
METHOD:PUBLISH
X-ORIGINAL-URL:https://graubuendentrailrun.ch
X-WR-CALDESC:Veranstaltungen für graubünden Trailrun
REFRESH-INTERVAL;VALUE=DURATION:PT1H
X-Robots-Tag:noindex
X-PUBLISHED-TTL:PT1H
BEGIN:VTIMEZONE
TZID:Europe/Zurich
BEGIN:DAYLIGHT
TZOFFSETFROM:+0100
TZOFFSETTO:+0200
TZNAME:CEST
DTSTART:20200329T010000
END:DAYLIGHT
BEGIN:STANDARD
TZOFFSETFROM:+0200
TZOFFSETTO:+0100
TZNAME:CET
DTSTART:20201025T010000
END:STANDARD
BEGIN:DAYLIGHT
TZOFFSETFROM:+0100
TZOFFSETTO:+0200
TZNAME:CEST
DTSTART:20210328T010000
END:DAYLIGHT
BEGIN:STANDARD
TZOFFSETFROM:+0200
TZOFFSETTO:+0100
TZNAME:CET
DTSTART:20211031T010000
END:STANDARD
BEGIN:DAYLIGHT
TZOFFSETFROM:+0100
TZOFFSETTO:+0200
TZNAME:CEST
DTSTART:20220327T010000
END:DAYLIGHT
BEGIN:STANDARD
TZOFFSETFROM:+0200
TZOFFSETTO:+0100
TZNAME:CET
DTSTART:20221030T010000
END:STANDARD
BEGIN:DAYLIGHT
TZOFFSETFROM:+0100
TZOFFSETTO:+0200
TZNAME:CEST
DTSTART:20230326T010000
END:DAYLIGHT
BEGIN:STANDARD
TZOFFSETFROM:+0200
TZOFFSETTO:+0100
TZNAME:CET
DTSTART:20231029T010000
END:STANDARD
BEGIN:DAYLIGHT
TZOFFSETFROM:+0100
TZOFFSETTO:+0200
TZNAME:CEST
DTSTART:20240331T010000
END:DAYLIGHT
BEGIN:STANDARD
TZOFFSETFROM:+0200
TZOFFSETTO:+0100
TZNAME:CET
DTSTART:20241027T010000
END:STANDARD
END:VTIMEZONE
BEGIN:VEVENT
DTSTART;VALUE=DATE:20230825
DTEND;VALUE=DATE:20230828
DTSTAMP:20260423T094737
CREATED:20210518T082118Z
LAST-MODIFIED:20230124T140136Z
UID:10004192-1692921600-1693180799@graubuendentrailrun.ch
SUMMARY:Rätikon Trail Days
DESCRIPTION:Rätikon Trail Days – 3 Tage Trail Running Erlebnis durch 3 Länder.\n\n\n\n\nDas Rätikon\, ein wunderschönes\, alpines Grenzgebiet zwischen der Schweiz – Österreich – Liechtenstein. Und durch dieses werden wir Laufen. Mit leichtem Gepäck im Marschschritt und Joggend\, über flowige Trails\, alpine felsige Gipfel und Bergwege der Schwierigkeit T4. Von Madrisa oberhalb Klosters führt der Erlebnis-Lauf über Alpweiden\, Jöcher\, Geröll und Fels\, sowie einem Gletscher vorbei via Österreich nach Malbun im Liechtenstein. Auf der Strecke laufen wir am 2. Tag zu einer österreichischen Berghütte wo wir einkehren und Wasser auffüllen werden. Du wirst während den 3 Tagen von erfahrenem Bergführer & Trail Runner und mind. einem weiteren Guide begleitet. So ist für dich bestens gesorgt und wir bieten die best mögliche Sicherheit. Übernachten tun wir im Berghaus Sulzfluh in St. Antönien und in der Douglas Hütte am Lünersee und geniessen den Komfort einer warmen Dusche und feinem Essen. \n\n\n\nDiese Traverse bietet ein wahres Erlebnis! Lass dich überraschen.
URL:https://graubuendentrailrun.ch/event/raetikon-trail-days/2023-08-25/
LOCATION:Klosters Madrisa Bergbahnen\, Madrisastrasse 7\, Klosters Dorf\, 7252\, Switzerland
CATEGORIES:Trailrunning Camps
ATTACH;FMTTYPE=image/jpeg:https://graubuendentrailrun.ch/wp-content/uploads/2021/05/44C4EEAF-9C54-46C5-B2BC-E3AD97B29518.jpeg
ORGANIZER;CN="Urs Baumgartner":MAILTO:mail@urs-baumgartner.ch
END:VEVENT
BEGIN:VEVENT
DTSTART;VALUE=DATE:20220819
DTEND;VALUE=DATE:20220822
DTSTAMP:20260423T094737
CREATED:20210518T082118Z
LAST-MODIFIED:20230124T140136Z
UID:10004191-1660867200-1661126399@graubuendentrailrun.ch
SUMMARY:Rätikon Trail Days
DESCRIPTION:Rätikon Trail Days – 3 Tage Trail Running Erlebnis durch 3 Länder.\n\n\n\n\nDas Rätikon\, ein wunderschönes\, alpines Grenzgebiet zwischen der Schweiz – Österreich – Liechtenstein. Und durch dieses werden wir Laufen. Mit leichtem Gepäck im Marschschritt und Joggend\, über flowige Trails\, alpine felsige Gipfel und Bergwege der Schwierigkeit T4. Von Madrisa oberhalb Klosters führt der Erlebnis-Lauf über Alpweiden\, Jöcher\, Geröll und Fels\, sowie einem Gletscher vorbei via Österreich nach Malbun im Liechtenstein. Auf der Strecke laufen wir am 2. Tag zu einer österreichischen Berghütte wo wir einkehren und Wasser auffüllen werden. Du wirst während den 3 Tagen von erfahrenem Bergführer & Trail Runner und mind. einem weiteren Guide begleitet. So ist für dich bestens gesorgt und wir bieten die best mögliche Sicherheit. Übernachten tun wir im Berghaus Sulzfluh in St. Antönien und in der Douglas Hütte am Lünersee und geniessen den Komfort einer warmen Dusche und feinem Essen. \n\n\n\nDiese Traverse bietet ein wahres Erlebnis! Lass dich überraschen.
URL:https://graubuendentrailrun.ch/event/raetikon-trail-days/2022-08-19/
LOCATION:Klosters Madrisa Bergbahnen\, Madrisastrasse 7\, Klosters Dorf\, 7252\, Switzerland
CATEGORIES:Trailrunning Camps
ATTACH;FMTTYPE=image/jpeg:https://graubuendentrailrun.ch/wp-content/uploads/2021/05/44C4EEAF-9C54-46C5-B2BC-E3AD97B29518.jpeg
ORGANIZER;CN="Urs Baumgartner":MAILTO:mail@urs-baumgartner.ch
END:VEVENT
BEGIN:VEVENT
DTSTART;VALUE=DATE:20210827
DTEND;VALUE=DATE:20210830
DTSTAMP:20260423T094737
CREATED:20210518T082118Z
LAST-MODIFIED:20230124T140136Z
UID:10004190-1630022400-1630281599@graubuendentrailrun.ch
SUMMARY:Rätikon Trail Days
DESCRIPTION:Rätikon Trail Days – 3 Tage Trail Running Erlebnis durch 3 Länder.\n\n\n\n\nDas Rätikon\, ein wunderschönes\, alpines Grenzgebiet zwischen der Schweiz – Österreich – Liechtenstein. Und durch dieses werden wir Laufen. Mit leichtem Gepäck im Marschschritt und Joggend\, über flowige Trails\, alpine felsige Gipfel und Bergwege der Schwierigkeit T4. Von Madrisa oberhalb Klosters führt der Erlebnis-Lauf über Alpweiden\, Jöcher\, Geröll und Fels\, sowie einem Gletscher vorbei via Österreich nach Malbun im Liechtenstein. Auf der Strecke laufen wir am 2. Tag zu einer österreichischen Berghütte wo wir einkehren und Wasser auffüllen werden. Du wirst während den 3 Tagen von erfahrenem Bergführer & Trail Runner und mind. einem weiteren Guide begleitet. So ist für dich bestens gesorgt und wir bieten die best mögliche Sicherheit. Übernachten tun wir im Berghaus Sulzfluh in St. Antönien und in der Douglas Hütte am Lünersee und geniessen den Komfort einer warmen Dusche und feinem Essen. \n\n\n\nDiese Traverse bietet ein wahres Erlebnis! Lass dich überraschen.
URL:https://graubuendentrailrun.ch/event/raetikon-trail-days/2021-08-27/
LOCATION:Klosters Madrisa Bergbahnen\, Madrisastrasse 7\, Klosters Dorf\, 7252\, Switzerland
CATEGORIES:Trailrunning Camps
ATTACH;FMTTYPE=image/jpeg:https://graubuendentrailrun.ch/wp-content/uploads/2021/05/44C4EEAF-9C54-46C5-B2BC-E3AD97B29518.jpeg
ORGANIZER;CN="Urs Baumgartner":MAILTO:mail@urs-baumgartner.ch
END:VEVENT
END:VCALENDAR