BEGIN:VCALENDAR
VERSION:2.0
PRODID:-//graubünden Trailrun - ECPv6.15.20//NONSGML v1.0//EN
CALSCALE:GREGORIAN
METHOD:PUBLISH
X-WR-CALNAME:graubünden Trailrun
X-ORIGINAL-URL:https://graubuendentrailrun.ch
X-WR-CALDESC:Veranstaltungen für graubünden Trailrun
REFRESH-INTERVAL;VALUE=DURATION:PT1H
X-Robots-Tag:noindex
X-PUBLISHED-TTL:PT1H
BEGIN:VTIMEZONE
TZID:Europe/Zurich
BEGIN:DAYLIGHT
TZOFFSETFROM:+0100
TZOFFSETTO:+0200
TZNAME:CEST
DTSTART:20200329T010000
END:DAYLIGHT
BEGIN:STANDARD
TZOFFSETFROM:+0200
TZOFFSETTO:+0100
TZNAME:CET
DTSTART:20201025T010000
END:STANDARD
BEGIN:DAYLIGHT
TZOFFSETFROM:+0100
TZOFFSETTO:+0200
TZNAME:CEST
DTSTART:20210328T010000
END:DAYLIGHT
BEGIN:STANDARD
TZOFFSETFROM:+0200
TZOFFSETTO:+0100
TZNAME:CET
DTSTART:20211031T010000
END:STANDARD
BEGIN:DAYLIGHT
TZOFFSETFROM:+0100
TZOFFSETTO:+0200
TZNAME:CEST
DTSTART:20220327T010000
END:DAYLIGHT
BEGIN:STANDARD
TZOFFSETFROM:+0200
TZOFFSETTO:+0100
TZNAME:CET
DTSTART:20221030T010000
END:STANDARD
BEGIN:DAYLIGHT
TZOFFSETFROM:+0100
TZOFFSETTO:+0200
TZNAME:CEST
DTSTART:20230326T010000
END:DAYLIGHT
BEGIN:STANDARD
TZOFFSETFROM:+0200
TZOFFSETTO:+0100
TZNAME:CET
DTSTART:20231029T010000
END:STANDARD
END:VTIMEZONE
BEGIN:VEVENT
DTSTART;VALUE=DATE:20220701
DTEND;VALUE=DATE:20220704
DTSTAMP:20260424T041009
CREATED:20210518T081601Z
LAST-MODIFIED:20220421T103023Z
UID:10004189-1656633600-1656892799@graubuendentrailrun.ch
SUMMARY:Madrisa Trail Camp
DESCRIPTION:Das Trail Camp zum Madrisa Trail Run. Unterwegs auf den atemberaubenden Trails oberhalb Madrisa. Erkunden\, Staunen\, Lernen und Geniessen.
URL:https://graubuendentrailrun.ch/event/madrisa-trail-camp/2022-07-01/
LOCATION:Klosters\, Boscaweg 7\, Klosters-Serneus\, 7252\, Switzerland
CATEGORIES:Trailrunning Camps
ATTACH;FMTTYPE=image/png:https://graubuendentrailrun.ch/wp-content/uploads/2021/05/Madrisa-Trail-Camp.png
ORGANIZER;CN="Urs Baumgartner":MAILTO:mail@urs-baumgartner.ch
END:VEVENT
BEGIN:VEVENT
DTSTART;VALUE=DATE:20210723
DTEND;VALUE=DATE:20210726
DTSTAMP:20260424T041009
CREATED:20210518T081601Z
LAST-MODIFIED:20220421T103023Z
UID:10004188-1626998400-1627257599@graubuendentrailrun.ch
SUMMARY:Madrisa Trail Camp
DESCRIPTION:Das Trail Camp zum Madrisa Trail Run. Unterwegs auf den atemberaubenden Trails oberhalb Madrisa. Erkunden\, Staunen\, Lernen und Geniessen.
URL:https://graubuendentrailrun.ch/event/madrisa-trail-camp/2021-07-23/
LOCATION:Klosters\, Boscaweg 7\, Klosters-Serneus\, 7252\, Switzerland
CATEGORIES:Trailrunning Camps
ATTACH;FMTTYPE=image/png:https://graubuendentrailrun.ch/wp-content/uploads/2021/05/Madrisa-Trail-Camp.png
ORGANIZER;CN="Urs Baumgartner":MAILTO:mail@urs-baumgartner.ch
END:VEVENT
END:VCALENDAR