BEGIN:VCALENDAR
VERSION:2.0
PRODID:-//graubünden Trailrun - ECPv6.15.20//NONSGML v1.0//EN
CALSCALE:GREGORIAN
METHOD:PUBLISH
X-ORIGINAL-URL:https://graubuendentrailrun.ch
X-WR-CALDESC:Veranstaltungen für graubünden Trailrun
REFRESH-INTERVAL;VALUE=DURATION:PT1H
X-Robots-Tag:noindex
X-PUBLISHED-TTL:PT1H
BEGIN:VTIMEZONE
TZID:Europe/Zurich
BEGIN:DAYLIGHT
TZOFFSETFROM:+0100
TZOFFSETTO:+0200
TZNAME:CEST
DTSTART:20210328T010000
END:DAYLIGHT
BEGIN:STANDARD
TZOFFSETFROM:+0200
TZOFFSETTO:+0100
TZNAME:CET
DTSTART:20211031T010000
END:STANDARD
BEGIN:DAYLIGHT
TZOFFSETFROM:+0100
TZOFFSETTO:+0200
TZNAME:CEST
DTSTART:20220327T010000
END:DAYLIGHT
BEGIN:STANDARD
TZOFFSETFROM:+0200
TZOFFSETTO:+0100
TZNAME:CET
DTSTART:20221030T010000
END:STANDARD
BEGIN:DAYLIGHT
TZOFFSETFROM:+0100
TZOFFSETTO:+0200
TZNAME:CEST
DTSTART:20230326T010000
END:DAYLIGHT
BEGIN:STANDARD
TZOFFSETFROM:+0200
TZOFFSETTO:+0100
TZNAME:CET
DTSTART:20231029T010000
END:STANDARD
END:VTIMEZONE
BEGIN:VEVENT
DTSTART;VALUE=DATE:20220514
DTEND;VALUE=DATE:20220516
DTSTAMP:20260423T030640
CREATED:20220119T071108Z
LAST-MODIFIED:20220222T105827Z
UID:10004919-1652486400-1652659199@graubuendentrailrun.ch
SUMMARY:Trailrunning Basic Weekend Flims Laax
DESCRIPTION:Auf den Trails unterwegs \nEine zweitägige kompakte Wissens-Vermittlung in der Region des UNESCO Weltnaturerbe Tektonik Arena und der Rheinschlucht. Der Sportphysiotherapeut Markus Boss von ALPEAN\, sowie der Outdoorsport-Experte Tim Frey\, ermöglichen dir in mehreren Workshops und Drills den Einstieg in den Sport und zeigen dir die notwendigen Basics. \n(Bildquelle: Flims Laax)
URL:https://graubuendentrailrun.ch/event/trailrunning-basics-weekend/
LOCATION:Laax\, Via Murschetg 17\, Laax\, 7032\, Switzerland
CATEGORIES:Trailrunning Camps
ATTACH;FMTTYPE=image/jpeg:https://graubuendentrailrun.ch/wp-content/uploads/2022/02/DANUSER-170925180538-2-scaled-1.jpg
ORGANIZER;CN="bergfrey outdoor guide":MAILTO:info@bergfrey.ch
END:VEVENT
END:VCALENDAR