BEGIN:VCALENDAR
VERSION:2.0
PRODID:-//graubünden Trailrun - ECPv6.15.20//NONSGML v1.0//EN
CALSCALE:GREGORIAN
METHOD:PUBLISH
X-ORIGINAL-URL:https://graubuendentrailrun.ch
X-WR-CALDESC:Veranstaltungen für graubünden Trailrun
REFRESH-INTERVAL;VALUE=DURATION:PT1H
X-Robots-Tag:noindex
X-PUBLISHED-TTL:PT1H
BEGIN:VTIMEZONE
TZID:Europe/Zurich
BEGIN:DAYLIGHT
TZOFFSETFROM:+0100
TZOFFSETTO:+0200
TZNAME:CEST
DTSTART:20260329T010000
END:DAYLIGHT
BEGIN:STANDARD
TZOFFSETFROM:+0200
TZOFFSETTO:+0100
TZNAME:CET
DTSTART:20261025T010000
END:STANDARD
BEGIN:DAYLIGHT
TZOFFSETFROM:+0100
TZOFFSETTO:+0200
TZNAME:CEST
DTSTART:20270328T010000
END:DAYLIGHT
BEGIN:STANDARD
TZOFFSETFROM:+0200
TZOFFSETTO:+0100
TZNAME:CET
DTSTART:20271031T010000
END:STANDARD
BEGIN:DAYLIGHT
TZOFFSETFROM:+0100
TZOFFSETTO:+0200
TZNAME:CEST
DTSTART:20280326T010000
END:DAYLIGHT
BEGIN:STANDARD
TZOFFSETFROM:+0200
TZOFFSETTO:+0100
TZNAME:CET
DTSTART:20281029T010000
END:STANDARD
BEGIN:DAYLIGHT
TZOFFSETFROM:+0100
TZOFFSETTO:+0200
TZNAME:CEST
DTSTART:20290325T010000
END:DAYLIGHT
BEGIN:STANDARD
TZOFFSETFROM:+0200
TZOFFSETTO:+0100
TZNAME:CET
DTSTART:20291028T010000
END:STANDARD
END:VTIMEZONE
BEGIN:VEVENT
DTSTART;TZID=Europe/Zurich:20270327T100000
DTEND;TZID=Europe/Zurich:20270327T130000
DTSTAMP:20260424T043932
CREATED:20230328T183215Z
LAST-MODIFIED:20250520T073841Z
UID:10005711-1806141600-1806152400@graubuendentrailrun.ch
SUMMARY:Trailtreff Heidiland
DESCRIPTION:#trailtreff – Graubündens öffentliche Trailrunning-Gruppe\nDer Trailtreff Heidiland ist ein Erlebnislauf in alpinem Gelände. Wir laufen jeweils am Samstag zwischen 2 bis 3 Stunden (15km bis 25km / ca. 1‘000 Höhenmeter)\, da wo andere Ferien machen. Der gemeinsame Erlebnislauf findet ganzjährig zweimal pro Monat statt. Also\, auf den Trail\, fertig\, los!
URL:https://graubuendentrailrun.ch/event/trailtreff_heidiland-2/2027-03-27/
LOCATION:Landquart Bahnhof\, Bahnhof\, Landquart\, 7302
CATEGORIES:Trailtreff
ATTACH;FMTTYPE=image/jpeg:https://graubuendentrailrun.ch/wp-content/uploads/2023/03/image0.jpeg
ORGANIZER;CN="Trail Maniacs Heidiland":MAILTO:weidi70@mac.com
END:VEVENT
BEGIN:VEVENT
DTSTART;TZID=Europe/Zurich:20270410T100000
DTEND;TZID=Europe/Zurich:20270410T130000
DTSTAMP:20260424T043932
CREATED:20230328T183215Z
LAST-MODIFIED:20250520T073841Z
UID:10005712-1807351200-1807362000@graubuendentrailrun.ch
SUMMARY:Trailtreff Heidiland
DESCRIPTION:#trailtreff – Graubündens öffentliche Trailrunning-Gruppe\nDer Trailtreff Heidiland ist ein Erlebnislauf in alpinem Gelände. Wir laufen jeweils am Samstag zwischen 2 bis 3 Stunden (15km bis 25km / ca. 1‘000 Höhenmeter)\, da wo andere Ferien machen. Der gemeinsame Erlebnislauf findet ganzjährig zweimal pro Monat statt. Also\, auf den Trail\, fertig\, los!
URL:https://graubuendentrailrun.ch/event/trailtreff_heidiland-2/2027-04-10/
LOCATION:Landquart Bahnhof\, Bahnhof\, Landquart\, 7302
CATEGORIES:Trailtreff
ATTACH;FMTTYPE=image/jpeg:https://graubuendentrailrun.ch/wp-content/uploads/2023/03/image0.jpeg
ORGANIZER;CN="Trail Maniacs Heidiland":MAILTO:weidi70@mac.com
END:VEVENT
BEGIN:VEVENT
DTSTART;TZID=Europe/Zurich:20270424T100000
DTEND;TZID=Europe/Zurich:20270424T130000
DTSTAMP:20260424T043932
CREATED:20230328T183215Z
LAST-MODIFIED:20250520T073841Z
UID:10005713-1808560800-1808571600@graubuendentrailrun.ch
SUMMARY:Trailtreff Heidiland
DESCRIPTION:#trailtreff – Graubündens öffentliche Trailrunning-Gruppe\nDer Trailtreff Heidiland ist ein Erlebnislauf in alpinem Gelände. Wir laufen jeweils am Samstag zwischen 2 bis 3 Stunden (15km bis 25km / ca. 1‘000 Höhenmeter)\, da wo andere Ferien machen. Der gemeinsame Erlebnislauf findet ganzjährig zweimal pro Monat statt. Also\, auf den Trail\, fertig\, los!
URL:https://graubuendentrailrun.ch/event/trailtreff_heidiland-2/2027-04-24/
LOCATION:Landquart Bahnhof\, Bahnhof\, Landquart\, 7302
CATEGORIES:Trailtreff
ATTACH;FMTTYPE=image/jpeg:https://graubuendentrailrun.ch/wp-content/uploads/2023/03/image0.jpeg
ORGANIZER;CN="Trail Maniacs Heidiland":MAILTO:weidi70@mac.com
END:VEVENT
BEGIN:VEVENT
DTSTART;TZID=Europe/Zurich:20270508T100000
DTEND;TZID=Europe/Zurich:20270508T130000
DTSTAMP:20260424T043932
CREATED:20230328T183215Z
LAST-MODIFIED:20250520T073841Z
UID:10005714-1809770400-1809781200@graubuendentrailrun.ch
SUMMARY:Trailtreff Heidiland
DESCRIPTION:#trailtreff – Graubündens öffentliche Trailrunning-Gruppe\nDer Trailtreff Heidiland ist ein Erlebnislauf in alpinem Gelände. Wir laufen jeweils am Samstag zwischen 2 bis 3 Stunden (15km bis 25km / ca. 1‘000 Höhenmeter)\, da wo andere Ferien machen. Der gemeinsame Erlebnislauf findet ganzjährig zweimal pro Monat statt. Also\, auf den Trail\, fertig\, los!
URL:https://graubuendentrailrun.ch/event/trailtreff_heidiland-2/2027-05-08/
LOCATION:Landquart Bahnhof\, Bahnhof\, Landquart\, 7302
CATEGORIES:Trailtreff
ATTACH;FMTTYPE=image/jpeg:https://graubuendentrailrun.ch/wp-content/uploads/2023/03/image0.jpeg
ORGANIZER;CN="Trail Maniacs Heidiland":MAILTO:weidi70@mac.com
END:VEVENT
BEGIN:VEVENT
DTSTART;TZID=Europe/Zurich:20270522T100000
DTEND;TZID=Europe/Zurich:20270522T130000
DTSTAMP:20260424T043932
CREATED:20230328T183215Z
LAST-MODIFIED:20250520T073841Z
UID:10005715-1810980000-1810990800@graubuendentrailrun.ch
SUMMARY:Trailtreff Heidiland
DESCRIPTION:#trailtreff – Graubündens öffentliche Trailrunning-Gruppe\nDer Trailtreff Heidiland ist ein Erlebnislauf in alpinem Gelände. Wir laufen jeweils am Samstag zwischen 2 bis 3 Stunden (15km bis 25km / ca. 1‘000 Höhenmeter)\, da wo andere Ferien machen. Der gemeinsame Erlebnislauf findet ganzjährig zweimal pro Monat statt. Also\, auf den Trail\, fertig\, los!
URL:https://graubuendentrailrun.ch/event/trailtreff_heidiland-2/2027-05-22/
LOCATION:Landquart Bahnhof\, Bahnhof\, Landquart\, 7302
CATEGORIES:Trailtreff
ATTACH;FMTTYPE=image/jpeg:https://graubuendentrailrun.ch/wp-content/uploads/2023/03/image0.jpeg
ORGANIZER;CN="Trail Maniacs Heidiland":MAILTO:weidi70@mac.com
END:VEVENT
BEGIN:VEVENT
DTSTART;TZID=Europe/Zurich:20270605T100000
DTEND;TZID=Europe/Zurich:20270605T130000
DTSTAMP:20260424T043932
CREATED:20230328T183215Z
LAST-MODIFIED:20250520T073841Z
UID:10005716-1812189600-1812200400@graubuendentrailrun.ch
SUMMARY:Trailtreff Heidiland
DESCRIPTION:#trailtreff – Graubündens öffentliche Trailrunning-Gruppe\nDer Trailtreff Heidiland ist ein Erlebnislauf in alpinem Gelände. Wir laufen jeweils am Samstag zwischen 2 bis 3 Stunden (15km bis 25km / ca. 1‘000 Höhenmeter)\, da wo andere Ferien machen. Der gemeinsame Erlebnislauf findet ganzjährig zweimal pro Monat statt. Also\, auf den Trail\, fertig\, los!
URL:https://graubuendentrailrun.ch/event/trailtreff_heidiland-2/2027-06-05/
LOCATION:Landquart Bahnhof\, Bahnhof\, Landquart\, 7302
CATEGORIES:Trailtreff
ATTACH;FMTTYPE=image/jpeg:https://graubuendentrailrun.ch/wp-content/uploads/2023/03/image0.jpeg
ORGANIZER;CN="Trail Maniacs Heidiland":MAILTO:weidi70@mac.com
END:VEVENT
BEGIN:VEVENT
DTSTART;TZID=Europe/Zurich:20270619T100000
DTEND;TZID=Europe/Zurich:20270619T130000
DTSTAMP:20260424T043932
CREATED:20230328T183215Z
LAST-MODIFIED:20250520T073841Z
UID:10005717-1813399200-1813410000@graubuendentrailrun.ch
SUMMARY:Trailtreff Heidiland
DESCRIPTION:#trailtreff – Graubündens öffentliche Trailrunning-Gruppe\nDer Trailtreff Heidiland ist ein Erlebnislauf in alpinem Gelände. Wir laufen jeweils am Samstag zwischen 2 bis 3 Stunden (15km bis 25km / ca. 1‘000 Höhenmeter)\, da wo andere Ferien machen. Der gemeinsame Erlebnislauf findet ganzjährig zweimal pro Monat statt. Also\, auf den Trail\, fertig\, los!
URL:https://graubuendentrailrun.ch/event/trailtreff_heidiland-2/2027-06-19/
LOCATION:Landquart Bahnhof\, Bahnhof\, Landquart\, 7302
CATEGORIES:Trailtreff
ATTACH;FMTTYPE=image/jpeg:https://graubuendentrailrun.ch/wp-content/uploads/2023/03/image0.jpeg
ORGANIZER;CN="Trail Maniacs Heidiland":MAILTO:weidi70@mac.com
END:VEVENT
BEGIN:VEVENT
DTSTART;TZID=Europe/Zurich:20270703T100000
DTEND;TZID=Europe/Zurich:20270703T130000
DTSTAMP:20260424T043932
CREATED:20230328T183215Z
LAST-MODIFIED:20250520T073841Z
UID:10005718-1814608800-1814619600@graubuendentrailrun.ch
SUMMARY:Trailtreff Heidiland
DESCRIPTION:#trailtreff – Graubündens öffentliche Trailrunning-Gruppe\nDer Trailtreff Heidiland ist ein Erlebnislauf in alpinem Gelände. Wir laufen jeweils am Samstag zwischen 2 bis 3 Stunden (15km bis 25km / ca. 1‘000 Höhenmeter)\, da wo andere Ferien machen. Der gemeinsame Erlebnislauf findet ganzjährig zweimal pro Monat statt. Also\, auf den Trail\, fertig\, los!
URL:https://graubuendentrailrun.ch/event/trailtreff_heidiland-2/2027-07-03/
LOCATION:Landquart Bahnhof\, Bahnhof\, Landquart\, 7302
CATEGORIES:Trailtreff
ATTACH;FMTTYPE=image/jpeg:https://graubuendentrailrun.ch/wp-content/uploads/2023/03/image0.jpeg
ORGANIZER;CN="Trail Maniacs Heidiland":MAILTO:weidi70@mac.com
END:VEVENT
BEGIN:VEVENT
DTSTART;TZID=Europe/Zurich:20270717T100000
DTEND;TZID=Europe/Zurich:20270717T130000
DTSTAMP:20260424T043932
CREATED:20230328T183215Z
LAST-MODIFIED:20250520T073841Z
UID:10005719-1815818400-1815829200@graubuendentrailrun.ch
SUMMARY:Trailtreff Heidiland
DESCRIPTION:#trailtreff – Graubündens öffentliche Trailrunning-Gruppe\nDer Trailtreff Heidiland ist ein Erlebnislauf in alpinem Gelände. Wir laufen jeweils am Samstag zwischen 2 bis 3 Stunden (15km bis 25km / ca. 1‘000 Höhenmeter)\, da wo andere Ferien machen. Der gemeinsame Erlebnislauf findet ganzjährig zweimal pro Monat statt. Also\, auf den Trail\, fertig\, los!
URL:https://graubuendentrailrun.ch/event/trailtreff_heidiland-2/2027-07-17/
LOCATION:Landquart Bahnhof\, Bahnhof\, Landquart\, 7302
CATEGORIES:Trailtreff
ATTACH;FMTTYPE=image/jpeg:https://graubuendentrailrun.ch/wp-content/uploads/2023/03/image0.jpeg
ORGANIZER;CN="Trail Maniacs Heidiland":MAILTO:weidi70@mac.com
END:VEVENT
BEGIN:VEVENT
DTSTART;TZID=Europe/Zurich:20270731T100000
DTEND;TZID=Europe/Zurich:20270731T130000
DTSTAMP:20260424T043932
CREATED:20230328T183215Z
LAST-MODIFIED:20250520T073841Z
UID:10005720-1817028000-1817038800@graubuendentrailrun.ch
SUMMARY:Trailtreff Heidiland
DESCRIPTION:#trailtreff – Graubündens öffentliche Trailrunning-Gruppe\nDer Trailtreff Heidiland ist ein Erlebnislauf in alpinem Gelände. Wir laufen jeweils am Samstag zwischen 2 bis 3 Stunden (15km bis 25km / ca. 1‘000 Höhenmeter)\, da wo andere Ferien machen. Der gemeinsame Erlebnislauf findet ganzjährig zweimal pro Monat statt. Also\, auf den Trail\, fertig\, los!
URL:https://graubuendentrailrun.ch/event/trailtreff_heidiland-2/2027-07-31/
LOCATION:Landquart Bahnhof\, Bahnhof\, Landquart\, 7302
CATEGORIES:Trailtreff
ATTACH;FMTTYPE=image/jpeg:https://graubuendentrailrun.ch/wp-content/uploads/2023/03/image0.jpeg
ORGANIZER;CN="Trail Maniacs Heidiland":MAILTO:weidi70@mac.com
END:VEVENT
BEGIN:VEVENT
DTSTART;TZID=Europe/Zurich:20270814T100000
DTEND;TZID=Europe/Zurich:20270814T130000
DTSTAMP:20260424T043932
CREATED:20230328T183215Z
LAST-MODIFIED:20250520T073841Z
UID:10005721-1818237600-1818248400@graubuendentrailrun.ch
SUMMARY:Trailtreff Heidiland
DESCRIPTION:#trailtreff – Graubündens öffentliche Trailrunning-Gruppe\nDer Trailtreff Heidiland ist ein Erlebnislauf in alpinem Gelände. Wir laufen jeweils am Samstag zwischen 2 bis 3 Stunden (15km bis 25km / ca. 1‘000 Höhenmeter)\, da wo andere Ferien machen. Der gemeinsame Erlebnislauf findet ganzjährig zweimal pro Monat statt. Also\, auf den Trail\, fertig\, los!
URL:https://graubuendentrailrun.ch/event/trailtreff_heidiland-2/2027-08-14/
LOCATION:Landquart Bahnhof\, Bahnhof\, Landquart\, 7302
CATEGORIES:Trailtreff
ATTACH;FMTTYPE=image/jpeg:https://graubuendentrailrun.ch/wp-content/uploads/2023/03/image0.jpeg
ORGANIZER;CN="Trail Maniacs Heidiland":MAILTO:weidi70@mac.com
END:VEVENT
BEGIN:VEVENT
DTSTART;TZID=Europe/Zurich:20270828T100000
DTEND;TZID=Europe/Zurich:20270828T130000
DTSTAMP:20260424T043932
CREATED:20230328T183215Z
LAST-MODIFIED:20250520T073841Z
UID:10005722-1819447200-1819458000@graubuendentrailrun.ch
SUMMARY:Trailtreff Heidiland
DESCRIPTION:#trailtreff – Graubündens öffentliche Trailrunning-Gruppe\nDer Trailtreff Heidiland ist ein Erlebnislauf in alpinem Gelände. Wir laufen jeweils am Samstag zwischen 2 bis 3 Stunden (15km bis 25km / ca. 1‘000 Höhenmeter)\, da wo andere Ferien machen. Der gemeinsame Erlebnislauf findet ganzjährig zweimal pro Monat statt. Also\, auf den Trail\, fertig\, los!
URL:https://graubuendentrailrun.ch/event/trailtreff_heidiland-2/2027-08-28/
LOCATION:Landquart Bahnhof\, Bahnhof\, Landquart\, 7302
CATEGORIES:Trailtreff
ATTACH;FMTTYPE=image/jpeg:https://graubuendentrailrun.ch/wp-content/uploads/2023/03/image0.jpeg
ORGANIZER;CN="Trail Maniacs Heidiland":MAILTO:weidi70@mac.com
END:VEVENT
BEGIN:VEVENT
DTSTART;TZID=Europe/Zurich:20270911T100000
DTEND;TZID=Europe/Zurich:20270911T130000
DTSTAMP:20260424T043932
CREATED:20230328T183215Z
LAST-MODIFIED:20250520T073841Z
UID:10005723-1820656800-1820667600@graubuendentrailrun.ch
SUMMARY:Trailtreff Heidiland
DESCRIPTION:#trailtreff – Graubündens öffentliche Trailrunning-Gruppe\nDer Trailtreff Heidiland ist ein Erlebnislauf in alpinem Gelände. Wir laufen jeweils am Samstag zwischen 2 bis 3 Stunden (15km bis 25km / ca. 1‘000 Höhenmeter)\, da wo andere Ferien machen. Der gemeinsame Erlebnislauf findet ganzjährig zweimal pro Monat statt. Also\, auf den Trail\, fertig\, los!
URL:https://graubuendentrailrun.ch/event/trailtreff_heidiland-2/2027-09-11/
LOCATION:Landquart Bahnhof\, Bahnhof\, Landquart\, 7302
CATEGORIES:Trailtreff
ATTACH;FMTTYPE=image/jpeg:https://graubuendentrailrun.ch/wp-content/uploads/2023/03/image0.jpeg
ORGANIZER;CN="Trail Maniacs Heidiland":MAILTO:weidi70@mac.com
END:VEVENT
BEGIN:VEVENT
DTSTART;TZID=Europe/Zurich:20270925T100000
DTEND;TZID=Europe/Zurich:20270925T130000
DTSTAMP:20260424T043932
CREATED:20230328T183215Z
LAST-MODIFIED:20250520T073841Z
UID:10005724-1821866400-1821877200@graubuendentrailrun.ch
SUMMARY:Trailtreff Heidiland
DESCRIPTION:#trailtreff – Graubündens öffentliche Trailrunning-Gruppe\nDer Trailtreff Heidiland ist ein Erlebnislauf in alpinem Gelände. Wir laufen jeweils am Samstag zwischen 2 bis 3 Stunden (15km bis 25km / ca. 1‘000 Höhenmeter)\, da wo andere Ferien machen. Der gemeinsame Erlebnislauf findet ganzjährig zweimal pro Monat statt. Also\, auf den Trail\, fertig\, los!
URL:https://graubuendentrailrun.ch/event/trailtreff_heidiland-2/2027-09-25/
LOCATION:Landquart Bahnhof\, Bahnhof\, Landquart\, 7302
CATEGORIES:Trailtreff
ATTACH;FMTTYPE=image/jpeg:https://graubuendentrailrun.ch/wp-content/uploads/2023/03/image0.jpeg
ORGANIZER;CN="Trail Maniacs Heidiland":MAILTO:weidi70@mac.com
END:VEVENT
BEGIN:VEVENT
DTSTART;TZID=Europe/Zurich:20271009T100000
DTEND;TZID=Europe/Zurich:20271009T130000
DTSTAMP:20260424T043932
CREATED:20230328T183215Z
LAST-MODIFIED:20250520T073841Z
UID:10005725-1823076000-1823086800@graubuendentrailrun.ch
SUMMARY:Trailtreff Heidiland
DESCRIPTION:#trailtreff – Graubündens öffentliche Trailrunning-Gruppe\nDer Trailtreff Heidiland ist ein Erlebnislauf in alpinem Gelände. Wir laufen jeweils am Samstag zwischen 2 bis 3 Stunden (15km bis 25km / ca. 1‘000 Höhenmeter)\, da wo andere Ferien machen. Der gemeinsame Erlebnislauf findet ganzjährig zweimal pro Monat statt. Also\, auf den Trail\, fertig\, los!
URL:https://graubuendentrailrun.ch/event/trailtreff_heidiland-2/2027-10-09/
LOCATION:Landquart Bahnhof\, Bahnhof\, Landquart\, 7302
CATEGORIES:Trailtreff
ATTACH;FMTTYPE=image/jpeg:https://graubuendentrailrun.ch/wp-content/uploads/2023/03/image0.jpeg
ORGANIZER;CN="Trail Maniacs Heidiland":MAILTO:weidi70@mac.com
END:VEVENT
BEGIN:VEVENT
DTSTART;TZID=Europe/Zurich:20271023T100000
DTEND;TZID=Europe/Zurich:20271023T130000
DTSTAMP:20260424T043932
CREATED:20230328T183215Z
LAST-MODIFIED:20250520T073841Z
UID:10005726-1824285600-1824296400@graubuendentrailrun.ch
SUMMARY:Trailtreff Heidiland
DESCRIPTION:#trailtreff – Graubündens öffentliche Trailrunning-Gruppe\nDer Trailtreff Heidiland ist ein Erlebnislauf in alpinem Gelände. Wir laufen jeweils am Samstag zwischen 2 bis 3 Stunden (15km bis 25km / ca. 1‘000 Höhenmeter)\, da wo andere Ferien machen. Der gemeinsame Erlebnislauf findet ganzjährig zweimal pro Monat statt. Also\, auf den Trail\, fertig\, los!
URL:https://graubuendentrailrun.ch/event/trailtreff_heidiland-2/2027-10-23/
LOCATION:Landquart Bahnhof\, Bahnhof\, Landquart\, 7302
CATEGORIES:Trailtreff
ATTACH;FMTTYPE=image/jpeg:https://graubuendentrailrun.ch/wp-content/uploads/2023/03/image0.jpeg
ORGANIZER;CN="Trail Maniacs Heidiland":MAILTO:weidi70@mac.com
END:VEVENT
BEGIN:VEVENT
DTSTART;TZID=Europe/Zurich:20271106T100000
DTEND;TZID=Europe/Zurich:20271106T130000
DTSTAMP:20260424T043932
CREATED:20230328T183215Z
LAST-MODIFIED:20250520T073841Z
UID:10005727-1825495200-1825506000@graubuendentrailrun.ch
SUMMARY:Trailtreff Heidiland
DESCRIPTION:#trailtreff – Graubündens öffentliche Trailrunning-Gruppe\nDer Trailtreff Heidiland ist ein Erlebnislauf in alpinem Gelände. Wir laufen jeweils am Samstag zwischen 2 bis 3 Stunden (15km bis 25km / ca. 1‘000 Höhenmeter)\, da wo andere Ferien machen. Der gemeinsame Erlebnislauf findet ganzjährig zweimal pro Monat statt. Also\, auf den Trail\, fertig\, los!
URL:https://graubuendentrailrun.ch/event/trailtreff_heidiland-2/2027-11-06/
LOCATION:Landquart Bahnhof\, Bahnhof\, Landquart\, 7302
CATEGORIES:Trailtreff
ATTACH;FMTTYPE=image/jpeg:https://graubuendentrailrun.ch/wp-content/uploads/2023/03/image0.jpeg
ORGANIZER;CN="Trail Maniacs Heidiland":MAILTO:weidi70@mac.com
END:VEVENT
BEGIN:VEVENT
DTSTART;TZID=Europe/Zurich:20271120T100000
DTEND;TZID=Europe/Zurich:20271120T130000
DTSTAMP:20260424T043932
CREATED:20230328T183215Z
LAST-MODIFIED:20250520T073841Z
UID:10005728-1826704800-1826715600@graubuendentrailrun.ch
SUMMARY:Trailtreff Heidiland
DESCRIPTION:#trailtreff – Graubündens öffentliche Trailrunning-Gruppe\nDer Trailtreff Heidiland ist ein Erlebnislauf in alpinem Gelände. Wir laufen jeweils am Samstag zwischen 2 bis 3 Stunden (15km bis 25km / ca. 1‘000 Höhenmeter)\, da wo andere Ferien machen. Der gemeinsame Erlebnislauf findet ganzjährig zweimal pro Monat statt. Also\, auf den Trail\, fertig\, los!
URL:https://graubuendentrailrun.ch/event/trailtreff_heidiland-2/2027-11-20/
LOCATION:Landquart Bahnhof\, Bahnhof\, Landquart\, 7302
CATEGORIES:Trailtreff
ATTACH;FMTTYPE=image/jpeg:https://graubuendentrailrun.ch/wp-content/uploads/2023/03/image0.jpeg
ORGANIZER;CN="Trail Maniacs Heidiland":MAILTO:weidi70@mac.com
END:VEVENT
BEGIN:VEVENT
DTSTART;TZID=Europe/Zurich:20271204T100000
DTEND;TZID=Europe/Zurich:20271204T130000
DTSTAMP:20260424T043932
CREATED:20230328T183215Z
LAST-MODIFIED:20250520T073841Z
UID:10005729-1827914400-1827925200@graubuendentrailrun.ch
SUMMARY:Trailtreff Heidiland
DESCRIPTION:#trailtreff – Graubündens öffentliche Trailrunning-Gruppe\nDer Trailtreff Heidiland ist ein Erlebnislauf in alpinem Gelände. Wir laufen jeweils am Samstag zwischen 2 bis 3 Stunden (15km bis 25km / ca. 1‘000 Höhenmeter)\, da wo andere Ferien machen. Der gemeinsame Erlebnislauf findet ganzjährig zweimal pro Monat statt. Also\, auf den Trail\, fertig\, los!
URL:https://graubuendentrailrun.ch/event/trailtreff_heidiland-2/2027-12-04/
LOCATION:Landquart Bahnhof\, Bahnhof\, Landquart\, 7302
CATEGORIES:Trailtreff
ATTACH;FMTTYPE=image/jpeg:https://graubuendentrailrun.ch/wp-content/uploads/2023/03/image0.jpeg
ORGANIZER;CN="Trail Maniacs Heidiland":MAILTO:weidi70@mac.com
END:VEVENT
BEGIN:VEVENT
DTSTART;TZID=Europe/Zurich:20271218T100000
DTEND;TZID=Europe/Zurich:20271218T130000
DTSTAMP:20260424T043932
CREATED:20230328T183215Z
LAST-MODIFIED:20250520T073841Z
UID:10005730-1829124000-1829134800@graubuendentrailrun.ch
SUMMARY:Trailtreff Heidiland
DESCRIPTION:#trailtreff – Graubündens öffentliche Trailrunning-Gruppe\nDer Trailtreff Heidiland ist ein Erlebnislauf in alpinem Gelände. Wir laufen jeweils am Samstag zwischen 2 bis 3 Stunden (15km bis 25km / ca. 1‘000 Höhenmeter)\, da wo andere Ferien machen. Der gemeinsame Erlebnislauf findet ganzjährig zweimal pro Monat statt. Also\, auf den Trail\, fertig\, los!
URL:https://graubuendentrailrun.ch/event/trailtreff_heidiland-2/2027-12-18/
LOCATION:Landquart Bahnhof\, Bahnhof\, Landquart\, 7302
CATEGORIES:Trailtreff
ATTACH;FMTTYPE=image/jpeg:https://graubuendentrailrun.ch/wp-content/uploads/2023/03/image0.jpeg
ORGANIZER;CN="Trail Maniacs Heidiland":MAILTO:weidi70@mac.com
END:VEVENT
BEGIN:VEVENT
DTSTART;TZID=Europe/Zurich:20280101T100000
DTEND;TZID=Europe/Zurich:20280101T130000
DTSTAMP:20260424T043932
CREATED:20230328T183215Z
LAST-MODIFIED:20250520T073841Z
UID:10005731-1830333600-1830344400@graubuendentrailrun.ch
SUMMARY:Trailtreff Heidiland
DESCRIPTION:#trailtreff – Graubündens öffentliche Trailrunning-Gruppe\nDer Trailtreff Heidiland ist ein Erlebnislauf in alpinem Gelände. Wir laufen jeweils am Samstag zwischen 2 bis 3 Stunden (15km bis 25km / ca. 1‘000 Höhenmeter)\, da wo andere Ferien machen. Der gemeinsame Erlebnislauf findet ganzjährig zweimal pro Monat statt. Also\, auf den Trail\, fertig\, los!
URL:https://graubuendentrailrun.ch/event/trailtreff_heidiland-2/2028-01-01/
LOCATION:Landquart Bahnhof\, Bahnhof\, Landquart\, 7302
CATEGORIES:Trailtreff
ATTACH;FMTTYPE=image/jpeg:https://graubuendentrailrun.ch/wp-content/uploads/2023/03/image0.jpeg
ORGANIZER;CN="Trail Maniacs Heidiland":MAILTO:weidi70@mac.com
END:VEVENT
BEGIN:VEVENT
DTSTART;TZID=Europe/Zurich:20280115T100000
DTEND;TZID=Europe/Zurich:20280115T130000
DTSTAMP:20260424T043932
CREATED:20230328T183215Z
LAST-MODIFIED:20250520T073841Z
UID:10005732-1831543200-1831554000@graubuendentrailrun.ch
SUMMARY:Trailtreff Heidiland
DESCRIPTION:#trailtreff – Graubündens öffentliche Trailrunning-Gruppe\nDer Trailtreff Heidiland ist ein Erlebnislauf in alpinem Gelände. Wir laufen jeweils am Samstag zwischen 2 bis 3 Stunden (15km bis 25km / ca. 1‘000 Höhenmeter)\, da wo andere Ferien machen. Der gemeinsame Erlebnislauf findet ganzjährig zweimal pro Monat statt. Also\, auf den Trail\, fertig\, los!
URL:https://graubuendentrailrun.ch/event/trailtreff_heidiland-2/2028-01-15/
LOCATION:Landquart Bahnhof\, Bahnhof\, Landquart\, 7302
CATEGORIES:Trailtreff
ATTACH;FMTTYPE=image/jpeg:https://graubuendentrailrun.ch/wp-content/uploads/2023/03/image0.jpeg
ORGANIZER;CN="Trail Maniacs Heidiland":MAILTO:weidi70@mac.com
END:VEVENT
BEGIN:VEVENT
DTSTART;TZID=Europe/Zurich:20280129T100000
DTEND;TZID=Europe/Zurich:20280129T130000
DTSTAMP:20260424T043932
CREATED:20230328T183215Z
LAST-MODIFIED:20250520T073841Z
UID:10005733-1832752800-1832763600@graubuendentrailrun.ch
SUMMARY:Trailtreff Heidiland
DESCRIPTION:#trailtreff – Graubündens öffentliche Trailrunning-Gruppe\nDer Trailtreff Heidiland ist ein Erlebnislauf in alpinem Gelände. Wir laufen jeweils am Samstag zwischen 2 bis 3 Stunden (15km bis 25km / ca. 1‘000 Höhenmeter)\, da wo andere Ferien machen. Der gemeinsame Erlebnislauf findet ganzjährig zweimal pro Monat statt. Also\, auf den Trail\, fertig\, los!
URL:https://graubuendentrailrun.ch/event/trailtreff_heidiland-2/2028-01-29/
LOCATION:Landquart Bahnhof\, Bahnhof\, Landquart\, 7302
CATEGORIES:Trailtreff
ATTACH;FMTTYPE=image/jpeg:https://graubuendentrailrun.ch/wp-content/uploads/2023/03/image0.jpeg
ORGANIZER;CN="Trail Maniacs Heidiland":MAILTO:weidi70@mac.com
END:VEVENT
BEGIN:VEVENT
DTSTART;TZID=Europe/Zurich:20280212T100000
DTEND;TZID=Europe/Zurich:20280212T130000
DTSTAMP:20260424T043932
CREATED:20230328T183215Z
LAST-MODIFIED:20250520T073841Z
UID:10005734-1833962400-1833973200@graubuendentrailrun.ch
SUMMARY:Trailtreff Heidiland
DESCRIPTION:#trailtreff – Graubündens öffentliche Trailrunning-Gruppe\nDer Trailtreff Heidiland ist ein Erlebnislauf in alpinem Gelände. Wir laufen jeweils am Samstag zwischen 2 bis 3 Stunden (15km bis 25km / ca. 1‘000 Höhenmeter)\, da wo andere Ferien machen. Der gemeinsame Erlebnislauf findet ganzjährig zweimal pro Monat statt. Also\, auf den Trail\, fertig\, los!
URL:https://graubuendentrailrun.ch/event/trailtreff_heidiland-2/2028-02-12/
LOCATION:Landquart Bahnhof\, Bahnhof\, Landquart\, 7302
CATEGORIES:Trailtreff
ATTACH;FMTTYPE=image/jpeg:https://graubuendentrailrun.ch/wp-content/uploads/2023/03/image0.jpeg
ORGANIZER;CN="Trail Maniacs Heidiland":MAILTO:weidi70@mac.com
END:VEVENT
BEGIN:VEVENT
DTSTART;TZID=Europe/Zurich:20280226T100000
DTEND;TZID=Europe/Zurich:20280226T130000
DTSTAMP:20260424T043932
CREATED:20230328T183215Z
LAST-MODIFIED:20250520T073841Z
UID:10005735-1835172000-1835182800@graubuendentrailrun.ch
SUMMARY:Trailtreff Heidiland
DESCRIPTION:#trailtreff – Graubündens öffentliche Trailrunning-Gruppe\nDer Trailtreff Heidiland ist ein Erlebnislauf in alpinem Gelände. Wir laufen jeweils am Samstag zwischen 2 bis 3 Stunden (15km bis 25km / ca. 1‘000 Höhenmeter)\, da wo andere Ferien machen. Der gemeinsame Erlebnislauf findet ganzjährig zweimal pro Monat statt. Also\, auf den Trail\, fertig\, los!
URL:https://graubuendentrailrun.ch/event/trailtreff_heidiland-2/2028-02-26/
LOCATION:Landquart Bahnhof\, Bahnhof\, Landquart\, 7302
CATEGORIES:Trailtreff
ATTACH;FMTTYPE=image/jpeg:https://graubuendentrailrun.ch/wp-content/uploads/2023/03/image0.jpeg
ORGANIZER;CN="Trail Maniacs Heidiland":MAILTO:weidi70@mac.com
END:VEVENT
BEGIN:VEVENT
DTSTART;TZID=Europe/Zurich:20280311T100000
DTEND;TZID=Europe/Zurich:20280311T130000
DTSTAMP:20260424T043932
CREATED:20230328T183215Z
LAST-MODIFIED:20250520T073841Z
UID:10005736-1836381600-1836392400@graubuendentrailrun.ch
SUMMARY:Trailtreff Heidiland
DESCRIPTION:#trailtreff – Graubündens öffentliche Trailrunning-Gruppe\nDer Trailtreff Heidiland ist ein Erlebnislauf in alpinem Gelände. Wir laufen jeweils am Samstag zwischen 2 bis 3 Stunden (15km bis 25km / ca. 1‘000 Höhenmeter)\, da wo andere Ferien machen. Der gemeinsame Erlebnislauf findet ganzjährig zweimal pro Monat statt. Also\, auf den Trail\, fertig\, los!
URL:https://graubuendentrailrun.ch/event/trailtreff_heidiland-2/2028-03-11/
LOCATION:Landquart Bahnhof\, Bahnhof\, Landquart\, 7302
CATEGORIES:Trailtreff
ATTACH;FMTTYPE=image/jpeg:https://graubuendentrailrun.ch/wp-content/uploads/2023/03/image0.jpeg
ORGANIZER;CN="Trail Maniacs Heidiland":MAILTO:weidi70@mac.com
END:VEVENT
BEGIN:VEVENT
DTSTART;TZID=Europe/Zurich:20280325T100000
DTEND;TZID=Europe/Zurich:20280325T130000
DTSTAMP:20260424T043932
CREATED:20230328T183215Z
LAST-MODIFIED:20250520T073841Z
UID:10005737-1837591200-1837602000@graubuendentrailrun.ch
SUMMARY:Trailtreff Heidiland
DESCRIPTION:#trailtreff – Graubündens öffentliche Trailrunning-Gruppe\nDer Trailtreff Heidiland ist ein Erlebnislauf in alpinem Gelände. Wir laufen jeweils am Samstag zwischen 2 bis 3 Stunden (15km bis 25km / ca. 1‘000 Höhenmeter)\, da wo andere Ferien machen. Der gemeinsame Erlebnislauf findet ganzjährig zweimal pro Monat statt. Also\, auf den Trail\, fertig\, los!
URL:https://graubuendentrailrun.ch/event/trailtreff_heidiland-2/2028-03-25/
LOCATION:Landquart Bahnhof\, Bahnhof\, Landquart\, 7302
CATEGORIES:Trailtreff
ATTACH;FMTTYPE=image/jpeg:https://graubuendentrailrun.ch/wp-content/uploads/2023/03/image0.jpeg
ORGANIZER;CN="Trail Maniacs Heidiland":MAILTO:weidi70@mac.com
END:VEVENT
END:VCALENDAR