BEGIN:VCALENDAR
VERSION:2.0
PRODID:-//graubünden Trailrun - ECPv6.15.20//NONSGML v1.0//EN
CALSCALE:GREGORIAN
METHOD:PUBLISH
X-ORIGINAL-URL:https://graubuendentrailrun.ch
X-WR-CALDESC:Veranstaltungen für graubünden Trailrun
REFRESH-INTERVAL;VALUE=DURATION:PT1H
X-Robots-Tag:noindex
X-PUBLISHED-TTL:PT1H
BEGIN:VTIMEZONE
TZID:Europe/Zurich
BEGIN:DAYLIGHT
TZOFFSETFROM:+0100
TZOFFSETTO:+0200
TZNAME:CEST
DTSTART:20240331T010000
END:DAYLIGHT
BEGIN:STANDARD
TZOFFSETFROM:+0200
TZOFFSETTO:+0100
TZNAME:CET
DTSTART:20241027T010000
END:STANDARD
BEGIN:DAYLIGHT
TZOFFSETFROM:+0100
TZOFFSETTO:+0200
TZNAME:CEST
DTSTART:20250330T010000
END:DAYLIGHT
BEGIN:STANDARD
TZOFFSETFROM:+0200
TZOFFSETTO:+0100
TZNAME:CET
DTSTART:20251026T010000
END:STANDARD
BEGIN:DAYLIGHT
TZOFFSETFROM:+0100
TZOFFSETTO:+0200
TZNAME:CEST
DTSTART:20260329T010000
END:DAYLIGHT
BEGIN:STANDARD
TZOFFSETFROM:+0200
TZOFFSETTO:+0100
TZNAME:CET
DTSTART:20261025T010000
END:STANDARD
END:VTIMEZONE
BEGIN:VEVENT
DTSTART;VALUE=DATE:20250726
DTEND;VALUE=DATE:20250728
DTSTAMP:20260423T180111
CREATED:20230206T104216Z
LAST-MODIFIED:20250424T074747Z
UID:10005288-1753488000-1753660799@graubuendentrailrun.ch
SUMMARY:2 Tage Ramoztour
DESCRIPTION:Zwei Tage wildromantisches Trailabenteuer \n\n\n\n\n\nErlebe Trailrunning von einer anderen Seite. Zwei Tage in einer abwechslungsreichen Bergwelt auf sensationellen Trails unterwegs sein und als Highlight in der gemütlichen und authentischen Ramozhütte übernachten. Der Weg führt uns vorbei an Wasserfällen\, über Hochebenen und durch eindrückliche Täler. Den Focus auf die Bewegung und Natur gelegt und nur mit dem nötigsten unterwegs sein\, ermöglicht es bewusst in das Erlebnis einzutauchen und die Bergwelt auf unterschiedlichen Ebenen intensive zu erleben. Für mich ist dies eine der schönsten Touren und mein persönlicher Tipp.
URL:https://graubuendentrailrun.ch/event/2-tage-ramoztour/
LOCATION:Lenzerheide Talstation\, Voa Principala 80\, Vaz/Obervaz\, Graubünden\, 7078\, Switzerland
CATEGORIES:Trailrunning Camps
ATTACH;FMTTYPE=image/webp:https://graubuendentrailrun.ch/wp-content/uploads/2023/02/IMG-20180929-WA0002-scaled-1.webp
ORGANIZER;CN="bergfrey outdoor guide":MAILTO:info@bergfrey.ch
END:VEVENT
END:VCALENDAR