BEGIN:VCALENDAR
VERSION:2.0
PRODID:-//graubünden Trailrun - ECPv6.15.20//NONSGML v1.0//EN
CALSCALE:GREGORIAN
METHOD:PUBLISH
X-ORIGINAL-URL:https://graubuendentrailrun.ch
X-WR-CALDESC:Veranstaltungen für graubünden Trailrun
REFRESH-INTERVAL;VALUE=DURATION:PT1H
X-Robots-Tag:noindex
X-PUBLISHED-TTL:PT1H
BEGIN:VTIMEZONE
TZID:Europe/Zurich
BEGIN:DAYLIGHT
TZOFFSETFROM:+0100
TZOFFSETTO:+0200
TZNAME:CEST
DTSTART:20240331T010000
END:DAYLIGHT
BEGIN:STANDARD
TZOFFSETFROM:+0200
TZOFFSETTO:+0100
TZNAME:CET
DTSTART:20241027T010000
END:STANDARD
BEGIN:DAYLIGHT
TZOFFSETFROM:+0100
TZOFFSETTO:+0200
TZNAME:CEST
DTSTART:20250330T010000
END:DAYLIGHT
BEGIN:STANDARD
TZOFFSETFROM:+0200
TZOFFSETTO:+0100
TZNAME:CET
DTSTART:20251026T010000
END:STANDARD
BEGIN:DAYLIGHT
TZOFFSETFROM:+0100
TZOFFSETTO:+0200
TZNAME:CEST
DTSTART:20260329T010000
END:DAYLIGHT
BEGIN:STANDARD
TZOFFSETFROM:+0200
TZOFFSETTO:+0100
TZNAME:CET
DTSTART:20261025T010000
END:STANDARD
END:VTIMEZONE
BEGIN:VEVENT
DTSTART;VALUE=DATE:20250806
DTEND;VALUE=DATE:20250809
DTSTAMP:20260424T060038
CREATED:20250410T143943Z
LAST-MODIFIED:20250410T143950Z
UID:10008455-1754438400-1754697599@graubuendentrailrun.ch
SUMMARY:Trailrunning Workation Engadin
DESCRIPTION:Arbeit & Freizeit optimal kombinieren \n\nBist du Läufer*in und möchtest Engadiner Bergluft beim Trailrunning schnuppern? Dann haben wir genau das richtige für dich. Kombiniere Arbeit und Freizeit während der Trailrunning Workation. Vormittags kannst du produktiv im Coworking Space von miaEngiadina in La Punt arbeiten. \nNachmittags zeigt dir Roberto Rivola von Movimentor die besten Tipps und die schönsten Routen für Trailrunning im Engadin. \nProgramm \n\nMorgens Individuelles Arbeiten im Coworking Space InnHub PopUp\n10.00 Uhr Creative Coffee & Networking\nAb 14.00 Uhr 2-3 Stunden Trailrunning mit Roberto Rivola\n\nAnmeldeschluss 21.07.2025
URL:https://graubuendentrailrun.ch/event/trailrunning-workation-engading/
LOCATION:miaEngiadina La Punt\, Via Cumünela 32\, La Punt Chamues-ch\, 7522\, Switzerland
CATEGORIES:Trailrunning Camps
ATTACH;FMTTYPE=image/jpeg:https://graubuendentrailrun.ch/wp-content/uploads/2025/04/galerie-scaled.jpg
END:VEVENT
END:VCALENDAR