BEGIN:VCALENDAR
VERSION:2.0
PRODID:-//graubünden Trailrun - ECPv6.15.20//NONSGML v1.0//EN
CALSCALE:GREGORIAN
METHOD:PUBLISH
X-WR-CALNAME:graubünden Trailrun
X-ORIGINAL-URL:https://graubuendentrailrun.ch
X-WR-CALDESC:Veranstaltungen für graubünden Trailrun
REFRESH-INTERVAL;VALUE=DURATION:PT1H
X-Robots-Tag:noindex
X-PUBLISHED-TTL:PT1H
BEGIN:VTIMEZONE
TZID:Europe/Zurich
BEGIN:DAYLIGHT
TZOFFSETFROM:+0100
TZOFFSETTO:+0200
TZNAME:CEST
DTSTART:20210328T010000
END:DAYLIGHT
BEGIN:STANDARD
TZOFFSETFROM:+0200
TZOFFSETTO:+0100
TZNAME:CET
DTSTART:20211031T010000
END:STANDARD
BEGIN:DAYLIGHT
TZOFFSETFROM:+0100
TZOFFSETTO:+0200
TZNAME:CEST
DTSTART:20220327T010000
END:DAYLIGHT
BEGIN:STANDARD
TZOFFSETFROM:+0200
TZOFFSETTO:+0100
TZNAME:CET
DTSTART:20221030T010000
END:STANDARD
BEGIN:DAYLIGHT
TZOFFSETFROM:+0100
TZOFFSETTO:+0200
TZNAME:CEST
DTSTART:20230326T010000
END:DAYLIGHT
BEGIN:STANDARD
TZOFFSETFROM:+0200
TZOFFSETTO:+0100
TZNAME:CET
DTSTART:20231029T010000
END:STANDARD
END:VTIMEZONE
BEGIN:VEVENT
DTSTART;TZID=Europe/Zurich:20220802T184500
DTEND;TZID=Europe/Zurich:20220802T201500
DTSTAMP:20260426T045212
CREATED:20210616T062735Z
LAST-MODIFIED:20220322T103346Z
UID:10004316-1659465900-1659471300@graubuendentrailrun.ch
SUMMARY:#trailtreff_lenzerheide
DESCRIPTION:Der #trailtreff_lenzerheide ist eine Feierabendrunde in coupiertem Gelände. Unsere Runden dauern 60 – 90 Min. und finden wöchentlich von Juni bis Oktober statt. Es gibt aktuell keine Stärkeklassen\, wir sind flexibel! Anmelden musst du dich nicht\, sei einfach pünktlich um 18.45 Uhr beim Postplatz Lenzerheide. Du kannst mind. 1 Std. am Stück laufen und hast gute Laufschuhe? Dann auf den Trail\, fertig\, los!
URL:https://graubuendentrailrun.ch/event/trailtreff_lenzerheide/2022-08-02/
LOCATION:Postplatz Lenzerheide\, Post\, Lenzerheide\, 7078\, Switzerland
CATEGORIES:Trailtreff
ATTACH;FMTTYPE=image/jpeg:https://graubuendentrailrun.ch/wp-content/uploads/2021/06/der-weg-fuehrt-ueber-wurzeln-stock-und-stein-und-durch-den-wald.jpg
END:VEVENT
BEGIN:VEVENT
DTSTART;TZID=Europe/Zurich:20220726T184500
DTEND;TZID=Europe/Zurich:20220726T201500
DTSTAMP:20260426T045212
CREATED:20210616T062735Z
LAST-MODIFIED:20220322T103346Z
UID:10004315-1658861100-1658866500@graubuendentrailrun.ch
SUMMARY:#trailtreff_lenzerheide
DESCRIPTION:Der #trailtreff_lenzerheide ist eine Feierabendrunde in coupiertem Gelände. Unsere Runden dauern 60 – 90 Min. und finden wöchentlich von Juni bis Oktober statt. Es gibt aktuell keine Stärkeklassen\, wir sind flexibel! Anmelden musst du dich nicht\, sei einfach pünktlich um 18.45 Uhr beim Postplatz Lenzerheide. Du kannst mind. 1 Std. am Stück laufen und hast gute Laufschuhe? Dann auf den Trail\, fertig\, los!
URL:https://graubuendentrailrun.ch/event/trailtreff_lenzerheide/2022-07-26/
LOCATION:Postplatz Lenzerheide\, Post\, Lenzerheide\, 7078\, Switzerland
CATEGORIES:Trailtreff
ATTACH;FMTTYPE=image/jpeg:https://graubuendentrailrun.ch/wp-content/uploads/2021/06/der-weg-fuehrt-ueber-wurzeln-stock-und-stein-und-durch-den-wald.jpg
END:VEVENT
BEGIN:VEVENT
DTSTART;TZID=Europe/Zurich:20220719T184500
DTEND;TZID=Europe/Zurich:20220719T201500
DTSTAMP:20260426T045212
CREATED:20210616T062735Z
LAST-MODIFIED:20220322T103346Z
UID:10004314-1658256300-1658261700@graubuendentrailrun.ch
SUMMARY:#trailtreff_lenzerheide
DESCRIPTION:Der #trailtreff_lenzerheide ist eine Feierabendrunde in coupiertem Gelände. Unsere Runden dauern 60 – 90 Min. und finden wöchentlich von Juni bis Oktober statt. Es gibt aktuell keine Stärkeklassen\, wir sind flexibel! Anmelden musst du dich nicht\, sei einfach pünktlich um 18.45 Uhr beim Postplatz Lenzerheide. Du kannst mind. 1 Std. am Stück laufen und hast gute Laufschuhe? Dann auf den Trail\, fertig\, los!
URL:https://graubuendentrailrun.ch/event/trailtreff_lenzerheide/2022-07-19/
LOCATION:Postplatz Lenzerheide\, Post\, Lenzerheide\, 7078\, Switzerland
CATEGORIES:Trailtreff
ATTACH;FMTTYPE=image/jpeg:https://graubuendentrailrun.ch/wp-content/uploads/2021/06/der-weg-fuehrt-ueber-wurzeln-stock-und-stein-und-durch-den-wald.jpg
END:VEVENT
BEGIN:VEVENT
DTSTART;TZID=Europe/Zurich:20220712T184500
DTEND;TZID=Europe/Zurich:20220712T201500
DTSTAMP:20260426T045212
CREATED:20210616T062735Z
LAST-MODIFIED:20220322T103346Z
UID:10004313-1657651500-1657656900@graubuendentrailrun.ch
SUMMARY:#trailtreff_lenzerheide
DESCRIPTION:Der #trailtreff_lenzerheide ist eine Feierabendrunde in coupiertem Gelände. Unsere Runden dauern 60 – 90 Min. und finden wöchentlich von Juni bis Oktober statt. Es gibt aktuell keine Stärkeklassen\, wir sind flexibel! Anmelden musst du dich nicht\, sei einfach pünktlich um 18.45 Uhr beim Postplatz Lenzerheide. Du kannst mind. 1 Std. am Stück laufen und hast gute Laufschuhe? Dann auf den Trail\, fertig\, los!
URL:https://graubuendentrailrun.ch/event/trailtreff_lenzerheide/2022-07-12/
LOCATION:Postplatz Lenzerheide\, Post\, Lenzerheide\, 7078\, Switzerland
CATEGORIES:Trailtreff
ATTACH;FMTTYPE=image/jpeg:https://graubuendentrailrun.ch/wp-content/uploads/2021/06/der-weg-fuehrt-ueber-wurzeln-stock-und-stein-und-durch-den-wald.jpg
END:VEVENT
BEGIN:VEVENT
DTSTART;TZID=Europe/Zurich:20220705T184500
DTEND;TZID=Europe/Zurich:20220705T201500
DTSTAMP:20260426T045212
CREATED:20210616T062735Z
LAST-MODIFIED:20220322T103346Z
UID:10004312-1657046700-1657052100@graubuendentrailrun.ch
SUMMARY:#trailtreff_lenzerheide
DESCRIPTION:Der #trailtreff_lenzerheide ist eine Feierabendrunde in coupiertem Gelände. Unsere Runden dauern 60 – 90 Min. und finden wöchentlich von Juni bis Oktober statt. Es gibt aktuell keine Stärkeklassen\, wir sind flexibel! Anmelden musst du dich nicht\, sei einfach pünktlich um 18.45 Uhr beim Postplatz Lenzerheide. Du kannst mind. 1 Std. am Stück laufen und hast gute Laufschuhe? Dann auf den Trail\, fertig\, los!
URL:https://graubuendentrailrun.ch/event/trailtreff_lenzerheide/2022-07-05/
LOCATION:Postplatz Lenzerheide\, Post\, Lenzerheide\, 7078\, Switzerland
CATEGORIES:Trailtreff
ATTACH;FMTTYPE=image/jpeg:https://graubuendentrailrun.ch/wp-content/uploads/2021/06/der-weg-fuehrt-ueber-wurzeln-stock-und-stein-und-durch-den-wald.jpg
END:VEVENT
BEGIN:VEVENT
DTSTART;TZID=Europe/Zurich:20220628T184500
DTEND;TZID=Europe/Zurich:20220628T201500
DTSTAMP:20260426T045212
CREATED:20210616T062735Z
LAST-MODIFIED:20220322T103346Z
UID:10004311-1656441900-1656447300@graubuendentrailrun.ch
SUMMARY:#trailtreff_lenzerheide
DESCRIPTION:Der #trailtreff_lenzerheide ist eine Feierabendrunde in coupiertem Gelände. Unsere Runden dauern 60 – 90 Min. und finden wöchentlich von Juni bis Oktober statt. Es gibt aktuell keine Stärkeklassen\, wir sind flexibel! Anmelden musst du dich nicht\, sei einfach pünktlich um 18.45 Uhr beim Postplatz Lenzerheide. Du kannst mind. 1 Std. am Stück laufen und hast gute Laufschuhe? Dann auf den Trail\, fertig\, los!
URL:https://graubuendentrailrun.ch/event/trailtreff_lenzerheide/2022-06-28/
LOCATION:Postplatz Lenzerheide\, Post\, Lenzerheide\, 7078\, Switzerland
CATEGORIES:Trailtreff
ATTACH;FMTTYPE=image/jpeg:https://graubuendentrailrun.ch/wp-content/uploads/2021/06/der-weg-fuehrt-ueber-wurzeln-stock-und-stein-und-durch-den-wald.jpg
END:VEVENT
BEGIN:VEVENT
DTSTART;TZID=Europe/Zurich:20220621T184500
DTEND;TZID=Europe/Zurich:20220621T201500
DTSTAMP:20260426T045212
CREATED:20210616T062735Z
LAST-MODIFIED:20220322T103346Z
UID:10004310-1655837100-1655842500@graubuendentrailrun.ch
SUMMARY:#trailtreff_lenzerheide
DESCRIPTION:Der #trailtreff_lenzerheide ist eine Feierabendrunde in coupiertem Gelände. Unsere Runden dauern 60 – 90 Min. und finden wöchentlich von Juni bis Oktober statt. Es gibt aktuell keine Stärkeklassen\, wir sind flexibel! Anmelden musst du dich nicht\, sei einfach pünktlich um 18.45 Uhr beim Postplatz Lenzerheide. Du kannst mind. 1 Std. am Stück laufen und hast gute Laufschuhe? Dann auf den Trail\, fertig\, los!
URL:https://graubuendentrailrun.ch/event/trailtreff_lenzerheide/2022-06-21/
LOCATION:Postplatz Lenzerheide\, Post\, Lenzerheide\, 7078\, Switzerland
CATEGORIES:Trailtreff
ATTACH;FMTTYPE=image/jpeg:https://graubuendentrailrun.ch/wp-content/uploads/2021/06/der-weg-fuehrt-ueber-wurzeln-stock-und-stein-und-durch-den-wald.jpg
END:VEVENT
BEGIN:VEVENT
DTSTART;TZID=Europe/Zurich:20220614T184500
DTEND;TZID=Europe/Zurich:20220614T201500
DTSTAMP:20260426T045212
CREATED:20210616T062735Z
LAST-MODIFIED:20220322T103346Z
UID:10004309-1655232300-1655237700@graubuendentrailrun.ch
SUMMARY:#trailtreff_lenzerheide
DESCRIPTION:Der #trailtreff_lenzerheide ist eine Feierabendrunde in coupiertem Gelände. Unsere Runden dauern 60 – 90 Min. und finden wöchentlich von Juni bis Oktober statt. Es gibt aktuell keine Stärkeklassen\, wir sind flexibel! Anmelden musst du dich nicht\, sei einfach pünktlich um 18.45 Uhr beim Postplatz Lenzerheide. Du kannst mind. 1 Std. am Stück laufen und hast gute Laufschuhe? Dann auf den Trail\, fertig\, los!
URL:https://graubuendentrailrun.ch/event/trailtreff_lenzerheide/2022-06-14/
LOCATION:Postplatz Lenzerheide\, Post\, Lenzerheide\, 7078\, Switzerland
CATEGORIES:Trailtreff
ATTACH;FMTTYPE=image/jpeg:https://graubuendentrailrun.ch/wp-content/uploads/2021/06/der-weg-fuehrt-ueber-wurzeln-stock-und-stein-und-durch-den-wald.jpg
END:VEVENT
BEGIN:VEVENT
DTSTART;TZID=Europe/Zurich:20220607T184500
DTEND;TZID=Europe/Zurich:20220607T201500
DTSTAMP:20260426T045212
CREATED:20210616T062735Z
LAST-MODIFIED:20220322T103346Z
UID:10004308-1654627500-1654632900@graubuendentrailrun.ch
SUMMARY:#trailtreff_lenzerheide
DESCRIPTION:Der #trailtreff_lenzerheide ist eine Feierabendrunde in coupiertem Gelände. Unsere Runden dauern 60 – 90 Min. und finden wöchentlich von Juni bis Oktober statt. Es gibt aktuell keine Stärkeklassen\, wir sind flexibel! Anmelden musst du dich nicht\, sei einfach pünktlich um 18.45 Uhr beim Postplatz Lenzerheide. Du kannst mind. 1 Std. am Stück laufen und hast gute Laufschuhe? Dann auf den Trail\, fertig\, los!
URL:https://graubuendentrailrun.ch/event/trailtreff_lenzerheide/2022-06-07/
LOCATION:Postplatz Lenzerheide\, Post\, Lenzerheide\, 7078\, Switzerland
CATEGORIES:Trailtreff
ATTACH;FMTTYPE=image/jpeg:https://graubuendentrailrun.ch/wp-content/uploads/2021/06/der-weg-fuehrt-ueber-wurzeln-stock-und-stein-und-durch-den-wald.jpg
END:VEVENT
END:VCALENDAR