BEGIN:VCALENDAR
VERSION:2.0
PRODID:-//graubünden Trailrun - ECPv6.15.20//NONSGML v1.0//EN
CALSCALE:GREGORIAN
METHOD:PUBLISH
X-ORIGINAL-URL:https://graubuendentrailrun.ch
X-WR-CALDESC:Veranstaltungen für graubünden Trailrun
REFRESH-INTERVAL;VALUE=DURATION:PT1H
X-Robots-Tag:noindex
X-PUBLISHED-TTL:PT1H
BEGIN:VTIMEZONE
TZID:Europe/Zurich
BEGIN:DAYLIGHT
TZOFFSETFROM:+0100
TZOFFSETTO:+0200
TZNAME:CEST
DTSTART:20200329T010000
END:DAYLIGHT
BEGIN:STANDARD
TZOFFSETFROM:+0200
TZOFFSETTO:+0100
TZNAME:CET
DTSTART:20201025T010000
END:STANDARD
BEGIN:DAYLIGHT
TZOFFSETFROM:+0100
TZOFFSETTO:+0200
TZNAME:CEST
DTSTART:20210328T010000
END:DAYLIGHT
BEGIN:STANDARD
TZOFFSETFROM:+0200
TZOFFSETTO:+0100
TZNAME:CET
DTSTART:20211031T010000
END:STANDARD
BEGIN:DAYLIGHT
TZOFFSETFROM:+0100
TZOFFSETTO:+0200
TZNAME:CEST
DTSTART:20220327T010000
END:DAYLIGHT
BEGIN:STANDARD
TZOFFSETFROM:+0200
TZOFFSETTO:+0100
TZNAME:CET
DTSTART:20221030T010000
END:STANDARD
END:VTIMEZONE
BEGIN:VEVENT
DTSTART;TZID=Europe/Zurich:20210918T180000
DTEND;TZID=Europe/Zurich:20210918T220000
DTSTAMP:20260423T192110
CREATED:20210414T065402Z
LAST-MODIFIED:20210414T065820Z
UID:10003000-1631988000-1632002400@graubuendentrailrun.ch
SUMMARY:Trail2Gether Sargans
DESCRIPTION:Einstieg ins Trailrunning leicht gemacht!\nDich fasziniert das Laufen in den Bergen\, aber dir fehlt noch ein wenig Know-How? Dann sind die Trail2Gether Kurse genau das Richtige für Dich! Erfahrene lokale Guides geben dir Tipps und Tricks für mehr Spass und Sicherheit beim Trailrunning. Dein Guide in Sargans ist Maarten Hendricks. Ausserdem hast du die Möglichkeit das neuste Dynafit Material zu testen und das alles kostenlos! \nAlso los\, jetzt gleich hier anmelden. \nINHALT \n\nEinführung ins Trail Running\nTipps und Tricks zum Uphill\, Downhill und Sicherheit\nDynafit Materialtest\nÜberraschungsgeschenk\n\nANFORDERUNGEN \n\nEinsteiger: Du kannst 1h am Stück im Flachen laufen / 8-11km in 1Std.\nFortgeschrittene: Du kannst 2h am Stück im Flachen laufen / 10-14km in 1Std.\n\nAUSRÜSTUNG \n\nDem Wetter angepasste Laufkleidung\n(Trail) Running Schuhe mit griffiger Sohle\nSmartphone mit vollem Akku
URL:https://graubuendentrailrun.ch/event/trail2gether-sargans/2021-09-18/
LOCATION:Trail2Gether Sargans\, Langgrabenstrasse 6a\, Sargans\, St. Gallen\, 7320\, Switzerland
CATEGORIES:Schnupper-Events
ATTACH;FMTTYPE=image/jpeg:https://graubuendentrailrun.ch/wp-content/uploads/2021/04/DYN_CH_4921_Retouched.jpg
ORGANIZER;CN="Swiss Trailguide":MAILTO:info@swisstrailguide.com
END:VEVENT
BEGIN:VEVENT
DTSTART;TZID=Europe/Zurich:20210619T180000
DTEND;TZID=Europe/Zurich:20210619T220000
DTSTAMP:20260423T192110
CREATED:20210414T065402Z
LAST-MODIFIED:20210414T065820Z
UID:10002999-1624125600-1624140000@graubuendentrailrun.ch
SUMMARY:Trail2Gether Sargans
DESCRIPTION:Einstieg ins Trailrunning leicht gemacht!\nDich fasziniert das Laufen in den Bergen\, aber dir fehlt noch ein wenig Know-How? Dann sind die Trail2Gether Kurse genau das Richtige für Dich! Erfahrene lokale Guides geben dir Tipps und Tricks für mehr Spass und Sicherheit beim Trailrunning. Dein Guide in Sargans ist Maarten Hendricks. Ausserdem hast du die Möglichkeit das neuste Dynafit Material zu testen und das alles kostenlos! \nAlso los\, jetzt gleich hier anmelden. \nINHALT \n\nEinführung ins Trail Running\nTipps und Tricks zum Uphill\, Downhill und Sicherheit\nDynafit Materialtest\nÜberraschungsgeschenk\n\nANFORDERUNGEN \n\nEinsteiger: Du kannst 1h am Stück im Flachen laufen / 8-11km in 1Std.\nFortgeschrittene: Du kannst 2h am Stück im Flachen laufen / 10-14km in 1Std.\n\nAUSRÜSTUNG \n\nDem Wetter angepasste Laufkleidung\n(Trail) Running Schuhe mit griffiger Sohle\nSmartphone mit vollem Akku
URL:https://graubuendentrailrun.ch/event/trail2gether-sargans/2021-06-19/
LOCATION:Trail2Gether Sargans\, Langgrabenstrasse 6a\, Sargans\, St. Gallen\, 7320\, Switzerland
CATEGORIES:Schnupper-Events
ATTACH;FMTTYPE=image/jpeg:https://graubuendentrailrun.ch/wp-content/uploads/2021/04/DYN_CH_4921_Retouched.jpg
ORGANIZER;CN="Swiss Trailguide":MAILTO:info@swisstrailguide.com
END:VEVENT
BEGIN:VEVENT
DTSTART;TZID=Europe/Zurich:20210508T180000
DTEND;TZID=Europe/Zurich:20210508T220000
DTSTAMP:20260423T192110
CREATED:20210414T065402Z
LAST-MODIFIED:20210414T065820Z
UID:10002998-1620496800-1620511200@graubuendentrailrun.ch
SUMMARY:Trail2Gether Sargans
DESCRIPTION:Einstieg ins Trailrunning leicht gemacht!\nDich fasziniert das Laufen in den Bergen\, aber dir fehlt noch ein wenig Know-How? Dann sind die Trail2Gether Kurse genau das Richtige für Dich! Erfahrene lokale Guides geben dir Tipps und Tricks für mehr Spass und Sicherheit beim Trailrunning. Dein Guide in Sargans ist Maarten Hendricks. Ausserdem hast du die Möglichkeit das neuste Dynafit Material zu testen und das alles kostenlos! \nAlso los\, jetzt gleich hier anmelden. \nINHALT \n\nEinführung ins Trail Running\nTipps und Tricks zum Uphill\, Downhill und Sicherheit\nDynafit Materialtest\nÜberraschungsgeschenk\n\nANFORDERUNGEN \n\nEinsteiger: Du kannst 1h am Stück im Flachen laufen / 8-11km in 1Std.\nFortgeschrittene: Du kannst 2h am Stück im Flachen laufen / 10-14km in 1Std.\n\nAUSRÜSTUNG \n\nDem Wetter angepasste Laufkleidung\n(Trail) Running Schuhe mit griffiger Sohle\nSmartphone mit vollem Akku
URL:https://graubuendentrailrun.ch/event/trail2gether-sargans/2021-05-08/
LOCATION:Trail2Gether Sargans\, Langgrabenstrasse 6a\, Sargans\, St. Gallen\, 7320\, Switzerland
CATEGORIES:Schnupper-Events
ATTACH;FMTTYPE=image/jpeg:https://graubuendentrailrun.ch/wp-content/uploads/2021/04/DYN_CH_4921_Retouched.jpg
ORGANIZER;CN="Swiss Trailguide":MAILTO:info@swisstrailguide.com
END:VEVENT
END:VCALENDAR