BEGIN:VCALENDAR
VERSION:2.0
PRODID:-//graubünden Trailrun - ECPv6.15.20//NONSGML v1.0//EN
CALSCALE:GREGORIAN
METHOD:PUBLISH
X-WR-CALNAME:graubünden Trailrun
X-ORIGINAL-URL:https://graubuendentrailrun.ch
X-WR-CALDESC:Veranstaltungen für graubünden Trailrun
REFRESH-INTERVAL;VALUE=DURATION:PT1H
X-Robots-Tag:noindex
X-PUBLISHED-TTL:PT1H
BEGIN:VTIMEZONE
TZID:Europe/Zurich
BEGIN:DAYLIGHT
TZOFFSETFROM:+0100
TZOFFSETTO:+0200
TZNAME:CEST
DTSTART:20200329T010000
END:DAYLIGHT
BEGIN:STANDARD
TZOFFSETFROM:+0200
TZOFFSETTO:+0100
TZNAME:CET
DTSTART:20201025T010000
END:STANDARD
BEGIN:DAYLIGHT
TZOFFSETFROM:+0100
TZOFFSETTO:+0200
TZNAME:CEST
DTSTART:20210328T010000
END:DAYLIGHT
BEGIN:STANDARD
TZOFFSETFROM:+0200
TZOFFSETTO:+0100
TZNAME:CET
DTSTART:20211031T010000
END:STANDARD
BEGIN:DAYLIGHT
TZOFFSETFROM:+0100
TZOFFSETTO:+0200
TZNAME:CEST
DTSTART:20220327T010000
END:DAYLIGHT
BEGIN:STANDARD
TZOFFSETFROM:+0200
TZOFFSETTO:+0100
TZNAME:CET
DTSTART:20221030T010000
END:STANDARD
BEGIN:DAYLIGHT
TZOFFSETFROM:+0100
TZOFFSETTO:+0200
TZNAME:CEST
DTSTART:20230326T010000
END:DAYLIGHT
BEGIN:STANDARD
TZOFFSETFROM:+0200
TZOFFSETTO:+0100
TZNAME:CET
DTSTART:20231029T010000
END:STANDARD
BEGIN:DAYLIGHT
TZOFFSETFROM:+0100
TZOFFSETTO:+0200
TZNAME:CEST
DTSTART:20240331T010000
END:DAYLIGHT
BEGIN:STANDARD
TZOFFSETFROM:+0200
TZOFFSETTO:+0100
TZNAME:CET
DTSTART:20241027T010000
END:STANDARD
END:VTIMEZONE
BEGIN:VEVENT
DTSTART;VALUE=DATE:20230618
DTEND;VALUE=DATE:20230619
DTSTAMP:20260424T072533
CREATED:20210518T061714Z
LAST-MODIFIED:20220318T080241Z
UID:10004180-1687046400-1687132799@graubuendentrailrun.ch
SUMMARY:Tras Scuol
DESCRIPTION:Tras Scuol\, zu Deutsch „durch Scuol“\, so heisst der Lauf\, den ich 2019 für meine Maturaarbeit organisiert hatte. Da die Rückmeldungen nach der ersten Austragung so positiv waren\, entschied ich mich dazu\, die Veranstaltung\, sofern es die Situation mit dem Coronavirus erlaubt\, nochmals durchzuführen. Der Lauf ist für gross und klein und eignet sich sowohl für Plauschläufer als auch für Profiathleten.  Also kurzum für Jedermann. Er bietet einen wunderschönen Einblick in die Scuoler Altstadt und ein unvergessliches Lauferlebnis. Ausserdem wird der gesamte Reinerlös an die Schweizerische Herzstiftung gespendet.
URL:https://graubuendentrailrun.ch/event/tras-scuol/2023-06-18/
LOCATION:Scuol\, Bagnera 170\, Scuol\, 7550
CATEGORIES:Laufveranstaltungen
ATTACH;FMTTYPE=image/jpeg:https://graubuendentrailrun.ch/wp-content/uploads/2021/05/Tras_Scuol_2021.jpg
ORGANIZER;CN="OK Tras Scuol":MAILTO:info@tras-scuol.ch
END:VEVENT
BEGIN:VEVENT
DTSTART;VALUE=DATE:20220821
DTEND;VALUE=DATE:20220822
DTSTAMP:20260424T072533
CREATED:20210526T091332Z
LAST-MODIFIED:20220215T161220Z
UID:10004260-1661040000-1661126399@graubuendentrailrun.ch
SUMMARY:Unterengadiner Sommerlauf
DESCRIPTION:Tramblai 18 km\nLangdistanz von Scuol nach Sur En / Tramblai und wieder zurück. Die gesamte Stecke führt über Naturboden\, Schotter\, Waldweg und weist einen Auf- / Abstieg von ca. 330 Höhenmetern auf. \n\n\nPradella 5.2km\nKurzdistanz von Gurlaina nach Pradella und wieder zurück. Die gesamte Strecke führt über Naturboden\, Schotter\, Waldweg und weist einen Auf- / Abstieg von ca. 170 Höhenmetern auf.
URL:https://graubuendentrailrun.ch/event/unterengadiner-sommerlauf/2022-08-21/
LOCATION:Scuol\, Bagnera 170\, Scuol\, 7550
CATEGORIES:Laufveranstaltungen
ATTACH;FMTTYPE=image/jpeg:https://graubuendentrailrun.ch/wp-content/uploads/2020/08/Unterengadiner_Sommerlauf.jpg
ORGANIZER;CN="OK Unterengadiner Sommerlauf":MAILTO:info@unterengadiner-sommerlauf.ch
END:VEVENT
BEGIN:VEVENT
DTSTART;VALUE=DATE:20210912
DTEND;VALUE=DATE:20210913
DTSTAMP:20260424T072533
CREATED:20210526T091332Z
LAST-MODIFIED:20220215T161220Z
UID:10004259-1631404800-1631491199@graubuendentrailrun.ch
SUMMARY:Unterengadiner Sommerlauf
DESCRIPTION:Tramblai 18 km\nLangdistanz von Scuol nach Sur En / Tramblai und wieder zurück. Die gesamte Stecke führt über Naturboden\, Schotter\, Waldweg und weist einen Auf- / Abstieg von ca. 330 Höhenmetern auf. \n\n\nPradella 5.2km\nKurzdistanz von Gurlaina nach Pradella und wieder zurück. Die gesamte Strecke führt über Naturboden\, Schotter\, Waldweg und weist einen Auf- / Abstieg von ca. 170 Höhenmetern auf.
URL:https://graubuendentrailrun.ch/event/unterengadiner-sommerlauf/2021-09-12/
LOCATION:Scuol\, Bagnera 170\, Scuol\, 7550
CATEGORIES:Laufveranstaltungen
ATTACH;FMTTYPE=image/jpeg:https://graubuendentrailrun.ch/wp-content/uploads/2020/08/Unterengadiner_Sommerlauf.jpg
ORGANIZER;CN="OK Unterengadiner Sommerlauf":MAILTO:info@unterengadiner-sommerlauf.ch
END:VEVENT
BEGIN:VEVENT
DTSTART;VALUE=DATE:20210620
DTEND;VALUE=DATE:20210621
DTSTAMP:20260424T072533
CREATED:20210518T061714Z
LAST-MODIFIED:20220318T080241Z
UID:10004179-1624147200-1624233599@graubuendentrailrun.ch
SUMMARY:Tras Scuol
DESCRIPTION:Tras Scuol\, zu Deutsch „durch Scuol“\, so heisst der Lauf\, den ich 2019 für meine Maturaarbeit organisiert hatte. Da die Rückmeldungen nach der ersten Austragung so positiv waren\, entschied ich mich dazu\, die Veranstaltung\, sofern es die Situation mit dem Coronavirus erlaubt\, nochmals durchzuführen. Der Lauf ist für gross und klein und eignet sich sowohl für Plauschläufer als auch für Profiathleten.  Also kurzum für Jedermann. Er bietet einen wunderschönen Einblick in die Scuoler Altstadt und ein unvergessliches Lauferlebnis. Ausserdem wird der gesamte Reinerlös an die Schweizerische Herzstiftung gespendet.
URL:https://graubuendentrailrun.ch/event/tras-scuol/2021-06-20/
LOCATION:Scuol\, Bagnera 170\, Scuol\, 7550
CATEGORIES:Laufveranstaltungen
ATTACH;FMTTYPE=image/jpeg:https://graubuendentrailrun.ch/wp-content/uploads/2021/05/Tras_Scuol_2021.jpg
ORGANIZER;CN="OK Tras Scuol":MAILTO:info@tras-scuol.ch
END:VEVENT
END:VCALENDAR