BEGIN:VCALENDAR
VERSION:2.0
PRODID:-//graubünden Trailrun - ECPv6.15.20//NONSGML v1.0//EN
CALSCALE:GREGORIAN
METHOD:PUBLISH
X-WR-CALNAME:graubünden Trailrun
X-ORIGINAL-URL:https://graubuendentrailrun.ch
X-WR-CALDESC:Veranstaltungen für graubünden Trailrun
REFRESH-INTERVAL;VALUE=DURATION:PT1H
X-Robots-Tag:noindex
X-PUBLISHED-TTL:PT1H
BEGIN:VTIMEZONE
TZID:Europe/Zurich
BEGIN:DAYLIGHT
TZOFFSETFROM:+0100
TZOFFSETTO:+0200
TZNAME:CEST
DTSTART:20240331T010000
END:DAYLIGHT
BEGIN:STANDARD
TZOFFSETFROM:+0200
TZOFFSETTO:+0100
TZNAME:CET
DTSTART:20241027T010000
END:STANDARD
BEGIN:DAYLIGHT
TZOFFSETFROM:+0100
TZOFFSETTO:+0200
TZNAME:CEST
DTSTART:20250330T010000
END:DAYLIGHT
BEGIN:STANDARD
TZOFFSETFROM:+0200
TZOFFSETTO:+0100
TZNAME:CET
DTSTART:20251026T010000
END:STANDARD
BEGIN:DAYLIGHT
TZOFFSETFROM:+0100
TZOFFSETTO:+0200
TZNAME:CEST
DTSTART:20260329T010000
END:DAYLIGHT
BEGIN:STANDARD
TZOFFSETFROM:+0200
TZOFFSETTO:+0100
TZNAME:CET
DTSTART:20261025T010000
END:STANDARD
END:VTIMEZONE
BEGIN:VEVENT
DTSTART;TZID=Europe/Zurich:20250809T130000
DTEND;TZID=Europe/Zurich:20250809T160000
DTSTAMP:20260426T020408
CREATED:20250424T090451Z
LAST-MODIFIED:20250424T090451Z
UID:10008461-1754744400-1754755200@graubuendentrailrun.ch
SUMMARY:Trailrunning Technikkurs Flims
DESCRIPTION:Lerne\, deine Lauftechnik gezielt zu verbessern! In diesem halbtägigen Kurs arbeiten wir intensiv an deiner Technik. Du lernst\, deinen Laufstil an das Gelände anzupassen\, um effizienter und sicherer zu laufen. Mit praxisorientierten Übungen optimierst du deinen individuellen Laufstil und steigerst deine Spass auf den Trails. \nDu hast bereits Erfahrung im Trailrunning oder kannst 30 Minuten am Stück auf Trails laufen? Dann bist du herzlich willkommen!
URL:https://graubuendentrailrun.ch/event/trailrunning-technikkurs-flims/2025-08-09/
LOCATION:Sportzentrum Flims\, Via Prau la Selva 6\, Flims Waldhaus\, 7018\, Switzerland
CATEGORIES:Schnupper-Events
ATTACH;FMTTYPE=image/jpeg:https://graubuendentrailrun.ch/wp-content/uploads/2025/04/image-1.jpeg
ORGANIZER;CN="bergfrey outdoor guide":MAILTO:info@bergfrey.ch
END:VEVENT
BEGIN:VEVENT
DTSTART;TZID=Europe/Zurich:20250809T100000
DTEND;TZID=Europe/Zurich:20250809T113000
DTSTAMP:20260426T020408
CREATED:20250424T075443Z
LAST-MODIFIED:20250424T075443Z
UID:10008458-1754733600-1754739000@graubuendentrailrun.ch
SUMMARY:Trailrunning Schnupperkurs Flims
DESCRIPTION:Neugierig auf Trailrunning? Entdecke\, was es braucht\, und hol dir erste Tipps & Tricks – beim Schnupperkurs von Bergfrey. Du musst kein Spitzenathlet sein! Wenn du gelegentlich Sport machst und 30 Minuten joggen kannst\, bist du herzlich willkommen. \nDaten:  \n\nSonntag\, 18. Mai\, 10.00 bis 11.30 Uhr\nSonntag\, 17. Juli\, 10.00 bis 11.30 Uhr\nSamstag\, 09. August\, 10.00 bis 11.30 Uhr
URL:https://graubuendentrailrun.ch/event/trailrunning-schnupperkurs-flims/2025-08-09/
LOCATION:Sportzentrum Flims\, Via Prau la Selva 6\, Flims Waldhaus\, 7018\, Switzerland
CATEGORIES:Schnupper-Events
ATTACH;FMTTYPE=image/jpeg:https://graubuendentrailrun.ch/wp-content/uploads/2025/04/image.jpeg
ORGANIZER;CN="bergfrey outdoor guide":MAILTO:info@bergfrey.ch
END:VEVENT
BEGIN:VEVENT
DTSTART;TZID=Europe/Zurich:20250713T130000
DTEND;TZID=Europe/Zurich:20250713T160000
DTSTAMP:20260426T020408
CREATED:20250424T090451Z
LAST-MODIFIED:20250424T090451Z
UID:10008460-1752411600-1752422400@graubuendentrailrun.ch
SUMMARY:Trailrunning Technikkurs Flims
DESCRIPTION:Lerne\, deine Lauftechnik gezielt zu verbessern! In diesem halbtägigen Kurs arbeiten wir intensiv an deiner Technik. Du lernst\, deinen Laufstil an das Gelände anzupassen\, um effizienter und sicherer zu laufen. Mit praxisorientierten Übungen optimierst du deinen individuellen Laufstil und steigerst deine Spass auf den Trails. \nDu hast bereits Erfahrung im Trailrunning oder kannst 30 Minuten am Stück auf Trails laufen? Dann bist du herzlich willkommen!
URL:https://graubuendentrailrun.ch/event/trailrunning-technikkurs-flims/2025-07-13/
LOCATION:Sportzentrum Flims\, Via Prau la Selva 6\, Flims Waldhaus\, 7018\, Switzerland
CATEGORIES:Schnupper-Events
ATTACH;FMTTYPE=image/jpeg:https://graubuendentrailrun.ch/wp-content/uploads/2025/04/image-1.jpeg
ORGANIZER;CN="bergfrey outdoor guide":MAILTO:info@bergfrey.ch
END:VEVENT
BEGIN:VEVENT
DTSTART;TZID=Europe/Zurich:20250713T100000
DTEND;TZID=Europe/Zurich:20250713T113000
DTSTAMP:20260426T020408
CREATED:20250424T075443Z
LAST-MODIFIED:20250424T075443Z
UID:10008457-1752400800-1752406200@graubuendentrailrun.ch
SUMMARY:Trailrunning Schnupperkurs Flims
DESCRIPTION:Neugierig auf Trailrunning? Entdecke\, was es braucht\, und hol dir erste Tipps & Tricks – beim Schnupperkurs von Bergfrey. Du musst kein Spitzenathlet sein! Wenn du gelegentlich Sport machst und 30 Minuten joggen kannst\, bist du herzlich willkommen. \nDaten:  \n\nSonntag\, 18. Mai\, 10.00 bis 11.30 Uhr\nSonntag\, 17. Juli\, 10.00 bis 11.30 Uhr\nSamstag\, 09. August\, 10.00 bis 11.30 Uhr
URL:https://graubuendentrailrun.ch/event/trailrunning-schnupperkurs-flims/2025-07-13/
LOCATION:Sportzentrum Flims\, Via Prau la Selva 6\, Flims Waldhaus\, 7018\, Switzerland
CATEGORIES:Schnupper-Events
ATTACH;FMTTYPE=image/jpeg:https://graubuendentrailrun.ch/wp-content/uploads/2025/04/image.jpeg
ORGANIZER;CN="bergfrey outdoor guide":MAILTO:info@bergfrey.ch
END:VEVENT
BEGIN:VEVENT
DTSTART;TZID=Europe/Zurich:20250518T130000
DTEND;TZID=Europe/Zurich:20250518T160000
DTSTAMP:20260426T020408
CREATED:20250424T090451Z
LAST-MODIFIED:20250424T090451Z
UID:10008459-1747573200-1747584000@graubuendentrailrun.ch
SUMMARY:Trailrunning Technikkurs Flims
DESCRIPTION:Lerne\, deine Lauftechnik gezielt zu verbessern! In diesem halbtägigen Kurs arbeiten wir intensiv an deiner Technik. Du lernst\, deinen Laufstil an das Gelände anzupassen\, um effizienter und sicherer zu laufen. Mit praxisorientierten Übungen optimierst du deinen individuellen Laufstil und steigerst deine Spass auf den Trails. \nDu hast bereits Erfahrung im Trailrunning oder kannst 30 Minuten am Stück auf Trails laufen? Dann bist du herzlich willkommen!
URL:https://graubuendentrailrun.ch/event/trailrunning-technikkurs-flims/2025-05-18/
LOCATION:Sportzentrum Flims\, Via Prau la Selva 6\, Flims Waldhaus\, 7018\, Switzerland
CATEGORIES:Schnupper-Events
ATTACH;FMTTYPE=image/jpeg:https://graubuendentrailrun.ch/wp-content/uploads/2025/04/image-1.jpeg
ORGANIZER;CN="bergfrey outdoor guide":MAILTO:info@bergfrey.ch
END:VEVENT
BEGIN:VEVENT
DTSTART;TZID=Europe/Zurich:20250518T100000
DTEND;TZID=Europe/Zurich:20250518T113000
DTSTAMP:20260426T020408
CREATED:20250424T075443Z
LAST-MODIFIED:20250424T075443Z
UID:10008456-1747562400-1747567800@graubuendentrailrun.ch
SUMMARY:Trailrunning Schnupperkurs Flims
DESCRIPTION:Neugierig auf Trailrunning? Entdecke\, was es braucht\, und hol dir erste Tipps & Tricks – beim Schnupperkurs von Bergfrey. Du musst kein Spitzenathlet sein! Wenn du gelegentlich Sport machst und 30 Minuten joggen kannst\, bist du herzlich willkommen. \nDaten:  \n\nSonntag\, 18. Mai\, 10.00 bis 11.30 Uhr\nSonntag\, 17. Juli\, 10.00 bis 11.30 Uhr\nSamstag\, 09. August\, 10.00 bis 11.30 Uhr
URL:https://graubuendentrailrun.ch/event/trailrunning-schnupperkurs-flims/2025-05-18/
LOCATION:Sportzentrum Flims\, Via Prau la Selva 6\, Flims Waldhaus\, 7018\, Switzerland
CATEGORIES:Schnupper-Events
ATTACH;FMTTYPE=image/jpeg:https://graubuendentrailrun.ch/wp-content/uploads/2025/04/image.jpeg
ORGANIZER;CN="bergfrey outdoor guide":MAILTO:info@bergfrey.ch
END:VEVENT
END:VCALENDAR