BEGIN:VCALENDAR
VERSION:2.0
PRODID:-//graubünden Trailrun - ECPv6.15.20//NONSGML v1.0//EN
CALSCALE:GREGORIAN
METHOD:PUBLISH
X-ORIGINAL-URL:https://graubuendentrailrun.ch
X-WR-CALDESC:Veranstaltungen für graubünden Trailrun
REFRESH-INTERVAL;VALUE=DURATION:PT1H
X-Robots-Tag:noindex
X-PUBLISHED-TTL:PT1H
BEGIN:VTIMEZONE
TZID:Europe/Zurich
BEGIN:DAYLIGHT
TZOFFSETFROM:+0100
TZOFFSETTO:+0200
TZNAME:CEST
DTSTART:20200329T010000
END:DAYLIGHT
BEGIN:STANDARD
TZOFFSETFROM:+0200
TZOFFSETTO:+0100
TZNAME:CET
DTSTART:20201025T010000
END:STANDARD
BEGIN:DAYLIGHT
TZOFFSETFROM:+0100
TZOFFSETTO:+0200
TZNAME:CEST
DTSTART:20210328T010000
END:DAYLIGHT
BEGIN:STANDARD
TZOFFSETFROM:+0200
TZOFFSETTO:+0100
TZNAME:CET
DTSTART:20211031T010000
END:STANDARD
BEGIN:DAYLIGHT
TZOFFSETFROM:+0100
TZOFFSETTO:+0200
TZNAME:CEST
DTSTART:20220327T010000
END:DAYLIGHT
BEGIN:STANDARD
TZOFFSETFROM:+0200
TZOFFSETTO:+0100
TZNAME:CET
DTSTART:20221030T010000
END:STANDARD
BEGIN:DAYLIGHT
TZOFFSETFROM:+0100
TZOFFSETTO:+0200
TZNAME:CEST
DTSTART:20230326T010000
END:DAYLIGHT
BEGIN:STANDARD
TZOFFSETFROM:+0200
TZOFFSETTO:+0100
TZNAME:CET
DTSTART:20231029T010000
END:STANDARD
BEGIN:DAYLIGHT
TZOFFSETFROM:+0100
TZOFFSETTO:+0200
TZNAME:CEST
DTSTART:20240331T010000
END:DAYLIGHT
BEGIN:STANDARD
TZOFFSETFROM:+0200
TZOFFSETTO:+0100
TZNAME:CET
DTSTART:20241027T010000
END:STANDARD
BEGIN:DAYLIGHT
TZOFFSETFROM:+0100
TZOFFSETTO:+0200
TZNAME:CEST
DTSTART:20250330T010000
END:DAYLIGHT
BEGIN:STANDARD
TZOFFSETFROM:+0200
TZOFFSETTO:+0100
TZNAME:CET
DTSTART:20251026T010000
END:STANDARD
END:VTIMEZONE
BEGIN:VEVENT
DTSTART;VALUE=DATE:20240920
DTEND;VALUE=DATE:20240924
DTSTAMP:20260423T170843
CREATED:20240708T125149Z
LAST-MODIFIED:20240708T130118Z
UID:10008058-1726790400-1727135999@graubuendentrailrun.ch
SUMMARY:Trailrunning-Camp Prättigau
DESCRIPTION:Auch im Herbst gibt es wieder ein Trailrunning-Camp von k-motion – bereits zum siebten Mal. Dieses Mal reisen wir ins Prättigau. Während 4 Tagen erkundigen wir die Trails rund um St. Antönien. Es würde mich riesig freuen\, wenn du dabei bist. \nDatum\nVariante 1: alle 4 Tage (Fr bis Mo)\nVariante 2: nur 3 Tage (Fr bis So oder Sa bis Mo)\nVariante 3: nur 2 Tage (Fr/Sa oder Sa/So oder So/Mo)\nVariante 4: nur 1 Tag (Fr oder Sa oder So oder Mo) \nUnterkunft\nHotel Rhätia\nSt. Antönierstrasse 26\n7246 St. Antönien \nVerpflegung\nFrühstück im Hotel-Preis inbegriffen\nHalbpension: 3-Gänger für CHF 35.- pro Person \nWeitere Informationen\nZur Anmeldung
URL:https://graubuendentrailrun.ch/event/trailrunning-camp-praettigau/
LOCATION:St. Antönien\, St. Antönien\, 7246\, Switzerland
CATEGORIES:Trailrunning Camps
ATTACH;FMTTYPE=image/jpeg:https://graubuendentrailrun.ch/wp-content/uploads/2024/07/EE6D4C61-55D7-4DFE-B403-9F32B71ADF13_1_105_c.jpeg
ORGANIZER;CN="k-motion":MAILTO:karin@k-motion.ch
END:VEVENT
BEGIN:VEVENT
DTSTART;VALUE=DATE:20230610
DTEND;VALUE=DATE:20230612
DTSTAMP:20260423T170843
CREATED:20210518T075549Z
LAST-MODIFIED:20230124T140629Z
UID:10004183-1686355200-1686527999@graubuendentrailrun.ch
SUMMARY:How To Trail Run Camp - St. Antönien
DESCRIPTION:Trail Running Wochenende zuhinterst im schönen St. Antönien mit vielen spannenden Tipps.\nBist du Trail Runner/in oder möchtest es werden? Freust dich in der Natur unterwegs zu sein? Dann bist du hier genau richtig! Im 4. Salomon HTT Weekend wirst du nicht nur die schöne Gegend und die Trails zuhinterst in St. Antönien entdecken\, sondern auch viele spannende Inputs von den Coaches lernen können. Diese sind erfahrene Trail Runner\, Physiotherapeutin\, Ultra-Läufer und Bergführer. Sie werden ihre Leidenschaft\, Wissen und Erfahrungen mit dir teilen und dir die Lauftechnik auf verschiedenem Untergrund\, im Uphill und Downhill zeigen\, ergänzende Kraftübungen mit dir machen und in einem Vortag erklären\, wie du den Sport geschickt in deinen Alltag integrierst um ein optimales Resultat aus deinem Training zu erhalten.
URL:https://graubuendentrailrun.ch/event/how-to-trail-run-camp-st-antoenien/2023-06-10/
LOCATION:St. Antönien\, St. Antönien\, 7246\, Switzerland
CATEGORIES:Schnupper-Events,Trailrunning Camps
ATTACH;FMTTYPE=image/jpeg:https://graubuendentrailrun.ch/wp-content/uploads/2021/05/2A5461CA-666F-4143-AA43-6C3629AF8D37.jpeg
ORGANIZER;CN="Urs Baumgartner":MAILTO:mail@urs-baumgartner.ch
END:VEVENT
BEGIN:VEVENT
DTSTART;VALUE=DATE:20220611
DTEND;VALUE=DATE:20220613
DTSTAMP:20260423T170843
CREATED:20210518T075549Z
LAST-MODIFIED:20230124T140629Z
UID:10004182-1654905600-1655078399@graubuendentrailrun.ch
SUMMARY:How To Trail Run Camp - St. Antönien
DESCRIPTION:Trail Running Wochenende zuhinterst im schönen St. Antönien mit vielen spannenden Tipps.\nBist du Trail Runner/in oder möchtest es werden? Freust dich in der Natur unterwegs zu sein? Dann bist du hier genau richtig! Im 4. Salomon HTT Weekend wirst du nicht nur die schöne Gegend und die Trails zuhinterst in St. Antönien entdecken\, sondern auch viele spannende Inputs von den Coaches lernen können. Diese sind erfahrene Trail Runner\, Physiotherapeutin\, Ultra-Läufer und Bergführer. Sie werden ihre Leidenschaft\, Wissen und Erfahrungen mit dir teilen und dir die Lauftechnik auf verschiedenem Untergrund\, im Uphill und Downhill zeigen\, ergänzende Kraftübungen mit dir machen und in einem Vortag erklären\, wie du den Sport geschickt in deinen Alltag integrierst um ein optimales Resultat aus deinem Training zu erhalten.
URL:https://graubuendentrailrun.ch/event/how-to-trail-run-camp-st-antoenien/2022-06-11/
LOCATION:St. Antönien\, St. Antönien\, 7246\, Switzerland
CATEGORIES:Schnupper-Events,Trailrunning Camps
ATTACH;FMTTYPE=image/jpeg:https://graubuendentrailrun.ch/wp-content/uploads/2021/05/2A5461CA-666F-4143-AA43-6C3629AF8D37.jpeg
ORGANIZER;CN="Urs Baumgartner":MAILTO:mail@urs-baumgartner.ch
END:VEVENT
BEGIN:VEVENT
DTSTART;VALUE=DATE:20210612
DTEND;VALUE=DATE:20210614
DTSTAMP:20260423T170843
CREATED:20210518T075549Z
LAST-MODIFIED:20230124T140629Z
UID:10004181-1623456000-1623628799@graubuendentrailrun.ch
SUMMARY:How To Trail Run Camp - St. Antönien
DESCRIPTION:Trail Running Wochenende zuhinterst im schönen St. Antönien mit vielen spannenden Tipps.\nBist du Trail Runner/in oder möchtest es werden? Freust dich in der Natur unterwegs zu sein? Dann bist du hier genau richtig! Im 4. Salomon HTT Weekend wirst du nicht nur die schöne Gegend und die Trails zuhinterst in St. Antönien entdecken\, sondern auch viele spannende Inputs von den Coaches lernen können. Diese sind erfahrene Trail Runner\, Physiotherapeutin\, Ultra-Läufer und Bergführer. Sie werden ihre Leidenschaft\, Wissen und Erfahrungen mit dir teilen und dir die Lauftechnik auf verschiedenem Untergrund\, im Uphill und Downhill zeigen\, ergänzende Kraftübungen mit dir machen und in einem Vortag erklären\, wie du den Sport geschickt in deinen Alltag integrierst um ein optimales Resultat aus deinem Training zu erhalten.
URL:https://graubuendentrailrun.ch/event/how-to-trail-run-camp-st-antoenien/2021-06-12/
LOCATION:St. Antönien\, St. Antönien\, 7246\, Switzerland
CATEGORIES:Schnupper-Events,Trailrunning Camps
ATTACH;FMTTYPE=image/jpeg:https://graubuendentrailrun.ch/wp-content/uploads/2021/05/2A5461CA-666F-4143-AA43-6C3629AF8D37.jpeg
ORGANIZER;CN="Urs Baumgartner":MAILTO:mail@urs-baumgartner.ch
END:VEVENT
END:VCALENDAR