BEGIN:VCALENDAR
VERSION:2.0
PRODID:-//graubünden Trailrun - ECPv6.15.20//NONSGML v1.0//EN
CALSCALE:GREGORIAN
METHOD:PUBLISH
X-WR-CALNAME:graubünden Trailrun
X-ORIGINAL-URL:https://graubuendentrailrun.ch
X-WR-CALDESC:Veranstaltungen für graubünden Trailrun
REFRESH-INTERVAL;VALUE=DURATION:PT1H
X-Robots-Tag:noindex
X-PUBLISHED-TTL:PT1H
BEGIN:VTIMEZONE
TZID:Europe/Zurich
BEGIN:DAYLIGHT
TZOFFSETFROM:+0100
TZOFFSETTO:+0200
TZNAME:CEST
DTSTART:20250330T010000
END:DAYLIGHT
BEGIN:STANDARD
TZOFFSETFROM:+0200
TZOFFSETTO:+0100
TZNAME:CET
DTSTART:20251026T010000
END:STANDARD
BEGIN:DAYLIGHT
TZOFFSETFROM:+0100
TZOFFSETTO:+0200
TZNAME:CEST
DTSTART:20260329T010000
END:DAYLIGHT
BEGIN:STANDARD
TZOFFSETFROM:+0200
TZOFFSETTO:+0100
TZNAME:CET
DTSTART:20261025T010000
END:STANDARD
BEGIN:DAYLIGHT
TZOFFSETFROM:+0100
TZOFFSETTO:+0200
TZNAME:CEST
DTSTART:20270328T010000
END:DAYLIGHT
BEGIN:STANDARD
TZOFFSETFROM:+0200
TZOFFSETTO:+0100
TZNAME:CET
DTSTART:20271031T010000
END:STANDARD
END:VTIMEZONE
BEGIN:VEVENT
DTSTART;TZID=Europe/Zurich:20260428T181500
DTEND;TZID=Europe/Zurich:20260428T193000
DTSTAMP:20260422T191322
CREATED:20260327T134400Z
LAST-MODIFIED:20260327T134920Z
UID:10016737-1777400100-1777404600@graubuendentrailrun.ch
SUMMARY:Kids Trailtreff Thusis
DESCRIPTION:Trailtreff – Graubündens öffentliche Trailrunning-Gruppe: jetzt auch für Kinder und Jugendliche\nDer Kids Trailtreff Thusis ist eine Abendrunde in flowigem Gelände. Im Vordergrund steht die Freude an der Bewegung auf Naturpfaden. Spielerisch lernen und üben wir Tricks und Kniffs\, damit du dich noch wohler fühlst auf den Trails. Wir treffen uns um 18.15 Uhr beim grossen Tisch im Trailcenter Thusis neben dem Fussballplatz. Nach dem Aufwärmen üben wir auf den Hindernissen und trailen durch den Wald. Die Treffs finden wöchentlich jeden Dienstagabend bis zu den Sommerferien statt. Infos zur Durchführung teilen wir in der WhatsApp-Gruppe. \nAn- oder abmelden musst du dich für die Trailtreffs nicht\, sei einfach pünktlich beim Trailcenter in Thusis. Also auf den Trail\, fertig\, los! \nHast du Fragen? Melde dich gerne bei mir.
URL:https://graubuendentrailrun.ch/event/kids-trailtreff-thusis-3/2026-04-28/
LOCATION:Trailcenter Thusis\, PC3W+4GP Thusis
CATEGORIES:Trailtreff
ATTACH;FMTTYPE=image/jpeg:https://graubuendentrailrun.ch/wp-content/uploads/2026/03/Z2A0753-Kopie.jpeg
ORGANIZER;CN="Angelika":MAILTO:lehmann@zenit.run
END:VEVENT
BEGIN:VEVENT
DTSTART;TZID=Europe/Zurich:20260505T181500
DTEND;TZID=Europe/Zurich:20260505T193000
DTSTAMP:20260422T191322
CREATED:20260327T134400Z
LAST-MODIFIED:20260327T134920Z
UID:10016739-1778004900-1778009400@graubuendentrailrun.ch
SUMMARY:Kids Trailtreff Thusis
DESCRIPTION:Trailtreff – Graubündens öffentliche Trailrunning-Gruppe: jetzt auch für Kinder und Jugendliche\nDer Kids Trailtreff Thusis ist eine Abendrunde in flowigem Gelände. Im Vordergrund steht die Freude an der Bewegung auf Naturpfaden. Spielerisch lernen und üben wir Tricks und Kniffs\, damit du dich noch wohler fühlst auf den Trails. Wir treffen uns um 18.15 Uhr beim grossen Tisch im Trailcenter Thusis neben dem Fussballplatz. Nach dem Aufwärmen üben wir auf den Hindernissen und trailen durch den Wald. Die Treffs finden wöchentlich jeden Dienstagabend bis zu den Sommerferien statt. Infos zur Durchführung teilen wir in der WhatsApp-Gruppe. \nAn- oder abmelden musst du dich für die Trailtreffs nicht\, sei einfach pünktlich beim Trailcenter in Thusis. Also auf den Trail\, fertig\, los! \nHast du Fragen? Melde dich gerne bei mir.
URL:https://graubuendentrailrun.ch/event/kids-trailtreff-thusis-3/2026-05-05/
LOCATION:Trailcenter Thusis\, PC3W+4GP Thusis
CATEGORIES:Trailtreff
ATTACH;FMTTYPE=image/jpeg:https://graubuendentrailrun.ch/wp-content/uploads/2026/03/Z2A0753-Kopie.jpeg
ORGANIZER;CN="Angelika":MAILTO:lehmann@zenit.run
END:VEVENT
BEGIN:VEVENT
DTSTART;TZID=Europe/Zurich:20260512T181500
DTEND;TZID=Europe/Zurich:20260512T193000
DTSTAMP:20260422T191322
CREATED:20260327T134400Z
LAST-MODIFIED:20260327T134920Z
UID:10016741-1778609700-1778614200@graubuendentrailrun.ch
SUMMARY:Kids Trailtreff Thusis
DESCRIPTION:Trailtreff – Graubündens öffentliche Trailrunning-Gruppe: jetzt auch für Kinder und Jugendliche\nDer Kids Trailtreff Thusis ist eine Abendrunde in flowigem Gelände. Im Vordergrund steht die Freude an der Bewegung auf Naturpfaden. Spielerisch lernen und üben wir Tricks und Kniffs\, damit du dich noch wohler fühlst auf den Trails. Wir treffen uns um 18.15 Uhr beim grossen Tisch im Trailcenter Thusis neben dem Fussballplatz. Nach dem Aufwärmen üben wir auf den Hindernissen und trailen durch den Wald. Die Treffs finden wöchentlich jeden Dienstagabend bis zu den Sommerferien statt. Infos zur Durchführung teilen wir in der WhatsApp-Gruppe. \nAn- oder abmelden musst du dich für die Trailtreffs nicht\, sei einfach pünktlich beim Trailcenter in Thusis. Also auf den Trail\, fertig\, los! \nHast du Fragen? Melde dich gerne bei mir.
URL:https://graubuendentrailrun.ch/event/kids-trailtreff-thusis-3/2026-05-12/
LOCATION:Trailcenter Thusis\, PC3W+4GP Thusis
CATEGORIES:Trailtreff
ATTACH;FMTTYPE=image/jpeg:https://graubuendentrailrun.ch/wp-content/uploads/2026/03/Z2A0753-Kopie.jpeg
ORGANIZER;CN="Angelika":MAILTO:lehmann@zenit.run
END:VEVENT
BEGIN:VEVENT
DTSTART;TZID=Europe/Zurich:20260519T181500
DTEND;TZID=Europe/Zurich:20260519T193000
DTSTAMP:20260422T191322
CREATED:20260327T134400Z
LAST-MODIFIED:20260327T134920Z
UID:10016743-1779214500-1779219000@graubuendentrailrun.ch
SUMMARY:Kids Trailtreff Thusis
DESCRIPTION:Trailtreff – Graubündens öffentliche Trailrunning-Gruppe: jetzt auch für Kinder und Jugendliche\nDer Kids Trailtreff Thusis ist eine Abendrunde in flowigem Gelände. Im Vordergrund steht die Freude an der Bewegung auf Naturpfaden. Spielerisch lernen und üben wir Tricks und Kniffs\, damit du dich noch wohler fühlst auf den Trails. Wir treffen uns um 18.15 Uhr beim grossen Tisch im Trailcenter Thusis neben dem Fussballplatz. Nach dem Aufwärmen üben wir auf den Hindernissen und trailen durch den Wald. Die Treffs finden wöchentlich jeden Dienstagabend bis zu den Sommerferien statt. Infos zur Durchführung teilen wir in der WhatsApp-Gruppe. \nAn- oder abmelden musst du dich für die Trailtreffs nicht\, sei einfach pünktlich beim Trailcenter in Thusis. Also auf den Trail\, fertig\, los! \nHast du Fragen? Melde dich gerne bei mir.
URL:https://graubuendentrailrun.ch/event/kids-trailtreff-thusis-3/2026-05-19/
LOCATION:Trailcenter Thusis\, PC3W+4GP Thusis
CATEGORIES:Trailtreff
ATTACH;FMTTYPE=image/jpeg:https://graubuendentrailrun.ch/wp-content/uploads/2026/03/Z2A0753-Kopie.jpeg
ORGANIZER;CN="Angelika":MAILTO:lehmann@zenit.run
END:VEVENT
BEGIN:VEVENT
DTSTART;TZID=Europe/Zurich:20260526T181500
DTEND;TZID=Europe/Zurich:20260526T193000
DTSTAMP:20260422T191322
CREATED:20260327T134400Z
LAST-MODIFIED:20260327T134920Z
UID:10016745-1779819300-1779823800@graubuendentrailrun.ch
SUMMARY:Kids Trailtreff Thusis
DESCRIPTION:Trailtreff – Graubündens öffentliche Trailrunning-Gruppe: jetzt auch für Kinder und Jugendliche\nDer Kids Trailtreff Thusis ist eine Abendrunde in flowigem Gelände. Im Vordergrund steht die Freude an der Bewegung auf Naturpfaden. Spielerisch lernen und üben wir Tricks und Kniffs\, damit du dich noch wohler fühlst auf den Trails. Wir treffen uns um 18.15 Uhr beim grossen Tisch im Trailcenter Thusis neben dem Fussballplatz. Nach dem Aufwärmen üben wir auf den Hindernissen und trailen durch den Wald. Die Treffs finden wöchentlich jeden Dienstagabend bis zu den Sommerferien statt. Infos zur Durchführung teilen wir in der WhatsApp-Gruppe. \nAn- oder abmelden musst du dich für die Trailtreffs nicht\, sei einfach pünktlich beim Trailcenter in Thusis. Also auf den Trail\, fertig\, los! \nHast du Fragen? Melde dich gerne bei mir.
URL:https://graubuendentrailrun.ch/event/kids-trailtreff-thusis-3/2026-05-26/
LOCATION:Trailcenter Thusis\, PC3W+4GP Thusis
CATEGORIES:Trailtreff
ATTACH;FMTTYPE=image/jpeg:https://graubuendentrailrun.ch/wp-content/uploads/2026/03/Z2A0753-Kopie.jpeg
ORGANIZER;CN="Angelika":MAILTO:lehmann@zenit.run
END:VEVENT
BEGIN:VEVENT
DTSTART;TZID=Europe/Zurich:20260602T181500
DTEND;TZID=Europe/Zurich:20260602T193000
DTSTAMP:20260422T191322
CREATED:20260327T134400Z
LAST-MODIFIED:20260327T134920Z
UID:10016747-1780424100-1780428600@graubuendentrailrun.ch
SUMMARY:Kids Trailtreff Thusis
DESCRIPTION:Trailtreff – Graubündens öffentliche Trailrunning-Gruppe: jetzt auch für Kinder und Jugendliche\nDer Kids Trailtreff Thusis ist eine Abendrunde in flowigem Gelände. Im Vordergrund steht die Freude an der Bewegung auf Naturpfaden. Spielerisch lernen und üben wir Tricks und Kniffs\, damit du dich noch wohler fühlst auf den Trails. Wir treffen uns um 18.15 Uhr beim grossen Tisch im Trailcenter Thusis neben dem Fussballplatz. Nach dem Aufwärmen üben wir auf den Hindernissen und trailen durch den Wald. Die Treffs finden wöchentlich jeden Dienstagabend bis zu den Sommerferien statt. Infos zur Durchführung teilen wir in der WhatsApp-Gruppe. \nAn- oder abmelden musst du dich für die Trailtreffs nicht\, sei einfach pünktlich beim Trailcenter in Thusis. Also auf den Trail\, fertig\, los! \nHast du Fragen? Melde dich gerne bei mir.
URL:https://graubuendentrailrun.ch/event/kids-trailtreff-thusis-3/2026-06-02/
LOCATION:Trailcenter Thusis\, PC3W+4GP Thusis
CATEGORIES:Trailtreff
ATTACH;FMTTYPE=image/jpeg:https://graubuendentrailrun.ch/wp-content/uploads/2026/03/Z2A0753-Kopie.jpeg
ORGANIZER;CN="Angelika":MAILTO:lehmann@zenit.run
END:VEVENT
BEGIN:VEVENT
DTSTART;TZID=Europe/Zurich:20260609T181500
DTEND;TZID=Europe/Zurich:20260609T193000
DTSTAMP:20260422T191322
CREATED:20260327T134400Z
LAST-MODIFIED:20260327T134920Z
UID:10016749-1781028900-1781033400@graubuendentrailrun.ch
SUMMARY:Kids Trailtreff Thusis
DESCRIPTION:Trailtreff – Graubündens öffentliche Trailrunning-Gruppe: jetzt auch für Kinder und Jugendliche\nDer Kids Trailtreff Thusis ist eine Abendrunde in flowigem Gelände. Im Vordergrund steht die Freude an der Bewegung auf Naturpfaden. Spielerisch lernen und üben wir Tricks und Kniffs\, damit du dich noch wohler fühlst auf den Trails. Wir treffen uns um 18.15 Uhr beim grossen Tisch im Trailcenter Thusis neben dem Fussballplatz. Nach dem Aufwärmen üben wir auf den Hindernissen und trailen durch den Wald. Die Treffs finden wöchentlich jeden Dienstagabend bis zu den Sommerferien statt. Infos zur Durchführung teilen wir in der WhatsApp-Gruppe. \nAn- oder abmelden musst du dich für die Trailtreffs nicht\, sei einfach pünktlich beim Trailcenter in Thusis. Also auf den Trail\, fertig\, los! \nHast du Fragen? Melde dich gerne bei mir.
URL:https://graubuendentrailrun.ch/event/kids-trailtreff-thusis-3/2026-06-09/
LOCATION:Trailcenter Thusis\, PC3W+4GP Thusis
CATEGORIES:Trailtreff
ATTACH;FMTTYPE=image/jpeg:https://graubuendentrailrun.ch/wp-content/uploads/2026/03/Z2A0753-Kopie.jpeg
ORGANIZER;CN="Angelika":MAILTO:lehmann@zenit.run
END:VEVENT
BEGIN:VEVENT
DTSTART;TZID=Europe/Zurich:20260616T181500
DTEND;TZID=Europe/Zurich:20260616T193000
DTSTAMP:20260422T191322
CREATED:20260327T134400Z
LAST-MODIFIED:20260327T134920Z
UID:10016751-1781633700-1781638200@graubuendentrailrun.ch
SUMMARY:Kids Trailtreff Thusis
DESCRIPTION:Trailtreff – Graubündens öffentliche Trailrunning-Gruppe: jetzt auch für Kinder und Jugendliche\nDer Kids Trailtreff Thusis ist eine Abendrunde in flowigem Gelände. Im Vordergrund steht die Freude an der Bewegung auf Naturpfaden. Spielerisch lernen und üben wir Tricks und Kniffs\, damit du dich noch wohler fühlst auf den Trails. Wir treffen uns um 18.15 Uhr beim grossen Tisch im Trailcenter Thusis neben dem Fussballplatz. Nach dem Aufwärmen üben wir auf den Hindernissen und trailen durch den Wald. Die Treffs finden wöchentlich jeden Dienstagabend bis zu den Sommerferien statt. Infos zur Durchführung teilen wir in der WhatsApp-Gruppe. \nAn- oder abmelden musst du dich für die Trailtreffs nicht\, sei einfach pünktlich beim Trailcenter in Thusis. Also auf den Trail\, fertig\, los! \nHast du Fragen? Melde dich gerne bei mir.
URL:https://graubuendentrailrun.ch/event/kids-trailtreff-thusis-3/2026-06-16/
LOCATION:Trailcenter Thusis\, PC3W+4GP Thusis
CATEGORIES:Trailtreff
ATTACH;FMTTYPE=image/jpeg:https://graubuendentrailrun.ch/wp-content/uploads/2026/03/Z2A0753-Kopie.jpeg
ORGANIZER;CN="Angelika":MAILTO:lehmann@zenit.run
END:VEVENT
BEGIN:VEVENT
DTSTART;TZID=Europe/Zurich:20260623T181500
DTEND;TZID=Europe/Zurich:20260623T193000
DTSTAMP:20260422T191322
CREATED:20260327T134400Z
LAST-MODIFIED:20260327T134920Z
UID:10016753-1782238500-1782243000@graubuendentrailrun.ch
SUMMARY:Kids Trailtreff Thusis
DESCRIPTION:Trailtreff – Graubündens öffentliche Trailrunning-Gruppe: jetzt auch für Kinder und Jugendliche\nDer Kids Trailtreff Thusis ist eine Abendrunde in flowigem Gelände. Im Vordergrund steht die Freude an der Bewegung auf Naturpfaden. Spielerisch lernen und üben wir Tricks und Kniffs\, damit du dich noch wohler fühlst auf den Trails. Wir treffen uns um 18.15 Uhr beim grossen Tisch im Trailcenter Thusis neben dem Fussballplatz. Nach dem Aufwärmen üben wir auf den Hindernissen und trailen durch den Wald. Die Treffs finden wöchentlich jeden Dienstagabend bis zu den Sommerferien statt. Infos zur Durchführung teilen wir in der WhatsApp-Gruppe. \nAn- oder abmelden musst du dich für die Trailtreffs nicht\, sei einfach pünktlich beim Trailcenter in Thusis. Also auf den Trail\, fertig\, los! \nHast du Fragen? Melde dich gerne bei mir.
URL:https://graubuendentrailrun.ch/event/kids-trailtreff-thusis-3/2026-06-23/
LOCATION:Trailcenter Thusis\, PC3W+4GP Thusis
CATEGORIES:Trailtreff
ATTACH;FMTTYPE=image/jpeg:https://graubuendentrailrun.ch/wp-content/uploads/2026/03/Z2A0753-Kopie.jpeg
ORGANIZER;CN="Angelika":MAILTO:lehmann@zenit.run
END:VEVENT
END:VCALENDAR