BEGIN:VCALENDAR
VERSION:2.0
PRODID:-//graubünden Trailrun - ECPv6.15.20//NONSGML v1.0//EN
CALSCALE:GREGORIAN
METHOD:PUBLISH
X-WR-CALNAME:graubünden Trailrun
X-ORIGINAL-URL:https://graubuendentrailrun.ch
X-WR-CALDESC:Veranstaltungen für graubünden Trailrun
REFRESH-INTERVAL;VALUE=DURATION:PT1H
X-Robots-Tag:noindex
X-PUBLISHED-TTL:PT1H
BEGIN:VTIMEZONE
TZID:Europe/Zurich
BEGIN:DAYLIGHT
TZOFFSETFROM:+0100
TZOFFSETTO:+0200
TZNAME:CEST
DTSTART:20210328T010000
END:DAYLIGHT
BEGIN:STANDARD
TZOFFSETFROM:+0200
TZOFFSETTO:+0100
TZNAME:CET
DTSTART:20211031T010000
END:STANDARD
BEGIN:DAYLIGHT
TZOFFSETFROM:+0100
TZOFFSETTO:+0200
TZNAME:CEST
DTSTART:20220327T010000
END:DAYLIGHT
BEGIN:STANDARD
TZOFFSETFROM:+0200
TZOFFSETTO:+0100
TZNAME:CET
DTSTART:20221030T010000
END:STANDARD
BEGIN:DAYLIGHT
TZOFFSETFROM:+0100
TZOFFSETTO:+0200
TZNAME:CEST
DTSTART:20230326T010000
END:DAYLIGHT
BEGIN:STANDARD
TZOFFSETFROM:+0200
TZOFFSETTO:+0100
TZNAME:CET
DTSTART:20231029T010000
END:STANDARD
BEGIN:DAYLIGHT
TZOFFSETFROM:+0100
TZOFFSETTO:+0200
TZNAME:CEST
DTSTART:20240331T010000
END:DAYLIGHT
BEGIN:STANDARD
TZOFFSETFROM:+0200
TZOFFSETTO:+0100
TZNAME:CET
DTSTART:20241027T010000
END:STANDARD
END:VTIMEZONE
BEGIN:VEVENT
DTSTART;VALUE=DATE:20230429
DTEND;VALUE=DATE:20230501
DTSTAMP:20260422T193327
CREATED:20220330T080201Z
LAST-MODIFIED:20230323T151405Z
UID:10005606-1682758800-1682874000@graubuendentrailrun.ch
SUMMARY:Semover Trailrunning Workshop - Brigels
DESCRIPTION:Der Laufworkshop bietet dir die perfekte Basis und macht dich startklar für die neue Trailrunning Saison und Laufsaison. Bei diesem Workshop hast du die Möglichkeit\, den perfekten Schuh zu testen und zu kaufen. Wir geben dir Tipps\, wie du deine Trainings einfach und klar planen kannst. Weiterhin  kannst du beim Laufanalysenposten wertvolle Tipps holen\, damit du deine Lauftechnik weiterentwickeln kannst. Hast du Lust mal selber Routen zu planen\, die eigene Routen zu tracken und deine erfassten Daten auf der App zu analysieren? Wir helfen dir dabei deine persönliche Fragen zu klären und Lösungen zu finden. \nDieses Jahr führen wir den Trailrunningworkshop in 2-Tagen durch. Somit hat man die Möglichkeit\, das Gelernte vom Vortag direkt in der Praxis umzusetzen und Unklarheiten zu klären und einen wunderschönen Tag auf den Trails zusammen zu geniessen. Weiterhin ist unsere Absicht die Trailrunning bzw. Lauf Community auszubauen und das gesellschaftliche Zusammensein zu fördern.
URL:https://graubuendentrailrun.ch/event/semover-trailrunning-workshop/2023-04-29/
LOCATION:Treffpunkt Brigels\, Ustria Alpina\, Breil/Brigels\, 7165
CATEGORIES:Trailrunning Camps
ATTACH;FMTTYPE=image/jpeg:https://graubuendentrailrun.ch/wp-content/uploads/2022/03/IMG_59881623508815762-scaled.jpeg
ORGANIZER;CN="Semover":MAILTO:semover@gmx.ch
END:VEVENT
BEGIN:VEVENT
DTSTART;VALUE=DATE:20220507
DTEND;VALUE=DATE:20220509
DTSTAMP:20260422T193327
CREATED:20220330T080201Z
LAST-MODIFIED:20230323T151405Z
UID:10004930-1651881600-1652054399@graubuendentrailrun.ch
SUMMARY:Semover Trailrunning Workshop - Brigels
DESCRIPTION:Der Laufworkshop bietet dir die perfekte Basis und macht dich startklar für die neue Trailrunning Saison und Laufsaison. Bei diesem Workshop hast du die Möglichkeit\, den perfekten Schuh zu testen und zu kaufen. Wir geben dir Tipps\, wie du deine Trainings einfach und klar planen kannst. Weiterhin  kannst du beim Laufanalysenposten wertvolle Tipps holen\, damit du deine Lauftechnik weiterentwickeln kannst. Hast du Lust mal selber Routen zu planen\, die eigene Routen zu tracken und deine erfassten Daten auf der App zu analysieren? Wir helfen dir dabei deine persönliche Fragen zu klären und Lösungen zu finden. \nDieses Jahr führen wir den Trailrunningworkshop in 2-Tagen durch. Somit hat man die Möglichkeit\, das Gelernte vom Vortag direkt in der Praxis umzusetzen und Unklarheiten zu klären und einen wunderschönen Tag auf den Trails zusammen zu geniessen. Weiterhin ist unsere Absicht die Trailrunning bzw. Lauf Community auszubauen und das gesellschaftliche Zusammensein zu fördern.
URL:https://graubuendentrailrun.ch/event/semover-trailrunning-workshop/2022-05-07/
LOCATION:Treffpunkt Brigels\, Ustria Alpina\, Breil/Brigels\, 7165
CATEGORIES:Trailrunning Camps
ATTACH;FMTTYPE=image/jpeg:https://graubuendentrailrun.ch/wp-content/uploads/2022/03/IMG_59881623508815762-scaled.jpeg
ORGANIZER;CN="Semover":MAILTO:semover@gmx.ch
END:VEVENT
END:VCALENDAR