BEGIN:VCALENDAR
VERSION:2.0
PRODID:-//graubünden Trailrun - ECPv6.15.20//NONSGML v1.0//EN
CALSCALE:GREGORIAN
METHOD:PUBLISH
X-WR-CALNAME:graubünden Trailrun
X-ORIGINAL-URL:https://graubuendentrailrun.ch
X-WR-CALDESC:Veranstaltungen für graubünden Trailrun
REFRESH-INTERVAL;VALUE=DURATION:PT1H
X-Robots-Tag:noindex
X-PUBLISHED-TTL:PT1H
BEGIN:VTIMEZONE
TZID:Europe/Zurich
BEGIN:DAYLIGHT
TZOFFSETFROM:+0100
TZOFFSETTO:+0200
TZNAME:CEST
DTSTART:20220327T010000
END:DAYLIGHT
BEGIN:STANDARD
TZOFFSETFROM:+0200
TZOFFSETTO:+0100
TZNAME:CET
DTSTART:20221030T010000
END:STANDARD
BEGIN:DAYLIGHT
TZOFFSETFROM:+0100
TZOFFSETTO:+0200
TZNAME:CEST
DTSTART:20230326T010000
END:DAYLIGHT
BEGIN:STANDARD
TZOFFSETFROM:+0200
TZOFFSETTO:+0100
TZNAME:CET
DTSTART:20231029T010000
END:STANDARD
BEGIN:DAYLIGHT
TZOFFSETFROM:+0100
TZOFFSETTO:+0200
TZNAME:CEST
DTSTART:20240331T010000
END:DAYLIGHT
BEGIN:STANDARD
TZOFFSETFROM:+0200
TZOFFSETTO:+0100
TZNAME:CET
DTSTART:20241027T010000
END:STANDARD
END:VTIMEZONE
BEGIN:VEVENT
DTSTART;TZID=Europe/Zurich:20230817T160000
DTEND;TZID=Europe/Zurich:20230817T200000
DTSTAMP:20260425T124348
CREATED:20230627T123708Z
LAST-MODIFIED:20230627T123708Z
UID:10007719-1692288000-1692302400@graubuendentrailrun.ch
SUMMARY:graubünden Trailrun Roadshow Pontresina
DESCRIPTION:Trailrunning Roadshow im Rahmen der Viva la Via. Trailrunning Skills-Workshops\, Material Testing sowie ein Kinderbuch Themenweg erwarten dich und bieten einen einfachen Einstieg in die abwechslungsreiche Sportart.
URL:https://graubuendentrailrun.ch/event/graubuenden-trailrun-roadshow-pontresina/
LOCATION:Via Maistra\, Via Maistra\, Pontresina\, 7504
END:VEVENT
END:VCALENDAR