BEGIN:VCALENDAR
VERSION:2.0
PRODID:-//graubünden Trailrun - ECPv6.15.20//NONSGML v1.0//EN
CALSCALE:GREGORIAN
METHOD:PUBLISH
X-WR-CALNAME:graubünden Trailrun
X-ORIGINAL-URL:https://graubuendentrailrun.ch/it/
X-WR-CALDESC:Eventi per graubünden Trailrun
REFRESH-INTERVAL;VALUE=DURATION:PT1H
X-Robots-Tag:noindex
X-PUBLISHED-TTL:PT1H
BEGIN:VTIMEZONE
TZID:Europe/Zurich
BEGIN:DAYLIGHT
TZOFFSETFROM:+0100
TZOFFSETTO:+0200
TZNAME:CEST
DTSTART:20220327T010000
END:DAYLIGHT
BEGIN:STANDARD
TZOFFSETFROM:+0200
TZOFFSETTO:+0100
TZNAME:CET
DTSTART:20221030T010000
END:STANDARD
BEGIN:DAYLIGHT
TZOFFSETFROM:+0100
TZOFFSETTO:+0200
TZNAME:CEST
DTSTART:20230326T010000
END:DAYLIGHT
BEGIN:STANDARD
TZOFFSETFROM:+0200
TZOFFSETTO:+0100
TZNAME:CET
DTSTART:20231029T010000
END:STANDARD
BEGIN:DAYLIGHT
TZOFFSETFROM:+0100
TZOFFSETTO:+0200
TZNAME:CEST
DTSTART:20240331T010000
END:DAYLIGHT
BEGIN:STANDARD
TZOFFSETFROM:+0200
TZOFFSETTO:+0100
TZNAME:CET
DTSTART:20241027T010000
END:STANDARD
BEGIN:DAYLIGHT
TZOFFSETFROM:+0100
TZOFFSETTO:+0200
TZNAME:CEST
DTSTART:20250330T010000
END:DAYLIGHT
BEGIN:STANDARD
TZOFFSETFROM:+0200
TZOFFSETTO:+0100
TZNAME:CET
DTSTART:20251026T010000
END:STANDARD
BEGIN:DAYLIGHT
TZOFFSETFROM:+0100
TZOFFSETTO:+0200
TZNAME:CEST
DTSTART:20260329T010000
END:DAYLIGHT
BEGIN:STANDARD
TZOFFSETFROM:+0200
TZOFFSETTO:+0100
TZNAME:CET
DTSTART:20261025T010000
END:STANDARD
BEGIN:DAYLIGHT
TZOFFSETFROM:+0100
TZOFFSETTO:+0200
TZNAME:CEST
DTSTART:20270328T010000
END:DAYLIGHT
BEGIN:STANDARD
TZOFFSETFROM:+0200
TZOFFSETTO:+0100
TZNAME:CET
DTSTART:20271031T010000
END:STANDARD
END:VTIMEZONE
BEGIN:VEVENT
DTSTART;VALUE=DATE:20260410
DTEND;VALUE=DATE:20260413
DTSTAMP:20260423T012102
CREATED:20260324T141253Z
LAST-MODIFIED:20260324T141253Z
UID:10016725-1775779200-1776038399@graubuendentrailrun.ch
SUMMARY:Sportz und Beatz
DESCRIPTION:Trailrunning a Sportz & Beatz\nNell’ambito di Sportz & Beatz\, graubünden Trailrun è presente con diverse offerte di trail running\, portando movimento\, natura e community nel programma del festival. \nShakeout Run: venerdì 10 aprile 2026 alle 18:00\nPunto di ritrovo: Check-In\, Thusis\nUna corsa di gruppo rilassata per entrare nel vivo: il percorso trail di circa 7 km (200 m D+) attraverso la zona di Nolla è perfetto per sciogliere le gambe in vista della Bündner Frühlingslauf e iniziare il weekend insieme. \nBündner Frühlingslauf: sabato 11 aprile 2026 alle 11:00\nLa Bündner Frühlingslauf si snoda da Thusis a Reichenau (mezza maratona) o da Rothenbrunnen a Reichenau (10 km) e offre un mix variegato di tratti veloci e un finale impegnativo. \nTrailrunning per bambini – Corso di prova: domenica 12 aprile 2026 alle 13:30Punto di ritrovo: Trailcenter Thusis\nUn approccio ludico al trail running per i più piccoli: tra movimento\, esercizi e la storia “Jori trailt los”\, i bambini scoprono i sentieri e imparano a muoversi nella natura in sicurezza e con gioia. \nScopri di più
URL:https://graubuendentrailrun.ch/it/event/sportz-und-beatz/
LOCATION:STORIA Thusis\, Unterer Rosenbühl 5\, Thusis\, 7430
CATEGORIES:Community Runs,Date degli eventi del club,Eventi di prova
ATTACH;FMTTYPE=image/jpeg:https://graubuendentrailrun.ch/wp-content/uploads/2025/12/1762932223617-scaled.jpg
END:VEVENT
BEGIN:VEVENT
DTSTART;VALUE=DATE:20251002
DTEND;VALUE=DATE:20251006
DTSTAMP:20260423T012102
CREATED:20250828T140141Z
LAST-MODIFIED:20250828T140141Z
UID:10009623-1759363200-1759708799@graubuendentrailrun.ch
SUMMARY:Giornate di corsa in Bassa Engadina
DESCRIPTION:Goditi un’esperienza di corsa autunnale di altissimo livello nella pittoresca Engadina! Da oggi offriamo a San Jon giornate di corsa con l’esperta di corsa Petra Casty. Questa esperienza di corsa di 4 giorni si svolgerà per la prima volta da giovedì 02 ottobre a domenica 05 ottobre nei boschi dell’Engadina colorati di giallo oro. Dalla corsa all’alba alla corsa dei 3 paesi o una corsa attraverso il Parco Nazionale\, le giornate di corsa offrono molti punti salienti dell’Engadina Bassa.    \n\nCoaching professionale: Petra Casty\, Guida Esa-Trailrunning e OCHSNER SPORT Running Coach\nPaesaggio mozzafiato: scopri lo splendore autunnale dell’Engadina su sentieri pittoreschi\nAllenamento tecnico: migliora la tua tecnica di corsa su vari terreni\nProgramma di contorno: gita in carrozza\, benessere e\, su richiesta\, anche equitazione\nescursioni guidate di trail running nei bellissimi boschi autunnali dell’Engadina Bassa\ne molto altro…\n\nQualcosa per te? \nClicca qui per iscriverti \nIl corso è rivolto a corridori motivati che possono correre per almeno 45 minuti consecutivi. Petra si concentrerà individualmente sulle esigenze e sulle capacità di ogni partecipante per consentire a tutti di trascorrere giornate quasi perfette in Engadina.
URL:https://graubuendentrailrun.ch/it/event/giornate-di-corsa-in-bassa-engadina/
LOCATION:San Jon\, San Jon SA\, Scuol\, Graubünden\, 7550\, Switzerland
CATEGORIES:Eventi di prova,Trailrunning Camps
ATTACH;FMTTYPE=image/jpeg:https://graubuendentrailrun.ch/wp-content/uploads/2025/08/20241028_1005340-scaled.jpg
END:VEVENT
BEGIN:VEVENT
DTSTART;VALUE=DATE:20250919
DTEND;VALUE=DATE:20250922
DTSTAMP:20260423T012102
CREATED:20250113T143803Z
LAST-MODIFIED:20250113T143803Z
UID:10009932-1758268800-1758474000@graubuendentrailrun.ch
SUMMARY:Weekend di trail running all'insegna del piacere con Zenit run
DESCRIPTION:Il trail running è la nostra grande passione. Condividi con noi questa passione\, vivi momenti unici in montagna e approfitta di un programma attraente con tour guidati e consigli professionali. I nostri campi alla Weissbad Lodge si rivolgono agli amanti della corsa\, che abbiano o meno esperienza – per ogni livello di prestazione ci sono guide adatte!   \nContenuti: \n\nTour di trail running guidati con input tecnici e consigli\nTest scarpe\nPresentazione\nPernottamento\, pasti e benessere nell’hotel partner\n\nDestinatari: \n\nAmanti della corsa (dai principianti agli esperti)\n\nA seconda del livello di prestazione dei partecipanti\, saremo in sottogruppi più piccoli e adatteremo i percorsi alle esigenze individuali. \nTeam: \n\nThomas Häusermann\, Guida di trail running ASTA\, appassionato di streak running (correre almeno 1 miglio al giorno)\nAngelika Lehmann\, appassionata amante della corsa\nNico Dalcolmo\, Atleta di punta di trail running e sci alpinismo\nJonas Baumann\, Atleta di punta di sci di fondo\n\nProgramma: \nVenerdì\n15:00 – 16:00: Benvenuto ufficiale\, test materiali\n16:00 – 17:30: Corsa di riscaldamento (max. 60 min) con input tecnici\n18:15 – 19:00: Presentazione con discussione (il tema sarà definito)\nA seguire: Aperitivo e cena \nSabato\nDalle 07:30: colazione individuale all’Hof Weissbad\n09:30 – 12:00: Corsa trail esperienziale con input tecnici in salita e discesa\, uso dei bastoncini (il percorso e la durata del tour saranno adattati al livello di prestazione dei partecipanti; se opportuno\, correremo in sottogruppi più piccoli)\nA seguire: pranzo individuale all’Hof Weissbad\nA seguire: benessere e relax individuali\n17:00 – 18:00: Rafforzamento del tronco\, stretching e mobilità (opzionale)\n19:00: cena comune all’Hof Weissbad \nDomenica\nDalle 07:30: colazione individuale all’Hof Weissbad\n09:30 – 12:00: Corsa trail con sosta al ristorante in vetta (il percorso e la durata del tour saranno adattati al livello di prestazione dei partecipanti; se opportuno\, correremo in sottogruppi più piccoli)\nA seguire: discesa con la funivia o a piedi fino all’hotel\nA seguire: partenza \nScopri di più\nAll’offerta
URL:https://graubuendentrailrun.ch/it/event/weekend-di-trail-running-allinsegna-del-piacere-con-zenit-run/2025-09-19/
LOCATION:Weissbad Lodge\, Fehrlen 2\, Weissbad\, 9057\, Switzerland
CATEGORIES:Eventi di prova,Trailrunning Camps
ATTACH;FMTTYPE=image/jpeg:https://graubuendentrailrun.ch/wp-content/uploads/2025/01/KA1A5277-scaled.jpg
ORGANIZER;CN="Zenit run GmbH":MAILTO:info@zenit.run
END:VEVENT
BEGIN:VEVENT
DTSTART;TZID=Europe/Zurich:20250809T130000
DTEND;TZID=Europe/Zurich:20250809T160000
DTSTAMP:20260423T012102
CREATED:20250424T090451Z
LAST-MODIFIED:20250424T090451Z
UID:10009629-1754744400-1754755200@graubuendentrailrun.ch
SUMMARY:Corso di tecnica di trail running a Flims
DESCRIPTION:Impara a migliorare la tua tecnica di corsa in modo mirato! In questo corso di mezza giornata lavoreremo intensamente sulla tua tecnica. Imparerai ad adattare il tuo stile di corsa al terreno per correre in modo più efficiente e sicuro. Con esercizi orientati alla pratica\, ottimizzerai il tuo stile di corsa individuale e aumenterai il tuo divertimento sui sentieri.    \nHai già esperienza nel trail running o riesci a correre per 30 minuti di fila sui sentieri? Allora sei il benvenuto!
URL:https://graubuendentrailrun.ch/it/event/corso-di-tecnica-di-trail-running-a-flims/2025-08-09/
LOCATION:Sportzentrum Flims\, Via Prau la Selva 6\, Flims Waldhaus\, 7018\, Switzerland
CATEGORIES:Eventi di prova
ATTACH;FMTTYPE=image/jpeg:https://graubuendentrailrun.ch/wp-content/uploads/2025/04/image-1.jpeg
ORGANIZER;CN="bergfrey outdoor guide":MAILTO:info@bergfrey.ch
END:VEVENT
BEGIN:VEVENT
DTSTART;TZID=Europe/Zurich:20250809T100000
DTEND;TZID=Europe/Zurich:20250809T113000
DTSTAMP:20260423T012102
CREATED:20250424T075443Z
LAST-MODIFIED:20250424T075443Z
UID:10009626-1754733600-1754739000@graubuendentrailrun.ch
SUMMARY:Corso introduttivo di trail running a Flims
DESCRIPTION:Siete curiosi di conoscere il trail running? Scoprite di cosa avete bisogno e ottenete i primi consigli e trucchi con il corso introduttivo di Bergfrey. Non è necessario essere atleti di punta! Se fate sport occasionalmente e riuscite a fare jogging per 30 minuti\, siete i benvenuti.    \nDate:  \n\nDomenica\, 18 maggio\, dalle 10:00 alle 11:30\nDomenica\, 17 luglio\, dalle 10:00 alle 11:30\nSabato\, 9 agosto\, dalle 10:00 alle 11:30
URL:https://graubuendentrailrun.ch/it/event/corso-introduttivo-di-trail-running-a-flims/2025-08-09/
LOCATION:Sportzentrum Flims\, Via Prau la Selva 6\, Flims Waldhaus\, 7018\, Switzerland
CATEGORIES:Eventi di prova
ATTACH;FMTTYPE=image/jpeg:https://graubuendentrailrun.ch/wp-content/uploads/2025/04/image.jpeg
ORGANIZER;CN="bergfrey outdoor guide":MAILTO:info@bergfrey.ch
END:VEVENT
BEGIN:VEVENT
DTSTART;VALUE=DATE:20250724
DTEND;VALUE=DATE:20250729
DTSTAMP:20260423T012102
CREATED:20241202T161515Z
LAST-MODIFIED:20241202T161515Z
UID:10009956-1753315200-1753747199@graubuendentrailrun.ch
SUMMARY:Davos X-Trails Running Days
DESCRIPTION:Nei giorni intorno ai Davos X-Trails\, la località montana è interamente dedicata ai runner. Atleti d’élite sono i benvenuti tanto quanto i runner amatoriali e ricreativi\, che apprezzano o desiderano vivere gli attraenti percorsi dei X-Trails Davos sulle diverse distanze. \n\n\n\n\n\nLa top runner locale Jasmin Nunige (8 volte vincitrice di Swissalpine/X-Trails) vi accompagnerà in questi giorni intorno alla competizione\, vi darà consigli sull’alimentazione e supporto mentale per gestire la nervosità prima della partenza o i cali di forma durante la corsa. Naturalmente\, farete anche insieme un ultimo shake-out run attraverso la splendida Dischmatal.  \n\n3 o 4 pernottamenti nella categoria di camera scelta \nColazione a buffet Waldhotel Vital\nmenu giornaliero fresco di 3 portate nell’ambito della mezza pensione\nPranzo del 25 luglio (piatto unico)\nProgramma di attività come da descrizione\nPremio Finisher\nUtilizzo di Wellness & Spa\nViaggio gratuito con gli autobus locali sulla rete di Davos (escluse le valli laterali)\nnavetta gratuita dell’hotel da e per le stazioni di Dorf e Platz\nparcheggio esterno gratuito\n\nPrezzo a partire da 816 CHF (3 notti) o 959 CHF (4 notti)\n(Esempio di prezzo in camera doppia lato bosco per persona\, incluse tutte le prestazioni sopra elencate\, tassa di soggiorno di 5\,90 CHF non inclusa) \n\nPer iscrizioni e programma dettagliato\, visitate: https://www.waldhotel-davos.ch/de/specials/sommerangebote/x-trail-running-days/
URL:https://graubuendentrailrun.ch/it/event/davos-x-trails-running-days/
LOCATION:Waldhotel Davos\, Buolstrasse 3\, Davos Platz\, Graubünden\, 7270\, Switzerland
CATEGORIES:Eventi di prova,Trailrunning Camps
ATTACH;FMTTYPE=image/jpeg:https://graubuendentrailrun.ch/wp-content/uploads/2024/08/xtrail_klosters_24@Luca_Gisler-10-2-scaled.jpg
ORGANIZER;CN="NunigeSports":MAILTO:info@nunige.ch
END:VEVENT
BEGIN:VEVENT
DTSTART;TZID=Europe/Zurich:20250713T130000
DTEND;TZID=Europe/Zurich:20250713T160000
DTSTAMP:20260423T012102
CREATED:20250424T090451Z
LAST-MODIFIED:20250424T090451Z
UID:10009628-1752411600-1752422400@graubuendentrailrun.ch
SUMMARY:Corso di tecnica di trail running a Flims
DESCRIPTION:Impara a migliorare la tua tecnica di corsa in modo mirato! In questo corso di mezza giornata lavoreremo intensamente sulla tua tecnica. Imparerai ad adattare il tuo stile di corsa al terreno per correre in modo più efficiente e sicuro. Con esercizi orientati alla pratica\, ottimizzerai il tuo stile di corsa individuale e aumenterai il tuo divertimento sui sentieri.    \nHai già esperienza nel trail running o riesci a correre per 30 minuti di fila sui sentieri? Allora sei il benvenuto!
URL:https://graubuendentrailrun.ch/it/event/corso-di-tecnica-di-trail-running-a-flims/2025-07-13/
LOCATION:Sportzentrum Flims\, Via Prau la Selva 6\, Flims Waldhaus\, 7018\, Switzerland
CATEGORIES:Eventi di prova
ATTACH;FMTTYPE=image/jpeg:https://graubuendentrailrun.ch/wp-content/uploads/2025/04/image-1.jpeg
ORGANIZER;CN="bergfrey outdoor guide":MAILTO:info@bergfrey.ch
END:VEVENT
BEGIN:VEVENT
DTSTART;TZID=Europe/Zurich:20250713T100000
DTEND;TZID=Europe/Zurich:20250713T113000
DTSTAMP:20260423T012102
CREATED:20250424T075443Z
LAST-MODIFIED:20250424T075443Z
UID:10009625-1752400800-1752406200@graubuendentrailrun.ch
SUMMARY:Corso introduttivo di trail running a Flims
DESCRIPTION:Siete curiosi di conoscere il trail running? Scoprite di cosa avete bisogno e ottenete i primi consigli e trucchi con il corso introduttivo di Bergfrey. Non è necessario essere atleti di punta! Se fate sport occasionalmente e riuscite a fare jogging per 30 minuti\, siete i benvenuti.    \nDate:  \n\nDomenica\, 18 maggio\, dalle 10:00 alle 11:30\nDomenica\, 17 luglio\, dalle 10:00 alle 11:30\nSabato\, 9 agosto\, dalle 10:00 alle 11:30
URL:https://graubuendentrailrun.ch/it/event/corso-introduttivo-di-trail-running-a-flims/2025-07-13/
LOCATION:Sportzentrum Flims\, Via Prau la Selva 6\, Flims Waldhaus\, 7018\, Switzerland
CATEGORIES:Eventi di prova
ATTACH;FMTTYPE=image/jpeg:https://graubuendentrailrun.ch/wp-content/uploads/2025/04/image.jpeg
ORGANIZER;CN="bergfrey outdoor guide":MAILTO:info@bergfrey.ch
END:VEVENT
BEGIN:VEVENT
DTSTART;VALUE=DATE:20250627
DTEND;VALUE=DATE:20250630
DTSTAMP:20260423T012102
CREATED:20250113T143803Z
LAST-MODIFIED:20250113T143803Z
UID:10009931-1750982400-1751241599@graubuendentrailrun.ch
SUMMARY:Weekend di trail running all'insegna del piacere con Zenit run
DESCRIPTION:Il trail running è la nostra grande passione. Condividi con noi questa passione\, vivi momenti unici in montagna e approfitta di un programma attraente con tour guidati e consigli professionali. I nostri campi alla Weissbad Lodge si rivolgono agli amanti della corsa\, che abbiano o meno esperienza – per ogni livello di prestazione ci sono guide adatte!   \nContenuti: \n\nTour di trail running guidati con input tecnici e consigli\nTest scarpe\nPresentazione\nPernottamento\, pasti e benessere nell’hotel partner\n\nDestinatari: \n\nAmanti della corsa (dai principianti agli esperti)\n\nA seconda del livello di prestazione dei partecipanti\, saremo in sottogruppi più piccoli e adatteremo i percorsi alle esigenze individuali. \nTeam: \n\nThomas Häusermann\, Guida di trail running ASTA\, appassionato di streak running (correre almeno 1 miglio al giorno)\nAngelika Lehmann\, appassionata amante della corsa\nNico Dalcolmo\, Atleta di punta di trail running e sci alpinismo\nJonas Baumann\, Atleta di punta di sci di fondo\n\nProgramma: \nVenerdì\n15:00 – 16:00: Benvenuto ufficiale\, test materiali\n16:00 – 17:30: Corsa di riscaldamento (max. 60 min) con input tecnici\n18:15 – 19:00: Presentazione con discussione (il tema sarà definito)\nA seguire: Aperitivo e cena \nSabato\nDalle 07:30: colazione individuale all’Hof Weissbad\n09:30 – 12:00: Corsa trail esperienziale con input tecnici in salita e discesa\, uso dei bastoncini (il percorso e la durata del tour saranno adattati al livello di prestazione dei partecipanti; se opportuno\, correremo in sottogruppi più piccoli)\nA seguire: pranzo individuale all’Hof Weissbad\nA seguire: benessere e relax individuali\n17:00 – 18:00: Rafforzamento del tronco\, stretching e mobilità (opzionale)\n19:00: cena comune all’Hof Weissbad \nDomenica\nDalle 07:30: colazione individuale all’Hof Weissbad\n09:30 – 12:00: Corsa trail con sosta al ristorante in vetta (il percorso e la durata del tour saranno adattati al livello di prestazione dei partecipanti; se opportuno\, correremo in sottogruppi più piccoli)\nA seguire: discesa con la funivia o a piedi fino all’hotel\nA seguire: partenza \nScopri di più\nAll’offerta
URL:https://graubuendentrailrun.ch/it/event/weekend-di-trail-running-allinsegna-del-piacere-con-zenit-run/2025-06-27/
LOCATION:Weissbad Lodge\, Fehrlen 2\, Weissbad\, 9057\, Switzerland
CATEGORIES:Eventi di prova,Trailrunning Camps
ATTACH;FMTTYPE=image/jpeg:https://graubuendentrailrun.ch/wp-content/uploads/2025/01/KA1A5277-scaled.jpg
ORGANIZER;CN="Zenit run GmbH":MAILTO:info@zenit.run
END:VEVENT
BEGIN:VEVENT
DTSTART;TZID=Europe/Zurich:20250518T130000
DTEND;TZID=Europe/Zurich:20250518T160000
DTSTAMP:20260423T012102
CREATED:20250424T090451Z
LAST-MODIFIED:20250424T090451Z
UID:10009627-1747573200-1747584000@graubuendentrailrun.ch
SUMMARY:Corso di tecnica di trail running a Flims
DESCRIPTION:Impara a migliorare la tua tecnica di corsa in modo mirato! In questo corso di mezza giornata lavoreremo intensamente sulla tua tecnica. Imparerai ad adattare il tuo stile di corsa al terreno per correre in modo più efficiente e sicuro. Con esercizi orientati alla pratica\, ottimizzerai il tuo stile di corsa individuale e aumenterai il tuo divertimento sui sentieri.    \nHai già esperienza nel trail running o riesci a correre per 30 minuti di fila sui sentieri? Allora sei il benvenuto!
URL:https://graubuendentrailrun.ch/it/event/corso-di-tecnica-di-trail-running-a-flims/2025-05-18/
LOCATION:Sportzentrum Flims\, Via Prau la Selva 6\, Flims Waldhaus\, 7018\, Switzerland
CATEGORIES:Eventi di prova
ATTACH;FMTTYPE=image/jpeg:https://graubuendentrailrun.ch/wp-content/uploads/2025/04/image-1.jpeg
ORGANIZER;CN="bergfrey outdoor guide":MAILTO:info@bergfrey.ch
END:VEVENT
BEGIN:VEVENT
DTSTART;TZID=Europe/Zurich:20250518T100000
DTEND;TZID=Europe/Zurich:20250518T113000
DTSTAMP:20260423T012102
CREATED:20250424T075443Z
LAST-MODIFIED:20250424T075443Z
UID:10009624-1747562400-1747567800@graubuendentrailrun.ch
SUMMARY:Corso introduttivo di trail running a Flims
DESCRIPTION:Siete curiosi di conoscere il trail running? Scoprite di cosa avete bisogno e ottenete i primi consigli e trucchi con il corso introduttivo di Bergfrey. Non è necessario essere atleti di punta! Se fate sport occasionalmente e riuscite a fare jogging per 30 minuti\, siete i benvenuti.    \nDate:  \n\nDomenica\, 18 maggio\, dalle 10:00 alle 11:30\nDomenica\, 17 luglio\, dalle 10:00 alle 11:30\nSabato\, 9 agosto\, dalle 10:00 alle 11:30
URL:https://graubuendentrailrun.ch/it/event/corso-introduttivo-di-trail-running-a-flims/2025-05-18/
LOCATION:Sportzentrum Flims\, Via Prau la Selva 6\, Flims Waldhaus\, 7018\, Switzerland
CATEGORIES:Eventi di prova
ATTACH;FMTTYPE=image/jpeg:https://graubuendentrailrun.ch/wp-content/uploads/2025/04/image.jpeg
ORGANIZER;CN="bergfrey outdoor guide":MAILTO:info@bergfrey.ch
END:VEVENT
BEGIN:VEVENT
DTSTART;VALUE=DATE:20250514
DTEND;VALUE=DATE:20250515
DTSTAMP:20260423T012102
CREATED:20250324T104854Z
LAST-MODIFIED:20250324T104854Z
UID:10009925-1747209600-1747242000@graubuendentrailrun.ch
SUMMARY:Corsi di corsa a Coira per tutti
DESCRIPTION:Qualche ora sotto la guida di esperti trasmette la gioia della corsa\, mostra come si può “correre più leggeri” rimanendo al contempo liberi da infortuni. \n\nDate: ogni mercoledì\, 30/04\, 07/05\, 14/05/2025\nCorso 1 a Coira: 09:00 – 10:30\nCorso 2 a Bonaduz: 18:30 – 20:00\nIstruttore: Ruedi Frehner di RUEDIRENNT\nContenuti del corso: tecnica di corsa per una corsa più leggera e sana\, esercizi di tecnica di corsa\, potenziamento\, stretching\, allenamento della frequenza\, ecc.\nPoiché non si percorrono lunghe distanze\, il corso è rivolto sia a principianti che a esperti\nCosto: Fr. 100.– (tariffa speciale) 3 x 90 minuti \nmassimo 10 partecipanti \nIscrizione: bieler@bielersport.ch/081 650 20 50\nI dettagli seguiranno 2 giorni prima dell’evento
URL:https://graubuendentrailrun.ch/it/event/corsi-di-corsa-a-coira-per-tutti/2025-05-14/
LOCATION:Bieler Sport\, Raschärenstrasse 30\, Chur\, 7000\, Switzerland
CATEGORIES:Eventi di prova
ATTACH;FMTTYPE=image/png:https://graubuendentrailrun.ch/wp-content/uploads/2025/03/Bild_mit_Logo.png
ORGANIZER;CN="Bieler Sport":MAILTO:bieler@bielersport.ch
END:VEVENT
BEGIN:VEVENT
DTSTART;VALUE=DATE:20250507
DTEND;VALUE=DATE:20250508
DTSTAMP:20260423T012102
CREATED:20250324T104854Z
LAST-MODIFIED:20250324T104854Z
UID:10009924-1746604800-1746637200@graubuendentrailrun.ch
SUMMARY:Corsi di corsa a Coira per tutti
DESCRIPTION:Qualche ora sotto la guida di esperti trasmette la gioia della corsa\, mostra come si può “correre più leggeri” rimanendo al contempo liberi da infortuni. \n\nDate: ogni mercoledì\, 30/04\, 07/05\, 14/05/2025\nCorso 1 a Coira: 09:00 – 10:30\nCorso 2 a Bonaduz: 18:30 – 20:00\nIstruttore: Ruedi Frehner di RUEDIRENNT\nContenuti del corso: tecnica di corsa per una corsa più leggera e sana\, esercizi di tecnica di corsa\, potenziamento\, stretching\, allenamento della frequenza\, ecc.\nPoiché non si percorrono lunghe distanze\, il corso è rivolto sia a principianti che a esperti\nCosto: Fr. 100.– (tariffa speciale) 3 x 90 minuti \nmassimo 10 partecipanti \nIscrizione: bieler@bielersport.ch/081 650 20 50\nI dettagli seguiranno 2 giorni prima dell’evento
URL:https://graubuendentrailrun.ch/it/event/corsi-di-corsa-a-coira-per-tutti/2025-05-07/
LOCATION:Bieler Sport\, Raschärenstrasse 30\, Chur\, 7000\, Switzerland
CATEGORIES:Eventi di prova
ATTACH;FMTTYPE=image/png:https://graubuendentrailrun.ch/wp-content/uploads/2025/03/Bild_mit_Logo.png
ORGANIZER;CN="Bieler Sport":MAILTO:bieler@bielersport.ch
END:VEVENT
BEGIN:VEVENT
DTSTART;VALUE=DATE:20250430
DTEND;VALUE=DATE:20250501
DTSTAMP:20260423T012102
CREATED:20250324T104854Z
LAST-MODIFIED:20250324T104854Z
UID:10009923-1745971200-1746057599@graubuendentrailrun.ch
SUMMARY:Corsi di corsa a Coira per tutti
DESCRIPTION:Qualche ora sotto la guida di esperti trasmette la gioia della corsa\, mostra come si può “correre più leggeri” rimanendo al contempo liberi da infortuni. \n\nDate: ogni mercoledì\, 30/04\, 07/05\, 14/05/2025\nCorso 1 a Coira: 09:00 – 10:30\nCorso 2 a Bonaduz: 18:30 – 20:00\nIstruttore: Ruedi Frehner di RUEDIRENNT\nContenuti del corso: tecnica di corsa per una corsa più leggera e sana\, esercizi di tecnica di corsa\, potenziamento\, stretching\, allenamento della frequenza\, ecc.\nPoiché non si percorrono lunghe distanze\, il corso è rivolto sia a principianti che a esperti\nCosto: Fr. 100.– (tariffa speciale) 3 x 90 minuti \nmassimo 10 partecipanti \nIscrizione: bieler@bielersport.ch/081 650 20 50\nI dettagli seguiranno 2 giorni prima dell’evento
URL:https://graubuendentrailrun.ch/it/event/corsi-di-corsa-a-coira-per-tutti/2025-04-30/
LOCATION:Bieler Sport\, Raschärenstrasse 30\, Chur\, 7000\, Switzerland
CATEGORIES:Eventi di prova
ATTACH;FMTTYPE=image/png:https://graubuendentrailrun.ch/wp-content/uploads/2025/03/Bild_mit_Logo.png
ORGANIZER;CN="Bieler Sport":MAILTO:bieler@bielersport.ch
END:VEVENT
BEGIN:VEVENT
DTSTART;VALUE=DATE:20240913
DTEND;VALUE=DATE:20240916
DTSTAMP:20260423T012102
CREATED:20240416T124136Z
LAST-MODIFIED:20240416T124136Z
UID:10010344-1726185600-1726444799@graubuendentrailrun.ch
SUMMARY:Trailrunning Weekend Equilibrio
DESCRIPTION:Trovare l’equilibrio tra sforzo e rilassamento\n\n\n\n\nNel trail running posso da un lato esplorare i miei limiti fisici e mentali personali\, dall’altro posso anche entrare in uno stato di flow totale. Durante questo weekend ci dedicheremo ai diversi fattori fisici e mentali\, su come possiamo influenzare la nostra corsa attraverso il rilassamento e l’attivazione. Oltre agli input sulla tecnica di corsa\, approfondiremo la respirazione\, lavoreremo con tecniche mentali e impareremo tecniche di rilassamento con le quali possiamo migliorare la nostra rigenerazione e\, di conseguenza\, anche la nostra performance. Infatti\, la rigenerazione e il rilassamento sono altrettanto importanti quanto lo sforzo. Trova il tuo equilibrio personale tra sforzo e rilassamento.
URL:https://graubuendentrailrun.ch/it/event/trailrunning-weekend-equilibrio/
LOCATION:Flem Lodge Flims\, Via Surpunt 9a\, Flims Waldhaus\, 7018\, Switzerland
CATEGORIES:Eventi di prova,Trailrunning Camps
ATTACH;FMTTYPE=image/jpeg:https://graubuendentrailrun.ch/wp-content/uploads/2024/04/20220911_DanPatitucci_002-scaled.jpg
ORGANIZER;CN="bergfrey outdoor guide":MAILTO:info@bergfrey.ch
END:VEVENT
BEGIN:VEVENT
DTSTART;VALUE=DATE:20240504
DTEND;VALUE=DATE:20240506
DTSTAMP:20260423T012102
CREATED:20240416T122905Z
LAST-MODIFIED:20240416T122905Z
UID:10010343-1714780800-1714953599@graubuendentrailrun.ch
SUMMARY:Semover Trailrunning Workshop 2024
DESCRIPTION:Il workshop di corsa ti offre la base perfetta e ti prepara per la nuova stagione di trail running e corsa. In questo workshop hai anche la possibilità di testare la scarpa perfetta (gratis solo il sabato) e di acquistarla a un prezzo vantaggioso. Ti daremo utili consigli su come pianificare e ottimizzare i tuoi allenamenti in modo semplice e chiaro (presentazione di Davos Sports and Health). Inoltre\, presso la postazione di analisi della corsa\, potrai ricevere preziosi consigli per sviluppare ulteriormente la tua tecnica di corsa. Hai voglia di pianificare tu stesso i percorsi\, tracciare i tuoi percorsi e analizzare i dati raccolti nell’app? Ti aiutiamo a chiarire le tue domande personali e a trovare soluzioni. Iscriviti oggi stesso per poter beneficiare di tutta l’offerta! Saremo lieti di darti il benvenuto al workshop e di prepararti per la nuova stagione di corsa.
URL:https://graubuendentrailrun.ch/it/event/semover-trailrunning-workshop-2024/
LOCATION:Sport Beat\, Via Tschuppina 9\, Brigels\, 7165\, Switzerland
CATEGORIES:Eventi di prova,Trailrunning Camps
ATTACH;FMTTYPE=image/jpeg:https://graubuendentrailrun.ch/wp-content/uploads/2024/04/DSC2485-scaled.jpg
ORGANIZER;CN="SEMOVER":MAILTO:samuel@semover.ch
END:VEVENT
BEGIN:VEVENT
DTSTART;TZID=Europe/Zurich:20231028T130000
DTEND;TZID=Europe/Zurich:20231028T220000
DTSTAMP:20260423T012102
CREATED:20231013T044647Z
LAST-MODIFIED:20231013T044647Z
UID:10009958-1698498000-1698530400@graubuendentrailrun.ch
SUMMARY:Staffetta a Glion
DESCRIPTION:La seconda staffetta sulla Via Glion si terrà sabato 28 ottobre 2023. La Via Glion collega le 13 frazioni del comune di Ilanz/Glion\, misura 71 km e supera 3’677 metri di dislivello. Partecipa anche tu alla staffetta e percorri con noi un tratto della Via Glion. A piedi\, in bici\, trail running\, escursioni\, passeggiate. Tutti sono i benvenuti!     \nProgramma\nOre 13:00 Ritrovo alla stazione di Ilanz\nOre 13:15 Saluto e informazioni sulle singole tappe\nOre 13:25 Trasporto alle tappe\nOre 14:00 Inizio delle tappe\nOre 16:30 circa Ritorno a Ilanz\nDalle ore 16:30 Eventi collaterali a Ilanz\nDalle ore 18:00 Aperitivo e cena\nDalle ore 21:00 Afterparty con musica al Cinema Sil Plaz \nI/Le trail runner completano la tappa da Duvin a Riein con Samuel Caderas di Semover (12\,1 km\, + 824 m\, – 762 m). \nAl percorso\nIscriviti\nAl flyer
URL:https://graubuendentrailrun.ch/it/event/staffetta-a-glion/
LOCATION:Ilanz\, Ilanz\, 7130\, Switzerland
CATEGORIES:Eventi di prova
ATTACH;FMTTYPE=image/jpeg:https://graubuendentrailrun.ch/wp-content/uploads/2023/10/IMG_9510-scaled.jpg
ORGANIZER;CN="Semover":MAILTO:semover@gmx.ch
END:VEVENT
END:VCALENDAR