BEGIN:VCALENDAR
VERSION:2.0
PRODID:-//graubünden Trailrun - ECPv6.15.20//NONSGML v1.0//EN
CALSCALE:GREGORIAN
METHOD:PUBLISH
X-ORIGINAL-URL:https://graubuendentrailrun.ch/it/
X-WR-CALDESC:Eventi per graubünden Trailrun
REFRESH-INTERVAL;VALUE=DURATION:PT1H
X-Robots-Tag:noindex
X-PUBLISHED-TTL:PT1H
BEGIN:VTIMEZONE
TZID:Europe/Zurich
BEGIN:DAYLIGHT
TZOFFSETFROM:+0100
TZOFFSETTO:+0200
TZNAME:CEST
DTSTART:20220327T010000
END:DAYLIGHT
BEGIN:STANDARD
TZOFFSETFROM:+0200
TZOFFSETTO:+0100
TZNAME:CET
DTSTART:20221030T010000
END:STANDARD
BEGIN:DAYLIGHT
TZOFFSETFROM:+0100
TZOFFSETTO:+0200
TZNAME:CEST
DTSTART:20230326T010000
END:DAYLIGHT
BEGIN:STANDARD
TZOFFSETFROM:+0200
TZOFFSETTO:+0100
TZNAME:CET
DTSTART:20231029T010000
END:STANDARD
BEGIN:DAYLIGHT
TZOFFSETFROM:+0100
TZOFFSETTO:+0200
TZNAME:CEST
DTSTART:20240331T010000
END:DAYLIGHT
BEGIN:STANDARD
TZOFFSETFROM:+0200
TZOFFSETTO:+0100
TZNAME:CET
DTSTART:20241027T010000
END:STANDARD
BEGIN:DAYLIGHT
TZOFFSETFROM:+0100
TZOFFSETTO:+0200
TZNAME:CEST
DTSTART:20250330T010000
END:DAYLIGHT
BEGIN:STANDARD
TZOFFSETFROM:+0200
TZOFFSETTO:+0100
TZNAME:CET
DTSTART:20251026T010000
END:STANDARD
END:VTIMEZONE
BEGIN:VEVENT
DTSTART;TZID=Europe/Zurich:20240510T080000
DTEND;TZID=Europe/Zurich:20240512T170000
DTSTAMP:20260426T020902
CREATED:20240416T121929Z
LAST-MODIFIED:20240416T121929Z
UID:10010341-1715328000-1715533200@graubuendentrailrun.ch
SUMMARY:Campo di running e trail running per l'inizio della stagione a Davos
DESCRIPTION:Con il cuore in sintonia con la natura\, scoprendo nuovi sentieri – questo è esattamente ciò che ti aspetta al campo di running a Davos. Immergiti nel mondo della corsa\, circondato da persone che la pensano come te e sotto la guida professionale di Jasmin e Guy Nunige. Che si tratti di maratona\, mezza maratona o trail running\, qui troverai l’allenamento che ti farà progredire.   \n\n\nCon la primavera nell’aria e nuovi obiettivi in vista\, l’importanza del campo di running di inizio stagione è sempre più al centro dell’attenzione. Il campo non offre solo l’opportunità di affinare la propria tecnica di corsa sotto la guida professionale\, ma promette anche una comunità ispiratrice di persone con la stessa passione. Attraverso allenamenti di tecnica di corsa\, sessioni di intervallo e allenamento funzionale\, offriamo un programma vario. Inizia la tua stagione di corsa con slancio e passione al Runningcamp Davos!
URL:https://graubuendentrailrun.ch/it/event/campo-di-running-e-trail-running-per-linizio-della-stagione-a-davos/
LOCATION:Hotel Alpine Inn\, Promenade 116\, Davos Dorf\, 7260\, Switzerland
CATEGORIES:Trailrunning Camps
ATTACH;FMTTYPE=image/jpeg:https://graubuendentrailrun.ch/wp-content/uploads/2024/04/DSC9755-scaled-1.jpeg
ORGANIZER;CN="NunigeSports":MAILTO:info@nunige.ch
END:VEVENT
BEGIN:VEVENT
DTSTART;VALUE=DATE:20240504
DTEND;VALUE=DATE:20240506
DTSTAMP:20260426T020902
CREATED:20240416T122905Z
LAST-MODIFIED:20240416T122905Z
UID:10010343-1714780800-1714953599@graubuendentrailrun.ch
SUMMARY:Semover Trailrunning Workshop 2024
DESCRIPTION:Il workshop di corsa ti offre la base perfetta e ti prepara per la nuova stagione di trail running e corsa. In questo workshop hai anche la possibilità di testare la scarpa perfetta (gratis solo il sabato) e di acquistarla a un prezzo vantaggioso. Ti daremo utili consigli su come pianificare e ottimizzare i tuoi allenamenti in modo semplice e chiaro (presentazione di Davos Sports and Health). Inoltre\, presso la postazione di analisi della corsa\, potrai ricevere preziosi consigli per sviluppare ulteriormente la tua tecnica di corsa. Hai voglia di pianificare tu stesso i percorsi\, tracciare i tuoi percorsi e analizzare i dati raccolti nell’app? Ti aiutiamo a chiarire le tue domande personali e a trovare soluzioni. Iscriviti oggi stesso per poter beneficiare di tutta l’offerta! Saremo lieti di darti il benvenuto al workshop e di prepararti per la nuova stagione di corsa.
URL:https://graubuendentrailrun.ch/it/event/semover-trailrunning-workshop-2024/
LOCATION:Sport Beat\, Via Tschuppina 9\, Brigels\, 7165\, Switzerland
CATEGORIES:Eventi di prova,Trailrunning Camps
ATTACH;FMTTYPE=image/jpeg:https://graubuendentrailrun.ch/wp-content/uploads/2024/04/DSC2485-scaled.jpg
ORGANIZER;CN="SEMOVER":MAILTO:samuel@semover.ch
END:VEVENT
BEGIN:VEVENT
DTSTART;VALUE=DATE:20230825
DTEND;VALUE=DATE:20230828
DTSTAMP:20260426T020902
CREATED:20230712T122720Z
LAST-MODIFIED:20230712T122720Z
UID:10009963-1692921600-1693180799@graubuendentrailrun.ch
SUMMARY:Corsa esperienziale Alpinrunner
DESCRIPTION:Ci sono già abbastanza competizioni\, per questo organizziamo una corsa esperienziale di 3 giorni attraverso le montagne dei Grigioni SENZA RILEVAMENTO DEL TEMPO. Trail running in un’atmosfera piacevole. Adattiamo il ritmo al terreno e ci godiamo il bellissimo paesaggio.    \n\nPartenza e punto d’incontro presso la stazione ferroviaria di Thusis. Corsa esperienziale nella zona di Bivio – Oberengadin con impressionanti percorsi di corsa in montagna e viste mozzafiato.  \n2 pernottamenti all’Hotel Post di Bivio\, cena e colazione a buffet\, trasporto bagagli\, viaggio in autobus da Thusis ad Avers Cröt\, viaggio da Bivio a Silvaplana\, viaggio da Savognin a Thusis. Guide locali esperte\, fantastico regalo ricordo e impressioni impagabili nella regione alpina dei Churer Erlebnisläufer!  \nQuota di partecipazione a partire da Fr. 450.- per l’intero tour. 2 pernottamenti con 3 giorni di pensione completa\, incluso il viaggio in autobus il venerdì\, sabato e domenica. Possibile la partecipazione anche solo a singole giornate\, informazioni dettagliate nel bando di concorso.    \n\n Venerdì 25 agosto\nAvers Cröt – Juf – Vuorcla da la Valletta – Leg Columban – Val Beiva – Bivio 21 Km +1200 /- 1150 hm  \nSabato 26 agosto\nSilvaplana – Sils – Maloja – Lägh dal Lunghin – Lunghin Pass – Septimer Pass – Bivio 25.6 Km + 1100 / -1300 hm  \nDomenica 27 agosto\nBivio – Alp Natons – Alp Flix- Piz Colm – Pensa – Tinizong – Savognin 26.4 Km +1250 hm / -1800 hm  \nMaggiori informazioni e iscrizione
URL:https://graubuendentrailrun.ch/it/event/corsa-esperienziale-alpinrunner/
LOCATION:Thusis\, Thusis\, 7430\, Switzerland
CATEGORIES:Trailrunning Camps
ATTACH;FMTTYPE=image/jpeg:https://graubuendentrailrun.ch/wp-content/uploads/2023/07/IMG_6801-scaled.jpeg
END:VEVENT
END:VCALENDAR